BEGIN:VCALENDAR
VERSION:2.0
PRODID:-//RiverPlex - ECPv6.15.18//NONSGML v1.0//EN
CALSCALE:GREGORIAN
METHOD:PUBLISH
X-ORIGINAL-URL:https://riverplex.org
X-WR-CALDESC:Events for RiverPlex
REFRESH-INTERVAL;VALUE=DURATION:PT1H
X-Robots-Tag:noindex
X-PUBLISHED-TTL:PT1H
BEGIN:VTIMEZONE
TZID:UTC
BEGIN:STANDARD
TZOFFSETFROM:+0000
TZOFFSETTO:+0000
TZNAME:UTC
DTSTART:20250101T000000
END:STANDARD
END:VTIMEZONE
BEGIN:VTIMEZONE
TZID:America/Chicago
BEGIN:DAYLIGHT
TZOFFSETFROM:-0600
TZOFFSETTO:-0500
TZNAME:CDT
DTSTART:20250309T080000
END:DAYLIGHT
BEGIN:STANDARD
TZOFFSETFROM:-0500
TZOFFSETTO:-0600
TZNAME:CST
DTSTART:20251102T070000
END:STANDARD
BEGIN:DAYLIGHT
TZOFFSETFROM:-0600
TZOFFSETTO:-0500
TZNAME:CDT
DTSTART:20260308T080000
END:DAYLIGHT
BEGIN:STANDARD
TZOFFSETFROM:-0500
TZOFFSETTO:-0600
TZNAME:CST
DTSTART:20261101T070000
END:STANDARD
BEGIN:DAYLIGHT
TZOFFSETFROM:-0600
TZOFFSETTO:-0500
TZNAME:CDT
DTSTART:20270314T080000
END:DAYLIGHT
BEGIN:STANDARD
TZOFFSETFROM:-0500
TZOFFSETTO:-0600
TZNAME:CST
DTSTART:20271107T070000
END:STANDARD
END:VTIMEZONE
BEGIN:VEVENT
DTSTART;TZID=UTC:20260511T080000
DTEND;TZID=UTC:20260511T084500
DTSTAMP:20260419T225027
CREATED:20241204T174731Z
LAST-MODIFIED:20241218T170919Z
UID:6128-1778486400-1778489100@riverplex.org
SUMMARY:RiverPlex Warm Water Arthritis Class
DESCRIPTION:This class is similar to the OSF Arthritis class but is taught by RiverPlex staff. \nExercises are performed in the warm water pool. Entrance to the pool is by steps with handrails or a chair lift. Participants do not need to know how to swim.
URL:https://riverplex.org/event/riverplex-warm-water-arthritis-class/2026-05-11/
LOCATION:Warm Water
CATEGORIES:Warm Water Pool
END:VEVENT
BEGIN:VEVENT
DTSTART;TZID=America/Chicago:20260511T090000
DTEND;TZID=America/Chicago:20260511T094500
DTSTAMP:20260419T225027
CREATED:20241126T152618Z
LAST-MODIFIED:20250515T162656Z
UID:12996-1778490000-1778492700@riverplex.org
SUMMARY:OSF Arthritis
DESCRIPTION:Exercises are performed in the warm water pool. Entrance to the pool is by steps with handrails or a chair lift. Participants do not need to know how to swim. A Physician Consent form is required. Call 282-1605 to register. Pricing available for 6 week class punch cards. This class is offered several times daily.
URL:https://riverplex.org/event/osf-arthritis/2026-05-11/
LOCATION:Warm Water
CATEGORIES:Warm Water Pool
END:VEVENT
BEGIN:VEVENT
DTSTART;TZID=America/Chicago:20260511T100000
DTEND;TZID=America/Chicago:20260511T104500
DTSTAMP:20260419T225027
CREATED:20241126T152850Z
LAST-MODIFIED:20241126T152850Z
UID:13545-1778493600-1778496300@riverplex.org
SUMMARY:OSF Arthritis
DESCRIPTION:Exercises are performed in the warm water pool. Entrance to the pool is by steps with handrails or a chair lift. Participants do not need to know how to swim. A Physician Consent form is required. Call 282-1605 to register. Pricing available for 6 week class punch cards. This class is offered several times daily.
URL:https://riverplex.org/event/osf-arthritis-2/2026-05-11/
LOCATION:Warm Water
CATEGORIES:Warm Water Pool
END:VEVENT
BEGIN:VEVENT
DTSTART;TZID=America/Chicago:20260511T110000
DTEND;TZID=America/Chicago:20260511T114500
DTSTAMP:20260419T225027
CREATED:20251021T204813Z
LAST-MODIFIED:20251021T204813Z
UID:32594-1778497200-1778499900@riverplex.org
SUMMARY:OSF Arthritis
DESCRIPTION:Exercises are performed in the warm water pool. Entrance to the pool is by steps with handrails or a chair lift. Participants do not need to know how to swim. A Physician Consent form is required. Call 282-1605 to register. Pricing available for 6 week class punch cards. This class is offered several times daily.
URL:https://riverplex.org/event/osf-arthritis-3/2026-05-11/
LOCATION:Warm Water
CATEGORIES:Warm Water Pool
END:VEVENT
BEGIN:VEVENT
DTSTART;TZID=America/Chicago:20260512T090000
DTEND;TZID=America/Chicago:20260512T094500
DTSTAMP:20260419T225027
CREATED:20241126T152618Z
LAST-MODIFIED:20250515T162657Z
UID:12997-1778576400-1778579100@riverplex.org
SUMMARY:OSF Arthritis
DESCRIPTION:Exercises are performed in the warm water pool. Entrance to the pool is by steps with handrails or a chair lift. Participants do not need to know how to swim. A Physician Consent form is required. Call 282-1605 to register. Pricing available for 6 week class punch cards. This class is offered several times daily.
URL:https://riverplex.org/event/osf-arthritis/2026-05-12/
LOCATION:Warm Water
CATEGORIES:Warm Water Pool
END:VEVENT
BEGIN:VEVENT
DTSTART;TZID=America/Chicago:20260512T100000
DTEND;TZID=America/Chicago:20260512T104500
DTSTAMP:20260419T225027
CREATED:20241126T152850Z
LAST-MODIFIED:20241126T152850Z
UID:13546-1778580000-1778582700@riverplex.org
SUMMARY:OSF Arthritis
DESCRIPTION:Exercises are performed in the warm water pool. Entrance to the pool is by steps with handrails or a chair lift. Participants do not need to know how to swim. A Physician Consent form is required. Call 282-1605 to register. Pricing available for 6 week class punch cards. This class is offered several times daily.
URL:https://riverplex.org/event/osf-arthritis-2/2026-05-12/
LOCATION:Warm Water
CATEGORIES:Warm Water Pool
END:VEVENT
BEGIN:VEVENT
DTSTART;TZID=America/Chicago:20260512T110000
DTEND;TZID=America/Chicago:20260512T114500
DTSTAMP:20260419T225027
CREATED:20251021T204813Z
LAST-MODIFIED:20251021T204813Z
UID:32595-1778583600-1778586300@riverplex.org
SUMMARY:OSF Arthritis
DESCRIPTION:Exercises are performed in the warm water pool. Entrance to the pool is by steps with handrails or a chair lift. Participants do not need to know how to swim. A Physician Consent form is required. Call 282-1605 to register. Pricing available for 6 week class punch cards. This class is offered several times daily.
URL:https://riverplex.org/event/osf-arthritis-3/2026-05-12/
LOCATION:Warm Water
CATEGORIES:Warm Water Pool
END:VEVENT
BEGIN:VEVENT
DTSTART;TZID=UTC:20260513T080000
DTEND;TZID=UTC:20260513T084500
DTSTAMP:20260419T225027
CREATED:20241204T174731Z
LAST-MODIFIED:20241218T170919Z
UID:6129-1778659200-1778661900@riverplex.org
SUMMARY:RiverPlex Warm Water Arthritis Class
DESCRIPTION:This class is similar to the OSF Arthritis class but is taught by RiverPlex staff. \nExercises are performed in the warm water pool. Entrance to the pool is by steps with handrails or a chair lift. Participants do not need to know how to swim.
URL:https://riverplex.org/event/riverplex-warm-water-arthritis-class/2026-05-13/
LOCATION:Warm Water
CATEGORIES:Warm Water Pool
END:VEVENT
BEGIN:VEVENT
DTSTART;TZID=America/Chicago:20260513T090000
DTEND;TZID=America/Chicago:20260513T094500
DTSTAMP:20260419T225027
CREATED:20241126T152618Z
LAST-MODIFIED:20250515T162657Z
UID:12998-1778662800-1778665500@riverplex.org
SUMMARY:OSF Arthritis
DESCRIPTION:Exercises are performed in the warm water pool. Entrance to the pool is by steps with handrails or a chair lift. Participants do not need to know how to swim. A Physician Consent form is required. Call 282-1605 to register. Pricing available for 6 week class punch cards. This class is offered several times daily.
URL:https://riverplex.org/event/osf-arthritis/2026-05-13/
LOCATION:Warm Water
CATEGORIES:Warm Water Pool
END:VEVENT
BEGIN:VEVENT
DTSTART;TZID=America/Chicago:20260513T100000
DTEND;TZID=America/Chicago:20260513T104500
DTSTAMP:20260419T225027
CREATED:20241126T152850Z
LAST-MODIFIED:20241126T152850Z
UID:13547-1778666400-1778669100@riverplex.org
SUMMARY:OSF Arthritis
DESCRIPTION:Exercises are performed in the warm water pool. Entrance to the pool is by steps with handrails or a chair lift. Participants do not need to know how to swim. A Physician Consent form is required. Call 282-1605 to register. Pricing available for 6 week class punch cards. This class is offered several times daily.
URL:https://riverplex.org/event/osf-arthritis-2/2026-05-13/
LOCATION:Warm Water
CATEGORIES:Warm Water Pool
END:VEVENT
BEGIN:VEVENT
DTSTART;TZID=America/Chicago:20260513T110000
DTEND;TZID=America/Chicago:20260513T114500
DTSTAMP:20260419T225027
CREATED:20251021T204813Z
LAST-MODIFIED:20251021T204813Z
UID:32596-1778670000-1778672700@riverplex.org
SUMMARY:OSF Arthritis
DESCRIPTION:Exercises are performed in the warm water pool. Entrance to the pool is by steps with handrails or a chair lift. Participants do not need to know how to swim. A Physician Consent form is required. Call 282-1605 to register. Pricing available for 6 week class punch cards. This class is offered several times daily.
URL:https://riverplex.org/event/osf-arthritis-3/2026-05-13/
LOCATION:Warm Water
CATEGORIES:Warm Water Pool
END:VEVENT
BEGIN:VEVENT
DTSTART;TZID=America/Chicago:20260513T130000
DTEND;TZID=America/Chicago:20260513T163000
DTSTAMP:20260419T225027
CREATED:20241126T153252Z
LAST-MODIFIED:20241126T153252Z
UID:15015-1778677200-1778689800@riverplex.org
SUMMARY:OSF Physical Therapy
DESCRIPTION:
URL:https://riverplex.org/event/osf-physical-therapy/2026-05-13/
LOCATION:Warm Water
CATEGORIES:Warm Water Pool
END:VEVENT
BEGIN:VEVENT
DTSTART;TZID=America/Chicago:20260514T090000
DTEND;TZID=America/Chicago:20260514T094500
DTSTAMP:20260419T225027
CREATED:20241126T152618Z
LAST-MODIFIED:20250515T162657Z
UID:12999-1778749200-1778751900@riverplex.org
SUMMARY:OSF Arthritis
DESCRIPTION:Exercises are performed in the warm water pool. Entrance to the pool is by steps with handrails or a chair lift. Participants do not need to know how to swim. A Physician Consent form is required. Call 282-1605 to register. Pricing available for 6 week class punch cards. This class is offered several times daily.
URL:https://riverplex.org/event/osf-arthritis/2026-05-14/
LOCATION:Warm Water
CATEGORIES:Warm Water Pool
END:VEVENT
BEGIN:VEVENT
DTSTART;TZID=America/Chicago:20260514T100000
DTEND;TZID=America/Chicago:20260514T104500
DTSTAMP:20260419T225027
CREATED:20241126T152850Z
LAST-MODIFIED:20241126T152850Z
UID:13548-1778752800-1778755500@riverplex.org
SUMMARY:OSF Arthritis
DESCRIPTION:Exercises are performed in the warm water pool. Entrance to the pool is by steps with handrails or a chair lift. Participants do not need to know how to swim. A Physician Consent form is required. Call 282-1605 to register. Pricing available for 6 week class punch cards. This class is offered several times daily.
URL:https://riverplex.org/event/osf-arthritis-2/2026-05-14/
LOCATION:Warm Water
CATEGORIES:Warm Water Pool
END:VEVENT
BEGIN:VEVENT
DTSTART;TZID=America/Chicago:20260514T110000
DTEND;TZID=America/Chicago:20260514T114500
DTSTAMP:20260419T225027
CREATED:20251021T204813Z
LAST-MODIFIED:20251021T204813Z
UID:32597-1778756400-1778759100@riverplex.org
SUMMARY:OSF Arthritis
DESCRIPTION:Exercises are performed in the warm water pool. Entrance to the pool is by steps with handrails or a chair lift. Participants do not need to know how to swim. A Physician Consent form is required. Call 282-1605 to register. Pricing available for 6 week class punch cards. This class is offered several times daily.
URL:https://riverplex.org/event/osf-arthritis-3/2026-05-14/
LOCATION:Warm Water
CATEGORIES:Warm Water Pool
END:VEVENT
BEGIN:VEVENT
DTSTART;TZID=UTC:20260515T080000
DTEND;TZID=UTC:20260515T084500
DTSTAMP:20260419T225027
CREATED:20241204T174731Z
LAST-MODIFIED:20241218T170919Z
UID:6130-1778832000-1778834700@riverplex.org
SUMMARY:RiverPlex Warm Water Arthritis Class
DESCRIPTION:This class is similar to the OSF Arthritis class but is taught by RiverPlex staff. \nExercises are performed in the warm water pool. Entrance to the pool is by steps with handrails or a chair lift. Participants do not need to know how to swim.
URL:https://riverplex.org/event/riverplex-warm-water-arthritis-class/2026-05-15/
LOCATION:Warm Water
CATEGORIES:Warm Water Pool
END:VEVENT
BEGIN:VEVENT
DTSTART;TZID=America/Chicago:20260515T090000
DTEND;TZID=America/Chicago:20260515T094500
DTSTAMP:20260419T225027
CREATED:20241126T152618Z
LAST-MODIFIED:20250515T162657Z
UID:13000-1778835600-1778838300@riverplex.org
SUMMARY:OSF Arthritis
DESCRIPTION:Exercises are performed in the warm water pool. Entrance to the pool is by steps with handrails or a chair lift. Participants do not need to know how to swim. A Physician Consent form is required. Call 282-1605 to register. Pricing available for 6 week class punch cards. This class is offered several times daily.
URL:https://riverplex.org/event/osf-arthritis/2026-05-15/
LOCATION:Warm Water
CATEGORIES:Warm Water Pool
END:VEVENT
BEGIN:VEVENT
DTSTART;TZID=America/Chicago:20260515T100000
DTEND;TZID=America/Chicago:20260515T104500
DTSTAMP:20260419T225027
CREATED:20241126T152850Z
LAST-MODIFIED:20241126T152850Z
UID:13549-1778839200-1778841900@riverplex.org
SUMMARY:OSF Arthritis
DESCRIPTION:Exercises are performed in the warm water pool. Entrance to the pool is by steps with handrails or a chair lift. Participants do not need to know how to swim. A Physician Consent form is required. Call 282-1605 to register. Pricing available for 6 week class punch cards. This class is offered several times daily.
URL:https://riverplex.org/event/osf-arthritis-2/2026-05-15/
LOCATION:Warm Water
CATEGORIES:Warm Water Pool
END:VEVENT
BEGIN:VEVENT
DTSTART;TZID=America/Chicago:20260515T110000
DTEND;TZID=America/Chicago:20260515T114500
DTSTAMP:20260419T225027
CREATED:20251021T204813Z
LAST-MODIFIED:20251021T204813Z
UID:32598-1778842800-1778845500@riverplex.org
SUMMARY:OSF Arthritis
DESCRIPTION:Exercises are performed in the warm water pool. Entrance to the pool is by steps with handrails or a chair lift. Participants do not need to know how to swim. A Physician Consent form is required. Call 282-1605 to register. Pricing available for 6 week class punch cards. This class is offered several times daily.
URL:https://riverplex.org/event/osf-arthritis-3/2026-05-15/
LOCATION:Warm Water
CATEGORIES:Warm Water Pool
END:VEVENT
BEGIN:VEVENT
DTSTART;TZID=America/Chicago:20260515T130000
DTEND;TZID=America/Chicago:20260515T163000
DTSTAMP:20260419T225027
CREATED:20241126T153252Z
LAST-MODIFIED:20241126T153252Z
UID:15016-1778850000-1778862600@riverplex.org
SUMMARY:OSF Physical Therapy
DESCRIPTION:
URL:https://riverplex.org/event/osf-physical-therapy/2026-05-15/
LOCATION:Warm Water
CATEGORIES:Warm Water Pool
END:VEVENT
BEGIN:VEVENT
DTSTART;TZID=UTC:20260518T080000
DTEND;TZID=UTC:20260518T084500
DTSTAMP:20260419T225027
CREATED:20241204T174731Z
LAST-MODIFIED:20241218T170919Z
UID:6131-1779091200-1779093900@riverplex.org
SUMMARY:RiverPlex Warm Water Arthritis Class
DESCRIPTION:This class is similar to the OSF Arthritis class but is taught by RiverPlex staff. \nExercises are performed in the warm water pool. Entrance to the pool is by steps with handrails or a chair lift. Participants do not need to know how to swim.
URL:https://riverplex.org/event/riverplex-warm-water-arthritis-class/2026-05-18/
LOCATION:Warm Water
CATEGORIES:Warm Water Pool
END:VEVENT
BEGIN:VEVENT
DTSTART;TZID=America/Chicago:20260518T090000
DTEND;TZID=America/Chicago:20260518T094500
DTSTAMP:20260419T225027
CREATED:20241126T152618Z
LAST-MODIFIED:20250515T162657Z
UID:13001-1779094800-1779097500@riverplex.org
SUMMARY:OSF Arthritis
DESCRIPTION:Exercises are performed in the warm water pool. Entrance to the pool is by steps with handrails or a chair lift. Participants do not need to know how to swim. A Physician Consent form is required. Call 282-1605 to register. Pricing available for 6 week class punch cards. This class is offered several times daily.
URL:https://riverplex.org/event/osf-arthritis/2026-05-18/
LOCATION:Warm Water
CATEGORIES:Warm Water Pool
END:VEVENT
BEGIN:VEVENT
DTSTART;TZID=America/Chicago:20260518T100000
DTEND;TZID=America/Chicago:20260518T104500
DTSTAMP:20260419T225027
CREATED:20241126T152850Z
LAST-MODIFIED:20241126T152850Z
UID:13550-1779098400-1779101100@riverplex.org
SUMMARY:OSF Arthritis
DESCRIPTION:Exercises are performed in the warm water pool. Entrance to the pool is by steps with handrails or a chair lift. Participants do not need to know how to swim. A Physician Consent form is required. Call 282-1605 to register. Pricing available for 6 week class punch cards. This class is offered several times daily.
URL:https://riverplex.org/event/osf-arthritis-2/2026-05-18/
LOCATION:Warm Water
CATEGORIES:Warm Water Pool
END:VEVENT
BEGIN:VEVENT
DTSTART;TZID=America/Chicago:20260518T110000
DTEND;TZID=America/Chicago:20260518T114500
DTSTAMP:20260419T225027
CREATED:20251021T204813Z
LAST-MODIFIED:20251021T204813Z
UID:32599-1779102000-1779104700@riverplex.org
SUMMARY:OSF Arthritis
DESCRIPTION:Exercises are performed in the warm water pool. Entrance to the pool is by steps with handrails or a chair lift. Participants do not need to know how to swim. A Physician Consent form is required. Call 282-1605 to register. Pricing available for 6 week class punch cards. This class is offered several times daily.
URL:https://riverplex.org/event/osf-arthritis-3/2026-05-18/
LOCATION:Warm Water
CATEGORIES:Warm Water Pool
END:VEVENT
BEGIN:VEVENT
DTSTART;TZID=America/Chicago:20260519T090000
DTEND;TZID=America/Chicago:20260519T094500
DTSTAMP:20260419T225027
CREATED:20241126T152618Z
LAST-MODIFIED:20250515T162657Z
UID:13002-1779181200-1779183900@riverplex.org
SUMMARY:OSF Arthritis
DESCRIPTION:Exercises are performed in the warm water pool. Entrance to the pool is by steps with handrails or a chair lift. Participants do not need to know how to swim. A Physician Consent form is required. Call 282-1605 to register. Pricing available for 6 week class punch cards. This class is offered several times daily.
URL:https://riverplex.org/event/osf-arthritis/2026-05-19/
LOCATION:Warm Water
CATEGORIES:Warm Water Pool
END:VEVENT
BEGIN:VEVENT
DTSTART;TZID=America/Chicago:20260519T100000
DTEND;TZID=America/Chicago:20260519T104500
DTSTAMP:20260419T225027
CREATED:20241126T152850Z
LAST-MODIFIED:20241126T152850Z
UID:13551-1779184800-1779187500@riverplex.org
SUMMARY:OSF Arthritis
DESCRIPTION:Exercises are performed in the warm water pool. Entrance to the pool is by steps with handrails or a chair lift. Participants do not need to know how to swim. A Physician Consent form is required. Call 282-1605 to register. Pricing available for 6 week class punch cards. This class is offered several times daily.
URL:https://riverplex.org/event/osf-arthritis-2/2026-05-19/
LOCATION:Warm Water
CATEGORIES:Warm Water Pool
END:VEVENT
BEGIN:VEVENT
DTSTART;TZID=America/Chicago:20260519T110000
DTEND;TZID=America/Chicago:20260519T114500
DTSTAMP:20260419T225027
CREATED:20251021T204813Z
LAST-MODIFIED:20251021T204813Z
UID:32600-1779188400-1779191100@riverplex.org
SUMMARY:OSF Arthritis
DESCRIPTION:Exercises are performed in the warm water pool. Entrance to the pool is by steps with handrails or a chair lift. Participants do not need to know how to swim. A Physician Consent form is required. Call 282-1605 to register. Pricing available for 6 week class punch cards. This class is offered several times daily.
URL:https://riverplex.org/event/osf-arthritis-3/2026-05-19/
LOCATION:Warm Water
CATEGORIES:Warm Water Pool
END:VEVENT
BEGIN:VEVENT
DTSTART;TZID=UTC:20260520T080000
DTEND;TZID=UTC:20260520T084500
DTSTAMP:20260419T225027
CREATED:20241204T174731Z
LAST-MODIFIED:20241218T170919Z
UID:6132-1779264000-1779266700@riverplex.org
SUMMARY:RiverPlex Warm Water Arthritis Class
DESCRIPTION:This class is similar to the OSF Arthritis class but is taught by RiverPlex staff. \nExercises are performed in the warm water pool. Entrance to the pool is by steps with handrails or a chair lift. Participants do not need to know how to swim.
URL:https://riverplex.org/event/riverplex-warm-water-arthritis-class/2026-05-20/
LOCATION:Warm Water
CATEGORIES:Warm Water Pool
END:VEVENT
BEGIN:VEVENT
DTSTART;TZID=America/Chicago:20260520T090000
DTEND;TZID=America/Chicago:20260520T094500
DTSTAMP:20260419T225027
CREATED:20241126T152618Z
LAST-MODIFIED:20250515T162657Z
UID:13003-1779267600-1779270300@riverplex.org
SUMMARY:OSF Arthritis
DESCRIPTION:Exercises are performed in the warm water pool. Entrance to the pool is by steps with handrails or a chair lift. Participants do not need to know how to swim. A Physician Consent form is required. Call 282-1605 to register. Pricing available for 6 week class punch cards. This class is offered several times daily.
URL:https://riverplex.org/event/osf-arthritis/2026-05-20/
LOCATION:Warm Water
CATEGORIES:Warm Water Pool
END:VEVENT
BEGIN:VEVENT
DTSTART;TZID=America/Chicago:20260520T100000
DTEND;TZID=America/Chicago:20260520T104500
DTSTAMP:20260419T225027
CREATED:20241126T152850Z
LAST-MODIFIED:20241126T152850Z
UID:13552-1779271200-1779273900@riverplex.org
SUMMARY:OSF Arthritis
DESCRIPTION:Exercises are performed in the warm water pool. Entrance to the pool is by steps with handrails or a chair lift. Participants do not need to know how to swim. A Physician Consent form is required. Call 282-1605 to register. Pricing available for 6 week class punch cards. This class is offered several times daily.
URL:https://riverplex.org/event/osf-arthritis-2/2026-05-20/
LOCATION:Warm Water
CATEGORIES:Warm Water Pool
END:VEVENT
END:VCALENDAR