BEGIN:VCALENDAR
VERSION:2.0
PRODID:-//RiverPlex - ECPv6.15.18//NONSGML v1.0//EN
CALSCALE:GREGORIAN
METHOD:PUBLISH
X-ORIGINAL-URL:https://riverplex.org
X-WR-CALDESC:Events for RiverPlex
REFRESH-INTERVAL;VALUE=DURATION:PT1H
X-Robots-Tag:noindex
X-PUBLISHED-TTL:PT1H
BEGIN:VTIMEZONE
TZID:America/Chicago
BEGIN:DAYLIGHT
TZOFFSETFROM:-0600
TZOFFSETTO:-0500
TZNAME:CDT
DTSTART:20250309T080000
END:DAYLIGHT
BEGIN:STANDARD
TZOFFSETFROM:-0500
TZOFFSETTO:-0600
TZNAME:CST
DTSTART:20251102T070000
END:STANDARD
BEGIN:DAYLIGHT
TZOFFSETFROM:-0600
TZOFFSETTO:-0500
TZNAME:CDT
DTSTART:20260308T080000
END:DAYLIGHT
BEGIN:STANDARD
TZOFFSETFROM:-0500
TZOFFSETTO:-0600
TZNAME:CST
DTSTART:20261101T070000
END:STANDARD
BEGIN:DAYLIGHT
TZOFFSETFROM:-0600
TZOFFSETTO:-0500
TZNAME:CDT
DTSTART:20270314T080000
END:DAYLIGHT
BEGIN:STANDARD
TZOFFSETFROM:-0500
TZOFFSETTO:-0600
TZNAME:CST
DTSTART:20271107T070000
END:STANDARD
END:VTIMEZONE
BEGIN:VTIMEZONE
TZID:UTC
BEGIN:STANDARD
TZOFFSETFROM:+0000
TZOFFSETTO:+0000
TZNAME:UTC
DTSTART:20250101T000000
END:STANDARD
END:VTIMEZONE
BEGIN:VEVENT
DTSTART;TZID=America/Chicago:20260907T100000
DTEND;TZID=America/Chicago:20260907T104500
DTSTAMP:20260425T184611
CREATED:20241126T152850Z
LAST-MODIFIED:20241126T152850Z
UID:13630-1788775200-1788777900@riverplex.org
SUMMARY:OSF Arthritis
DESCRIPTION:Exercises are performed in the warm water pool. Entrance to the pool is by steps with handrails or a chair lift. Participants do not need to know how to swim. A Physician Consent form is required. Call 282-1605 to register. Pricing available for 6 week class punch cards. This class is offered several times daily.
URL:https://riverplex.org/event/osf-arthritis-2/2026-09-07/
LOCATION:Warm Water
CATEGORIES:Warm Water Pool
END:VEVENT
BEGIN:VEVENT
DTSTART;TZID=America/Chicago:20260908T090000
DTEND;TZID=America/Chicago:20260908T094500
DTSTAMP:20260425T184611
CREATED:20241126T152618Z
LAST-MODIFIED:20250515T162718Z
UID:13082-1788858000-1788860700@riverplex.org
SUMMARY:OSF Arthritis
DESCRIPTION:Exercises are performed in the warm water pool. Entrance to the pool is by steps with handrails or a chair lift. Participants do not need to know how to swim. A Physician Consent form is required. Call 282-1605 to register. Pricing available for 6 week class punch cards. This class is offered several times daily.
URL:https://riverplex.org/event/osf-arthritis/2026-09-08/
LOCATION:Warm Water
CATEGORIES:Warm Water Pool
END:VEVENT
BEGIN:VEVENT
DTSTART;TZID=America/Chicago:20260908T100000
DTEND;TZID=America/Chicago:20260908T104500
DTSTAMP:20260425T184611
CREATED:20241126T152850Z
LAST-MODIFIED:20241126T152850Z
UID:13631-1788861600-1788864300@riverplex.org
SUMMARY:OSF Arthritis
DESCRIPTION:Exercises are performed in the warm water pool. Entrance to the pool is by steps with handrails or a chair lift. Participants do not need to know how to swim. A Physician Consent form is required. Call 282-1605 to register. Pricing available for 6 week class punch cards. This class is offered several times daily.
URL:https://riverplex.org/event/osf-arthritis-2/2026-09-08/
LOCATION:Warm Water
CATEGORIES:Warm Water Pool
END:VEVENT
BEGIN:VEVENT
DTSTART;TZID=UTC:20260909T080000
DTEND;TZID=UTC:20260909T084500
DTSTAMP:20260425T184611
CREATED:20241204T174731Z
LAST-MODIFIED:20241218T170926Z
UID:6180-1788940800-1788943500@riverplex.org
SUMMARY:RiverPlex Warm Water Arthritis Class
DESCRIPTION:This class is similar to the OSF Arthritis class but is taught by RiverPlex staff. \nExercises are performed in the warm water pool. Entrance to the pool is by steps with handrails or a chair lift. Participants do not need to know how to swim.
URL:https://riverplex.org/event/riverplex-warm-water-arthritis-class/2026-09-09/
LOCATION:Warm Water
CATEGORIES:Warm Water Pool
END:VEVENT
BEGIN:VEVENT
DTSTART;TZID=America/Chicago:20260909T090000
DTEND;TZID=America/Chicago:20260909T094500
DTSTAMP:20260425T184611
CREATED:20241126T152618Z
LAST-MODIFIED:20250515T162718Z
UID:13083-1788944400-1788947100@riverplex.org
SUMMARY:OSF Arthritis
DESCRIPTION:Exercises are performed in the warm water pool. Entrance to the pool is by steps with handrails or a chair lift. Participants do not need to know how to swim. A Physician Consent form is required. Call 282-1605 to register. Pricing available for 6 week class punch cards. This class is offered several times daily.
URL:https://riverplex.org/event/osf-arthritis/2026-09-09/
LOCATION:Warm Water
CATEGORIES:Warm Water Pool
END:VEVENT
BEGIN:VEVENT
DTSTART;TZID=America/Chicago:20260909T100000
DTEND;TZID=America/Chicago:20260909T104500
DTSTAMP:20260425T184611
CREATED:20241126T152850Z
LAST-MODIFIED:20241126T152850Z
UID:13632-1788948000-1788950700@riverplex.org
SUMMARY:OSF Arthritis
DESCRIPTION:Exercises are performed in the warm water pool. Entrance to the pool is by steps with handrails or a chair lift. Participants do not need to know how to swim. A Physician Consent form is required. Call 282-1605 to register. Pricing available for 6 week class punch cards. This class is offered several times daily.
URL:https://riverplex.org/event/osf-arthritis-2/2026-09-09/
LOCATION:Warm Water
CATEGORIES:Warm Water Pool
END:VEVENT
BEGIN:VEVENT
DTSTART;TZID=America/Chicago:20260909T130000
DTEND;TZID=America/Chicago:20260909T163000
DTSTAMP:20260425T184611
CREATED:20241126T153252Z
LAST-MODIFIED:20241126T153252Z
UID:15049-1788958800-1788971400@riverplex.org
SUMMARY:OSF Physical Therapy
DESCRIPTION:
URL:https://riverplex.org/event/osf-physical-therapy/2026-09-09/
LOCATION:Warm Water
CATEGORIES:Warm Water Pool
END:VEVENT
BEGIN:VEVENT
DTSTART;TZID=America/Chicago:20260910T090000
DTEND;TZID=America/Chicago:20260910T094500
DTSTAMP:20260425T184611
CREATED:20241126T152618Z
LAST-MODIFIED:20250515T162718Z
UID:13084-1789030800-1789033500@riverplex.org
SUMMARY:OSF Arthritis
DESCRIPTION:Exercises are performed in the warm water pool. Entrance to the pool is by steps with handrails or a chair lift. Participants do not need to know how to swim. A Physician Consent form is required. Call 282-1605 to register. Pricing available for 6 week class punch cards. This class is offered several times daily.
URL:https://riverplex.org/event/osf-arthritis/2026-09-10/
LOCATION:Warm Water
CATEGORIES:Warm Water Pool
END:VEVENT
BEGIN:VEVENT
DTSTART;TZID=America/Chicago:20260910T100000
DTEND;TZID=America/Chicago:20260910T104500
DTSTAMP:20260425T184611
CREATED:20241126T152850Z
LAST-MODIFIED:20241126T152850Z
UID:13633-1789034400-1789037100@riverplex.org
SUMMARY:OSF Arthritis
DESCRIPTION:Exercises are performed in the warm water pool. Entrance to the pool is by steps with handrails or a chair lift. Participants do not need to know how to swim. A Physician Consent form is required. Call 282-1605 to register. Pricing available for 6 week class punch cards. This class is offered several times daily.
URL:https://riverplex.org/event/osf-arthritis-2/2026-09-10/
LOCATION:Warm Water
CATEGORIES:Warm Water Pool
END:VEVENT
BEGIN:VEVENT
DTSTART;TZID=UTC:20260911T080000
DTEND;TZID=UTC:20260911T084500
DTSTAMP:20260425T184611
CREATED:20241204T174731Z
LAST-MODIFIED:20241218T170926Z
UID:6181-1789113600-1789116300@riverplex.org
SUMMARY:RiverPlex Warm Water Arthritis Class
DESCRIPTION:This class is similar to the OSF Arthritis class but is taught by RiverPlex staff. \nExercises are performed in the warm water pool. Entrance to the pool is by steps with handrails or a chair lift. Participants do not need to know how to swim.
URL:https://riverplex.org/event/riverplex-warm-water-arthritis-class/2026-09-11/
LOCATION:Warm Water
CATEGORIES:Warm Water Pool
END:VEVENT
BEGIN:VEVENT
DTSTART;TZID=America/Chicago:20260911T090000
DTEND;TZID=America/Chicago:20260911T094500
DTSTAMP:20260425T184611
CREATED:20241126T152618Z
LAST-MODIFIED:20250515T162718Z
UID:13085-1789117200-1789119900@riverplex.org
SUMMARY:OSF Arthritis
DESCRIPTION:Exercises are performed in the warm water pool. Entrance to the pool is by steps with handrails or a chair lift. Participants do not need to know how to swim. A Physician Consent form is required. Call 282-1605 to register. Pricing available for 6 week class punch cards. This class is offered several times daily.
URL:https://riverplex.org/event/osf-arthritis/2026-09-11/
LOCATION:Warm Water
CATEGORIES:Warm Water Pool
END:VEVENT
BEGIN:VEVENT
DTSTART;TZID=America/Chicago:20260911T100000
DTEND;TZID=America/Chicago:20260911T104500
DTSTAMP:20260425T184611
CREATED:20241126T152850Z
LAST-MODIFIED:20241126T152850Z
UID:13634-1789120800-1789123500@riverplex.org
SUMMARY:OSF Arthritis
DESCRIPTION:Exercises are performed in the warm water pool. Entrance to the pool is by steps with handrails or a chair lift. Participants do not need to know how to swim. A Physician Consent form is required. Call 282-1605 to register. Pricing available for 6 week class punch cards. This class is offered several times daily.
URL:https://riverplex.org/event/osf-arthritis-2/2026-09-11/
LOCATION:Warm Water
CATEGORIES:Warm Water Pool
END:VEVENT
BEGIN:VEVENT
DTSTART;TZID=America/Chicago:20260911T130000
DTEND;TZID=America/Chicago:20260911T163000
DTSTAMP:20260425T184611
CREATED:20241126T153252Z
LAST-MODIFIED:20241126T153252Z
UID:15050-1789131600-1789144200@riverplex.org
SUMMARY:OSF Physical Therapy
DESCRIPTION:
URL:https://riverplex.org/event/osf-physical-therapy/2026-09-11/
LOCATION:Warm Water
CATEGORIES:Warm Water Pool
END:VEVENT
BEGIN:VEVENT
DTSTART;TZID=UTC:20260914T080000
DTEND;TZID=UTC:20260914T084500
DTSTAMP:20260425T184611
CREATED:20241204T174731Z
LAST-MODIFIED:20241218T170926Z
UID:6182-1789372800-1789375500@riverplex.org
SUMMARY:RiverPlex Warm Water Arthritis Class
DESCRIPTION:This class is similar to the OSF Arthritis class but is taught by RiverPlex staff. \nExercises are performed in the warm water pool. Entrance to the pool is by steps with handrails or a chair lift. Participants do not need to know how to swim.
URL:https://riverplex.org/event/riverplex-warm-water-arthritis-class/2026-09-14/
LOCATION:Warm Water
CATEGORIES:Warm Water Pool
END:VEVENT
BEGIN:VEVENT
DTSTART;TZID=America/Chicago:20260914T090000
DTEND;TZID=America/Chicago:20260914T094500
DTSTAMP:20260425T184611
CREATED:20241126T152618Z
LAST-MODIFIED:20250515T162719Z
UID:13086-1789376400-1789379100@riverplex.org
SUMMARY:OSF Arthritis
DESCRIPTION:Exercises are performed in the warm water pool. Entrance to the pool is by steps with handrails or a chair lift. Participants do not need to know how to swim. A Physician Consent form is required. Call 282-1605 to register. Pricing available for 6 week class punch cards. This class is offered several times daily.
URL:https://riverplex.org/event/osf-arthritis/2026-09-14/
LOCATION:Warm Water
CATEGORIES:Warm Water Pool
END:VEVENT
BEGIN:VEVENT
DTSTART;TZID=America/Chicago:20260914T100000
DTEND;TZID=America/Chicago:20260914T104500
DTSTAMP:20260425T184611
CREATED:20241126T152850Z
LAST-MODIFIED:20241126T152850Z
UID:13635-1789380000-1789382700@riverplex.org
SUMMARY:OSF Arthritis
DESCRIPTION:Exercises are performed in the warm water pool. Entrance to the pool is by steps with handrails or a chair lift. Participants do not need to know how to swim. A Physician Consent form is required. Call 282-1605 to register. Pricing available for 6 week class punch cards. This class is offered several times daily.
URL:https://riverplex.org/event/osf-arthritis-2/2026-09-14/
LOCATION:Warm Water
CATEGORIES:Warm Water Pool
END:VEVENT
BEGIN:VEVENT
DTSTART;TZID=America/Chicago:20260915T090000
DTEND;TZID=America/Chicago:20260915T094500
DTSTAMP:20260425T184611
CREATED:20241126T152618Z
LAST-MODIFIED:20250515T162719Z
UID:13087-1789462800-1789465500@riverplex.org
SUMMARY:OSF Arthritis
DESCRIPTION:Exercises are performed in the warm water pool. Entrance to the pool is by steps with handrails or a chair lift. Participants do not need to know how to swim. A Physician Consent form is required. Call 282-1605 to register. Pricing available for 6 week class punch cards. This class is offered several times daily.
URL:https://riverplex.org/event/osf-arthritis/2026-09-15/
LOCATION:Warm Water
CATEGORIES:Warm Water Pool
END:VEVENT
BEGIN:VEVENT
DTSTART;TZID=America/Chicago:20260915T100000
DTEND;TZID=America/Chicago:20260915T104500
DTSTAMP:20260425T184611
CREATED:20241126T152850Z
LAST-MODIFIED:20241126T152850Z
UID:13636-1789466400-1789469100@riverplex.org
SUMMARY:OSF Arthritis
DESCRIPTION:Exercises are performed in the warm water pool. Entrance to the pool is by steps with handrails or a chair lift. Participants do not need to know how to swim. A Physician Consent form is required. Call 282-1605 to register. Pricing available for 6 week class punch cards. This class is offered several times daily.
URL:https://riverplex.org/event/osf-arthritis-2/2026-09-15/
LOCATION:Warm Water
CATEGORIES:Warm Water Pool
END:VEVENT
BEGIN:VEVENT
DTSTART;TZID=UTC:20260916T080000
DTEND;TZID=UTC:20260916T084500
DTSTAMP:20260425T184611
CREATED:20241204T174731Z
LAST-MODIFIED:20241218T170926Z
UID:6183-1789545600-1789548300@riverplex.org
SUMMARY:RiverPlex Warm Water Arthritis Class
DESCRIPTION:This class is similar to the OSF Arthritis class but is taught by RiverPlex staff. \nExercises are performed in the warm water pool. Entrance to the pool is by steps with handrails or a chair lift. Participants do not need to know how to swim.
URL:https://riverplex.org/event/riverplex-warm-water-arthritis-class/2026-09-16/
LOCATION:Warm Water
CATEGORIES:Warm Water Pool
END:VEVENT
BEGIN:VEVENT
DTSTART;TZID=America/Chicago:20260916T090000
DTEND;TZID=America/Chicago:20260916T094500
DTSTAMP:20260425T184611
CREATED:20241126T152618Z
LAST-MODIFIED:20250515T162719Z
UID:13088-1789549200-1789551900@riverplex.org
SUMMARY:OSF Arthritis
DESCRIPTION:Exercises are performed in the warm water pool. Entrance to the pool is by steps with handrails or a chair lift. Participants do not need to know how to swim. A Physician Consent form is required. Call 282-1605 to register. Pricing available for 6 week class punch cards. This class is offered several times daily.
URL:https://riverplex.org/event/osf-arthritis/2026-09-16/
LOCATION:Warm Water
CATEGORIES:Warm Water Pool
END:VEVENT
BEGIN:VEVENT
DTSTART;TZID=America/Chicago:20260916T100000
DTEND;TZID=America/Chicago:20260916T104500
DTSTAMP:20260425T184611
CREATED:20241126T152850Z
LAST-MODIFIED:20241126T152850Z
UID:13637-1789552800-1789555500@riverplex.org
SUMMARY:OSF Arthritis
DESCRIPTION:Exercises are performed in the warm water pool. Entrance to the pool is by steps with handrails or a chair lift. Participants do not need to know how to swim. A Physician Consent form is required. Call 282-1605 to register. Pricing available for 6 week class punch cards. This class is offered several times daily.
URL:https://riverplex.org/event/osf-arthritis-2/2026-09-16/
LOCATION:Warm Water
CATEGORIES:Warm Water Pool
END:VEVENT
BEGIN:VEVENT
DTSTART;TZID=America/Chicago:20260916T130000
DTEND;TZID=America/Chicago:20260916T163000
DTSTAMP:20260425T184611
CREATED:20241126T153252Z
LAST-MODIFIED:20241126T153252Z
UID:15051-1789563600-1789576200@riverplex.org
SUMMARY:OSF Physical Therapy
DESCRIPTION:
URL:https://riverplex.org/event/osf-physical-therapy/2026-09-16/
LOCATION:Warm Water
CATEGORIES:Warm Water Pool
END:VEVENT
BEGIN:VEVENT
DTSTART;TZID=America/Chicago:20260917T090000
DTEND;TZID=America/Chicago:20260917T094500
DTSTAMP:20260425T184611
CREATED:20241126T152618Z
LAST-MODIFIED:20250515T162719Z
UID:13089-1789635600-1789638300@riverplex.org
SUMMARY:OSF Arthritis
DESCRIPTION:Exercises are performed in the warm water pool. Entrance to the pool is by steps with handrails or a chair lift. Participants do not need to know how to swim. A Physician Consent form is required. Call 282-1605 to register. Pricing available for 6 week class punch cards. This class is offered several times daily.
URL:https://riverplex.org/event/osf-arthritis/2026-09-17/
LOCATION:Warm Water
CATEGORIES:Warm Water Pool
END:VEVENT
BEGIN:VEVENT
DTSTART;TZID=America/Chicago:20260917T100000
DTEND;TZID=America/Chicago:20260917T104500
DTSTAMP:20260425T184611
CREATED:20241126T152850Z
LAST-MODIFIED:20241126T152850Z
UID:13638-1789639200-1789641900@riverplex.org
SUMMARY:OSF Arthritis
DESCRIPTION:Exercises are performed in the warm water pool. Entrance to the pool is by steps with handrails or a chair lift. Participants do not need to know how to swim. A Physician Consent form is required. Call 282-1605 to register. Pricing available for 6 week class punch cards. This class is offered several times daily.
URL:https://riverplex.org/event/osf-arthritis-2/2026-09-17/
LOCATION:Warm Water
CATEGORIES:Warm Water Pool
END:VEVENT
BEGIN:VEVENT
DTSTART;TZID=UTC:20260918T080000
DTEND;TZID=UTC:20260918T084500
DTSTAMP:20260425T184611
CREATED:20241204T174731Z
LAST-MODIFIED:20241218T170927Z
UID:6184-1789718400-1789721100@riverplex.org
SUMMARY:RiverPlex Warm Water Arthritis Class
DESCRIPTION:This class is similar to the OSF Arthritis class but is taught by RiverPlex staff. \nExercises are performed in the warm water pool. Entrance to the pool is by steps with handrails or a chair lift. Participants do not need to know how to swim.
URL:https://riverplex.org/event/riverplex-warm-water-arthritis-class/2026-09-18/
LOCATION:Warm Water
CATEGORIES:Warm Water Pool
END:VEVENT
BEGIN:VEVENT
DTSTART;TZID=America/Chicago:20260918T090000
DTEND;TZID=America/Chicago:20260918T094500
DTSTAMP:20260425T184611
CREATED:20241126T152618Z
LAST-MODIFIED:20250515T162720Z
UID:13090-1789722000-1789724700@riverplex.org
SUMMARY:OSF Arthritis
DESCRIPTION:Exercises are performed in the warm water pool. Entrance to the pool is by steps with handrails or a chair lift. Participants do not need to know how to swim. A Physician Consent form is required. Call 282-1605 to register. Pricing available for 6 week class punch cards. This class is offered several times daily.
URL:https://riverplex.org/event/osf-arthritis/2026-09-18/
LOCATION:Warm Water
CATEGORIES:Warm Water Pool
END:VEVENT
BEGIN:VEVENT
DTSTART;TZID=America/Chicago:20260918T100000
DTEND;TZID=America/Chicago:20260918T104500
DTSTAMP:20260425T184611
CREATED:20241126T152850Z
LAST-MODIFIED:20241126T152850Z
UID:13639-1789725600-1789728300@riverplex.org
SUMMARY:OSF Arthritis
DESCRIPTION:Exercises are performed in the warm water pool. Entrance to the pool is by steps with handrails or a chair lift. Participants do not need to know how to swim. A Physician Consent form is required. Call 282-1605 to register. Pricing available for 6 week class punch cards. This class is offered several times daily.
URL:https://riverplex.org/event/osf-arthritis-2/2026-09-18/
LOCATION:Warm Water
CATEGORIES:Warm Water Pool
END:VEVENT
BEGIN:VEVENT
DTSTART;TZID=America/Chicago:20260918T130000
DTEND;TZID=America/Chicago:20260918T163000
DTSTAMP:20260425T184611
CREATED:20241126T153252Z
LAST-MODIFIED:20241126T153252Z
UID:15052-1789736400-1789749000@riverplex.org
SUMMARY:OSF Physical Therapy
DESCRIPTION:
URL:https://riverplex.org/event/osf-physical-therapy/2026-09-18/
LOCATION:Warm Water
CATEGORIES:Warm Water Pool
END:VEVENT
BEGIN:VEVENT
DTSTART;TZID=UTC:20260921T080000
DTEND;TZID=UTC:20260921T084500
DTSTAMP:20260425T184611
CREATED:20241204T174731Z
LAST-MODIFIED:20241218T170927Z
UID:6185-1789977600-1789980300@riverplex.org
SUMMARY:RiverPlex Warm Water Arthritis Class
DESCRIPTION:This class is similar to the OSF Arthritis class but is taught by RiverPlex staff. \nExercises are performed in the warm water pool. Entrance to the pool is by steps with handrails or a chair lift. Participants do not need to know how to swim.
URL:https://riverplex.org/event/riverplex-warm-water-arthritis-class/2026-09-21/
LOCATION:Warm Water
CATEGORIES:Warm Water Pool
END:VEVENT
BEGIN:VEVENT
DTSTART;TZID=America/Chicago:20260921T090000
DTEND;TZID=America/Chicago:20260921T094500
DTSTAMP:20260425T184611
CREATED:20241126T152618Z
LAST-MODIFIED:20250515T162720Z
UID:13091-1789981200-1789983900@riverplex.org
SUMMARY:OSF Arthritis
DESCRIPTION:Exercises are performed in the warm water pool. Entrance to the pool is by steps with handrails or a chair lift. Participants do not need to know how to swim. A Physician Consent form is required. Call 282-1605 to register. Pricing available for 6 week class punch cards. This class is offered several times daily.
URL:https://riverplex.org/event/osf-arthritis/2026-09-21/
LOCATION:Warm Water
CATEGORIES:Warm Water Pool
END:VEVENT
END:VCALENDAR