BEGIN:VCALENDAR
VERSION:2.0
PRODID:-//RiverPlex - ECPv6.15.18//NONSGML v1.0//EN
CALSCALE:GREGORIAN
METHOD:PUBLISH
X-ORIGINAL-URL:https://riverplex.org
X-WR-CALDESC:Events for RiverPlex
REFRESH-INTERVAL;VALUE=DURATION:PT1H
X-Robots-Tag:noindex
X-PUBLISHED-TTL:PT1H
BEGIN:VTIMEZONE
TZID:America/Chicago
BEGIN:DAYLIGHT
TZOFFSETFROM:-0600
TZOFFSETTO:-0500
TZNAME:CDT
DTSTART:20250309T080000
END:DAYLIGHT
BEGIN:STANDARD
TZOFFSETFROM:-0500
TZOFFSETTO:-0600
TZNAME:CST
DTSTART:20251102T070000
END:STANDARD
BEGIN:DAYLIGHT
TZOFFSETFROM:-0600
TZOFFSETTO:-0500
TZNAME:CDT
DTSTART:20260308T080000
END:DAYLIGHT
BEGIN:STANDARD
TZOFFSETFROM:-0500
TZOFFSETTO:-0600
TZNAME:CST
DTSTART:20261101T070000
END:STANDARD
BEGIN:DAYLIGHT
TZOFFSETFROM:-0600
TZOFFSETTO:-0500
TZNAME:CDT
DTSTART:20270314T080000
END:DAYLIGHT
BEGIN:STANDARD
TZOFFSETFROM:-0500
TZOFFSETTO:-0600
TZNAME:CST
DTSTART:20271107T070000
END:STANDARD
END:VTIMEZONE
BEGIN:VTIMEZONE
TZID:UTC
BEGIN:STANDARD
TZOFFSETFROM:+0000
TZOFFSETTO:+0000
TZNAME:UTC
DTSTART:20250101T000000
END:STANDARD
END:VTIMEZONE
BEGIN:VEVENT
DTSTART;TZID=America/Chicago:20260814T130000
DTEND;TZID=America/Chicago:20260814T163000
DTSTAMP:20260425T120428
CREATED:20241126T153252Z
LAST-MODIFIED:20241126T153252Z
UID:15042-1786712400-1786725000@riverplex.org
SUMMARY:OSF Physical Therapy
DESCRIPTION:
URL:https://riverplex.org/event/osf-physical-therapy/2026-08-14/
LOCATION:Warm Water
CATEGORIES:Warm Water Pool
END:VEVENT
BEGIN:VEVENT
DTSTART;TZID=UTC:20260817T080000
DTEND;TZID=UTC:20260817T084500
DTSTAMP:20260425T120428
CREATED:20241204T174731Z
LAST-MODIFIED:20241218T170924Z
UID:6170-1786953600-1786956300@riverplex.org
SUMMARY:RiverPlex Warm Water Arthritis Class
DESCRIPTION:This class is similar to the OSF Arthritis class but is taught by RiverPlex staff. \nExercises are performed in the warm water pool. Entrance to the pool is by steps with handrails or a chair lift. Participants do not need to know how to swim.
URL:https://riverplex.org/event/riverplex-warm-water-arthritis-class/2026-08-17/
LOCATION:Warm Water
CATEGORIES:Warm Water Pool
END:VEVENT
BEGIN:VEVENT
DTSTART;TZID=America/Chicago:20260817T090000
DTEND;TZID=America/Chicago:20260817T094500
DTSTAMP:20260425T120428
CREATED:20241126T152618Z
LAST-MODIFIED:20250515T162715Z
UID:13066-1786957200-1786959900@riverplex.org
SUMMARY:OSF Arthritis
DESCRIPTION:Exercises are performed in the warm water pool. Entrance to the pool is by steps with handrails or a chair lift. Participants do not need to know how to swim. A Physician Consent form is required. Call 282-1605 to register. Pricing available for 6 week class punch cards. This class is offered several times daily.
URL:https://riverplex.org/event/osf-arthritis/2026-08-17/
LOCATION:Warm Water
CATEGORIES:Warm Water Pool
END:VEVENT
BEGIN:VEVENT
DTSTART;TZID=America/Chicago:20260817T100000
DTEND;TZID=America/Chicago:20260817T104500
DTSTAMP:20260425T120428
CREATED:20241126T152850Z
LAST-MODIFIED:20241126T152850Z
UID:13615-1786960800-1786963500@riverplex.org
SUMMARY:OSF Arthritis
DESCRIPTION:Exercises are performed in the warm water pool. Entrance to the pool is by steps with handrails or a chair lift. Participants do not need to know how to swim. A Physician Consent form is required. Call 282-1605 to register. Pricing available for 6 week class punch cards. This class is offered several times daily.
URL:https://riverplex.org/event/osf-arthritis-2/2026-08-17/
LOCATION:Warm Water
CATEGORIES:Warm Water Pool
END:VEVENT
BEGIN:VEVENT
DTSTART;TZID=America/Chicago:20260818T090000
DTEND;TZID=America/Chicago:20260818T094500
DTSTAMP:20260425T120428
CREATED:20241126T152618Z
LAST-MODIFIED:20250515T162715Z
UID:13067-1787043600-1787046300@riverplex.org
SUMMARY:OSF Arthritis
DESCRIPTION:Exercises are performed in the warm water pool. Entrance to the pool is by steps with handrails or a chair lift. Participants do not need to know how to swim. A Physician Consent form is required. Call 282-1605 to register. Pricing available for 6 week class punch cards. This class is offered several times daily.
URL:https://riverplex.org/event/osf-arthritis/2026-08-18/
LOCATION:Warm Water
CATEGORIES:Warm Water Pool
END:VEVENT
BEGIN:VEVENT
DTSTART;TZID=America/Chicago:20260818T100000
DTEND;TZID=America/Chicago:20260818T104500
DTSTAMP:20260425T120428
CREATED:20241126T152850Z
LAST-MODIFIED:20241126T152850Z
UID:13616-1787047200-1787049900@riverplex.org
SUMMARY:OSF Arthritis
DESCRIPTION:Exercises are performed in the warm water pool. Entrance to the pool is by steps with handrails or a chair lift. Participants do not need to know how to swim. A Physician Consent form is required. Call 282-1605 to register. Pricing available for 6 week class punch cards. This class is offered several times daily.
URL:https://riverplex.org/event/osf-arthritis-2/2026-08-18/
LOCATION:Warm Water
CATEGORIES:Warm Water Pool
END:VEVENT
BEGIN:VEVENT
DTSTART;TZID=UTC:20260819T080000
DTEND;TZID=UTC:20260819T084500
DTSTAMP:20260425T120428
CREATED:20241204T174731Z
LAST-MODIFIED:20241218T170924Z
UID:6171-1787126400-1787129100@riverplex.org
SUMMARY:RiverPlex Warm Water Arthritis Class
DESCRIPTION:This class is similar to the OSF Arthritis class but is taught by RiverPlex staff. \nExercises are performed in the warm water pool. Entrance to the pool is by steps with handrails or a chair lift. Participants do not need to know how to swim.
URL:https://riverplex.org/event/riverplex-warm-water-arthritis-class/2026-08-19/
LOCATION:Warm Water
CATEGORIES:Warm Water Pool
END:VEVENT
BEGIN:VEVENT
DTSTART;TZID=America/Chicago:20260819T090000
DTEND;TZID=America/Chicago:20260819T094500
DTSTAMP:20260425T120428
CREATED:20241126T152618Z
LAST-MODIFIED:20250515T162715Z
UID:13068-1787130000-1787132700@riverplex.org
SUMMARY:OSF Arthritis
DESCRIPTION:Exercises are performed in the warm water pool. Entrance to the pool is by steps with handrails or a chair lift. Participants do not need to know how to swim. A Physician Consent form is required. Call 282-1605 to register. Pricing available for 6 week class punch cards. This class is offered several times daily.
URL:https://riverplex.org/event/osf-arthritis/2026-08-19/
LOCATION:Warm Water
CATEGORIES:Warm Water Pool
END:VEVENT
BEGIN:VEVENT
DTSTART;TZID=America/Chicago:20260819T100000
DTEND;TZID=America/Chicago:20260819T104500
DTSTAMP:20260425T120428
CREATED:20241126T152850Z
LAST-MODIFIED:20241126T152850Z
UID:13617-1787133600-1787136300@riverplex.org
SUMMARY:OSF Arthritis
DESCRIPTION:Exercises are performed in the warm water pool. Entrance to the pool is by steps with handrails or a chair lift. Participants do not need to know how to swim. A Physician Consent form is required. Call 282-1605 to register. Pricing available for 6 week class punch cards. This class is offered several times daily.
URL:https://riverplex.org/event/osf-arthritis-2/2026-08-19/
LOCATION:Warm Water
CATEGORIES:Warm Water Pool
END:VEVENT
BEGIN:VEVENT
DTSTART;TZID=America/Chicago:20260819T130000
DTEND;TZID=America/Chicago:20260819T163000
DTSTAMP:20260425T120428
CREATED:20241126T153252Z
LAST-MODIFIED:20241126T153252Z
UID:15043-1787144400-1787157000@riverplex.org
SUMMARY:OSF Physical Therapy
DESCRIPTION:
URL:https://riverplex.org/event/osf-physical-therapy/2026-08-19/
LOCATION:Warm Water
CATEGORIES:Warm Water Pool
END:VEVENT
BEGIN:VEVENT
DTSTART;TZID=America/Chicago:20260820T090000
DTEND;TZID=America/Chicago:20260820T094500
DTSTAMP:20260425T120428
CREATED:20241126T152618Z
LAST-MODIFIED:20250515T162715Z
UID:13069-1787216400-1787219100@riverplex.org
SUMMARY:OSF Arthritis
DESCRIPTION:Exercises are performed in the warm water pool. Entrance to the pool is by steps with handrails or a chair lift. Participants do not need to know how to swim. A Physician Consent form is required. Call 282-1605 to register. Pricing available for 6 week class punch cards. This class is offered several times daily.
URL:https://riverplex.org/event/osf-arthritis/2026-08-20/
LOCATION:Warm Water
CATEGORIES:Warm Water Pool
END:VEVENT
BEGIN:VEVENT
DTSTART;TZID=America/Chicago:20260820T100000
DTEND;TZID=America/Chicago:20260820T104500
DTSTAMP:20260425T120428
CREATED:20241126T152850Z
LAST-MODIFIED:20241126T152850Z
UID:13618-1787220000-1787222700@riverplex.org
SUMMARY:OSF Arthritis
DESCRIPTION:Exercises are performed in the warm water pool. Entrance to the pool is by steps with handrails or a chair lift. Participants do not need to know how to swim. A Physician Consent form is required. Call 282-1605 to register. Pricing available for 6 week class punch cards. This class is offered several times daily.
URL:https://riverplex.org/event/osf-arthritis-2/2026-08-20/
LOCATION:Warm Water
CATEGORIES:Warm Water Pool
END:VEVENT
BEGIN:VEVENT
DTSTART;TZID=UTC:20260821T080000
DTEND;TZID=UTC:20260821T084500
DTSTAMP:20260425T120428
CREATED:20241204T174731Z
LAST-MODIFIED:20241218T170924Z
UID:6172-1787299200-1787301900@riverplex.org
SUMMARY:RiverPlex Warm Water Arthritis Class
DESCRIPTION:This class is similar to the OSF Arthritis class but is taught by RiverPlex staff. \nExercises are performed in the warm water pool. Entrance to the pool is by steps with handrails or a chair lift. Participants do not need to know how to swim.
URL:https://riverplex.org/event/riverplex-warm-water-arthritis-class/2026-08-21/
LOCATION:Warm Water
CATEGORIES:Warm Water Pool
END:VEVENT
BEGIN:VEVENT
DTSTART;TZID=America/Chicago:20260821T090000
DTEND;TZID=America/Chicago:20260821T094500
DTSTAMP:20260425T120428
CREATED:20241126T152618Z
LAST-MODIFIED:20250515T162715Z
UID:13070-1787302800-1787305500@riverplex.org
SUMMARY:OSF Arthritis
DESCRIPTION:Exercises are performed in the warm water pool. Entrance to the pool is by steps with handrails or a chair lift. Participants do not need to know how to swim. A Physician Consent form is required. Call 282-1605 to register. Pricing available for 6 week class punch cards. This class is offered several times daily.
URL:https://riverplex.org/event/osf-arthritis/2026-08-21/
LOCATION:Warm Water
CATEGORIES:Warm Water Pool
END:VEVENT
BEGIN:VEVENT
DTSTART;TZID=America/Chicago:20260821T100000
DTEND;TZID=America/Chicago:20260821T104500
DTSTAMP:20260425T120428
CREATED:20241126T152850Z
LAST-MODIFIED:20241126T152850Z
UID:13619-1787306400-1787309100@riverplex.org
SUMMARY:OSF Arthritis
DESCRIPTION:Exercises are performed in the warm water pool. Entrance to the pool is by steps with handrails or a chair lift. Participants do not need to know how to swim. A Physician Consent form is required. Call 282-1605 to register. Pricing available for 6 week class punch cards. This class is offered several times daily.
URL:https://riverplex.org/event/osf-arthritis-2/2026-08-21/
LOCATION:Warm Water
CATEGORIES:Warm Water Pool
END:VEVENT
BEGIN:VEVENT
DTSTART;TZID=America/Chicago:20260821T130000
DTEND;TZID=America/Chicago:20260821T163000
DTSTAMP:20260425T120428
CREATED:20241126T153252Z
LAST-MODIFIED:20241126T153252Z
UID:15044-1787317200-1787329800@riverplex.org
SUMMARY:OSF Physical Therapy
DESCRIPTION:
URL:https://riverplex.org/event/osf-physical-therapy/2026-08-21/
LOCATION:Warm Water
CATEGORIES:Warm Water Pool
END:VEVENT
BEGIN:VEVENT
DTSTART;TZID=UTC:20260824T080000
DTEND;TZID=UTC:20260824T084500
DTSTAMP:20260425T120428
CREATED:20241204T174731Z
LAST-MODIFIED:20241218T170924Z
UID:6173-1787558400-1787561100@riverplex.org
SUMMARY:RiverPlex Warm Water Arthritis Class
DESCRIPTION:This class is similar to the OSF Arthritis class but is taught by RiverPlex staff. \nExercises are performed in the warm water pool. Entrance to the pool is by steps with handrails or a chair lift. Participants do not need to know how to swim.
URL:https://riverplex.org/event/riverplex-warm-water-arthritis-class/2026-08-24/
LOCATION:Warm Water
CATEGORIES:Warm Water Pool
END:VEVENT
BEGIN:VEVENT
DTSTART;TZID=America/Chicago:20260824T090000
DTEND;TZID=America/Chicago:20260824T094500
DTSTAMP:20260425T120428
CREATED:20241126T152618Z
LAST-MODIFIED:20250515T162716Z
UID:13071-1787562000-1787564700@riverplex.org
SUMMARY:OSF Arthritis
DESCRIPTION:Exercises are performed in the warm water pool. Entrance to the pool is by steps with handrails or a chair lift. Participants do not need to know how to swim. A Physician Consent form is required. Call 282-1605 to register. Pricing available for 6 week class punch cards. This class is offered several times daily.
URL:https://riverplex.org/event/osf-arthritis/2026-08-24/
LOCATION:Warm Water
CATEGORIES:Warm Water Pool
END:VEVENT
BEGIN:VEVENT
DTSTART;TZID=America/Chicago:20260824T100000
DTEND;TZID=America/Chicago:20260824T104500
DTSTAMP:20260425T120428
CREATED:20241126T152850Z
LAST-MODIFIED:20241126T152850Z
UID:13620-1787565600-1787568300@riverplex.org
SUMMARY:OSF Arthritis
DESCRIPTION:Exercises are performed in the warm water pool. Entrance to the pool is by steps with handrails or a chair lift. Participants do not need to know how to swim. A Physician Consent form is required. Call 282-1605 to register. Pricing available for 6 week class punch cards. This class is offered several times daily.
URL:https://riverplex.org/event/osf-arthritis-2/2026-08-24/
LOCATION:Warm Water
CATEGORIES:Warm Water Pool
END:VEVENT
BEGIN:VEVENT
DTSTART;TZID=America/Chicago:20260825T090000
DTEND;TZID=America/Chicago:20260825T094500
DTSTAMP:20260425T120428
CREATED:20241126T152618Z
LAST-MODIFIED:20250515T162716Z
UID:13072-1787648400-1787651100@riverplex.org
SUMMARY:OSF Arthritis
DESCRIPTION:Exercises are performed in the warm water pool. Entrance to the pool is by steps with handrails or a chair lift. Participants do not need to know how to swim. A Physician Consent form is required. Call 282-1605 to register. Pricing available for 6 week class punch cards. This class is offered several times daily.
URL:https://riverplex.org/event/osf-arthritis/2026-08-25/
LOCATION:Warm Water
CATEGORIES:Warm Water Pool
END:VEVENT
BEGIN:VEVENT
DTSTART;TZID=America/Chicago:20260825T100000
DTEND;TZID=America/Chicago:20260825T104500
DTSTAMP:20260425T120428
CREATED:20241126T152850Z
LAST-MODIFIED:20241126T152850Z
UID:13621-1787652000-1787654700@riverplex.org
SUMMARY:OSF Arthritis
DESCRIPTION:Exercises are performed in the warm water pool. Entrance to the pool is by steps with handrails or a chair lift. Participants do not need to know how to swim. A Physician Consent form is required. Call 282-1605 to register. Pricing available for 6 week class punch cards. This class is offered several times daily.
URL:https://riverplex.org/event/osf-arthritis-2/2026-08-25/
LOCATION:Warm Water
CATEGORIES:Warm Water Pool
END:VEVENT
BEGIN:VEVENT
DTSTART;TZID=UTC:20260826T080000
DTEND;TZID=UTC:20260826T084500
DTSTAMP:20260425T120428
CREATED:20241204T174731Z
LAST-MODIFIED:20241218T170925Z
UID:6174-1787731200-1787733900@riverplex.org
SUMMARY:RiverPlex Warm Water Arthritis Class
DESCRIPTION:This class is similar to the OSF Arthritis class but is taught by RiverPlex staff. \nExercises are performed in the warm water pool. Entrance to the pool is by steps with handrails or a chair lift. Participants do not need to know how to swim.
URL:https://riverplex.org/event/riverplex-warm-water-arthritis-class/2026-08-26/
LOCATION:Warm Water
CATEGORIES:Warm Water Pool
END:VEVENT
BEGIN:VEVENT
DTSTART;TZID=America/Chicago:20260826T090000
DTEND;TZID=America/Chicago:20260826T094500
DTSTAMP:20260425T120428
CREATED:20241126T152618Z
LAST-MODIFIED:20250515T162716Z
UID:13073-1787734800-1787737500@riverplex.org
SUMMARY:OSF Arthritis
DESCRIPTION:Exercises are performed in the warm water pool. Entrance to the pool is by steps with handrails or a chair lift. Participants do not need to know how to swim. A Physician Consent form is required. Call 282-1605 to register. Pricing available for 6 week class punch cards. This class is offered several times daily.
URL:https://riverplex.org/event/osf-arthritis/2026-08-26/
LOCATION:Warm Water
CATEGORIES:Warm Water Pool
END:VEVENT
BEGIN:VEVENT
DTSTART;TZID=America/Chicago:20260826T100000
DTEND;TZID=America/Chicago:20260826T104500
DTSTAMP:20260425T120428
CREATED:20241126T152850Z
LAST-MODIFIED:20241126T152850Z
UID:13622-1787738400-1787741100@riverplex.org
SUMMARY:OSF Arthritis
DESCRIPTION:Exercises are performed in the warm water pool. Entrance to the pool is by steps with handrails or a chair lift. Participants do not need to know how to swim. A Physician Consent form is required. Call 282-1605 to register. Pricing available for 6 week class punch cards. This class is offered several times daily.
URL:https://riverplex.org/event/osf-arthritis-2/2026-08-26/
LOCATION:Warm Water
CATEGORIES:Warm Water Pool
END:VEVENT
BEGIN:VEVENT
DTSTART;TZID=America/Chicago:20260826T130000
DTEND;TZID=America/Chicago:20260826T163000
DTSTAMP:20260425T120428
CREATED:20241126T153252Z
LAST-MODIFIED:20241126T153252Z
UID:15045-1787749200-1787761800@riverplex.org
SUMMARY:OSF Physical Therapy
DESCRIPTION:
URL:https://riverplex.org/event/osf-physical-therapy/2026-08-26/
LOCATION:Warm Water
CATEGORIES:Warm Water Pool
END:VEVENT
BEGIN:VEVENT
DTSTART;TZID=America/Chicago:20260827T090000
DTEND;TZID=America/Chicago:20260827T094500
DTSTAMP:20260425T120428
CREATED:20241126T152618Z
LAST-MODIFIED:20250515T162716Z
UID:13074-1787821200-1787823900@riverplex.org
SUMMARY:OSF Arthritis
DESCRIPTION:Exercises are performed in the warm water pool. Entrance to the pool is by steps with handrails or a chair lift. Participants do not need to know how to swim. A Physician Consent form is required. Call 282-1605 to register. Pricing available for 6 week class punch cards. This class is offered several times daily.
URL:https://riverplex.org/event/osf-arthritis/2026-08-27/
LOCATION:Warm Water
CATEGORIES:Warm Water Pool
END:VEVENT
BEGIN:VEVENT
DTSTART;TZID=America/Chicago:20260827T100000
DTEND;TZID=America/Chicago:20260827T104500
DTSTAMP:20260425T120428
CREATED:20241126T152850Z
LAST-MODIFIED:20241126T152850Z
UID:13623-1787824800-1787827500@riverplex.org
SUMMARY:OSF Arthritis
DESCRIPTION:Exercises are performed in the warm water pool. Entrance to the pool is by steps with handrails or a chair lift. Participants do not need to know how to swim. A Physician Consent form is required. Call 282-1605 to register. Pricing available for 6 week class punch cards. This class is offered several times daily.
URL:https://riverplex.org/event/osf-arthritis-2/2026-08-27/
LOCATION:Warm Water
CATEGORIES:Warm Water Pool
END:VEVENT
BEGIN:VEVENT
DTSTART;TZID=UTC:20260828T080000
DTEND;TZID=UTC:20260828T084500
DTSTAMP:20260425T120428
CREATED:20241204T174731Z
LAST-MODIFIED:20241218T170925Z
UID:6175-1787904000-1787906700@riverplex.org
SUMMARY:RiverPlex Warm Water Arthritis Class
DESCRIPTION:This class is similar to the OSF Arthritis class but is taught by RiverPlex staff. \nExercises are performed in the warm water pool. Entrance to the pool is by steps with handrails or a chair lift. Participants do not need to know how to swim.
URL:https://riverplex.org/event/riverplex-warm-water-arthritis-class/2026-08-28/
LOCATION:Warm Water
CATEGORIES:Warm Water Pool
END:VEVENT
BEGIN:VEVENT
DTSTART;TZID=America/Chicago:20260828T090000
DTEND;TZID=America/Chicago:20260828T094500
DTSTAMP:20260425T120428
CREATED:20241126T152618Z
LAST-MODIFIED:20250515T162716Z
UID:13075-1787907600-1787910300@riverplex.org
SUMMARY:OSF Arthritis
DESCRIPTION:Exercises are performed in the warm water pool. Entrance to the pool is by steps with handrails or a chair lift. Participants do not need to know how to swim. A Physician Consent form is required. Call 282-1605 to register. Pricing available for 6 week class punch cards. This class is offered several times daily.
URL:https://riverplex.org/event/osf-arthritis/2026-08-28/
LOCATION:Warm Water
CATEGORIES:Warm Water Pool
END:VEVENT
BEGIN:VEVENT
DTSTART;TZID=America/Chicago:20260828T100000
DTEND;TZID=America/Chicago:20260828T104500
DTSTAMP:20260425T120428
CREATED:20241126T152850Z
LAST-MODIFIED:20241126T152850Z
UID:13624-1787911200-1787913900@riverplex.org
SUMMARY:OSF Arthritis
DESCRIPTION:Exercises are performed in the warm water pool. Entrance to the pool is by steps with handrails or a chair lift. Participants do not need to know how to swim. A Physician Consent form is required. Call 282-1605 to register. Pricing available for 6 week class punch cards. This class is offered several times daily.
URL:https://riverplex.org/event/osf-arthritis-2/2026-08-28/
LOCATION:Warm Water
CATEGORIES:Warm Water Pool
END:VEVENT
END:VCALENDAR