BEGIN:VCALENDAR
VERSION:2.0
PRODID:-//RiverPlex - ECPv6.15.18//NONSGML v1.0//EN
CALSCALE:GREGORIAN
METHOD:PUBLISH
X-ORIGINAL-URL:https://riverplex.org
X-WR-CALDESC:Events for RiverPlex
REFRESH-INTERVAL;VALUE=DURATION:PT1H
X-Robots-Tag:noindex
X-PUBLISHED-TTL:PT1H
BEGIN:VTIMEZONE
TZID:America/Chicago
BEGIN:DAYLIGHT
TZOFFSETFROM:-0600
TZOFFSETTO:-0500
TZNAME:CDT
DTSTART:20250309T080000
END:DAYLIGHT
BEGIN:STANDARD
TZOFFSETFROM:-0500
TZOFFSETTO:-0600
TZNAME:CST
DTSTART:20251102T070000
END:STANDARD
BEGIN:DAYLIGHT
TZOFFSETFROM:-0600
TZOFFSETTO:-0500
TZNAME:CDT
DTSTART:20260308T080000
END:DAYLIGHT
BEGIN:STANDARD
TZOFFSETFROM:-0500
TZOFFSETTO:-0600
TZNAME:CST
DTSTART:20261101T070000
END:STANDARD
BEGIN:DAYLIGHT
TZOFFSETFROM:-0600
TZOFFSETTO:-0500
TZNAME:CDT
DTSTART:20270314T080000
END:DAYLIGHT
BEGIN:STANDARD
TZOFFSETFROM:-0500
TZOFFSETTO:-0600
TZNAME:CST
DTSTART:20271107T070000
END:STANDARD
END:VTIMEZONE
BEGIN:VTIMEZONE
TZID:UTC
BEGIN:STANDARD
TZOFFSETFROM:+0000
TZOFFSETTO:+0000
TZNAME:UTC
DTSTART:20250101T000000
END:STANDARD
END:VTIMEZONE
BEGIN:VEVENT
DTSTART;TZID=America/Chicago:20260710T090000
DTEND;TZID=America/Chicago:20260710T094500
DTSTAMP:20260425T001956
CREATED:20241126T152618Z
LAST-MODIFIED:20250515T162708Z
UID:13040-1783674000-1783676700@riverplex.org
SUMMARY:OSF Arthritis
DESCRIPTION:Exercises are performed in the warm water pool. Entrance to the pool is by steps with handrails or a chair lift. Participants do not need to know how to swim. A Physician Consent form is required. Call 282-1605 to register. Pricing available for 6 week class punch cards. This class is offered several times daily.
URL:https://riverplex.org/event/osf-arthritis/2026-07-10/
LOCATION:Warm Water
CATEGORIES:Warm Water Pool
END:VEVENT
BEGIN:VEVENT
DTSTART;TZID=America/Chicago:20260710T100000
DTEND;TZID=America/Chicago:20260710T104500
DTSTAMP:20260425T001956
CREATED:20241126T152850Z
LAST-MODIFIED:20241126T152850Z
UID:13589-1783677600-1783680300@riverplex.org
SUMMARY:OSF Arthritis
DESCRIPTION:Exercises are performed in the warm water pool. Entrance to the pool is by steps with handrails or a chair lift. Participants do not need to know how to swim. A Physician Consent form is required. Call 282-1605 to register. Pricing available for 6 week class punch cards. This class is offered several times daily.
URL:https://riverplex.org/event/osf-arthritis-2/2026-07-10/
LOCATION:Warm Water
CATEGORIES:Warm Water Pool
END:VEVENT
BEGIN:VEVENT
DTSTART;TZID=America/Chicago:20260710T110000
DTEND;TZID=America/Chicago:20260710T114500
DTSTAMP:20260425T001956
CREATED:20251021T204813Z
LAST-MODIFIED:20251021T204813Z
UID:32638-1783681200-1783683900@riverplex.org
SUMMARY:OSF Arthritis
DESCRIPTION:Exercises are performed in the warm water pool. Entrance to the pool is by steps with handrails or a chair lift. Participants do not need to know how to swim. A Physician Consent form is required. Call 282-1605 to register. Pricing available for 6 week class punch cards. This class is offered several times daily.
URL:https://riverplex.org/event/osf-arthritis-3/2026-07-10/
LOCATION:Warm Water
CATEGORIES:Warm Water Pool
END:VEVENT
BEGIN:VEVENT
DTSTART;TZID=America/Chicago:20260710T130000
DTEND;TZID=America/Chicago:20260710T163000
DTSTAMP:20260425T001956
CREATED:20241126T153252Z
LAST-MODIFIED:20241126T153252Z
UID:15032-1783688400-1783701000@riverplex.org
SUMMARY:OSF Physical Therapy
DESCRIPTION:
URL:https://riverplex.org/event/osf-physical-therapy/2026-07-10/
LOCATION:Warm Water
CATEGORIES:Warm Water Pool
END:VEVENT
BEGIN:VEVENT
DTSTART;TZID=UTC:20260713T080000
DTEND;TZID=UTC:20260713T084500
DTSTAMP:20260425T001956
CREATED:20241204T174731Z
LAST-MODIFIED:20241218T170923Z
UID:6155-1783929600-1783932300@riverplex.org
SUMMARY:RiverPlex Warm Water Arthritis Class
DESCRIPTION:This class is similar to the OSF Arthritis class but is taught by RiverPlex staff. \nExercises are performed in the warm water pool. Entrance to the pool is by steps with handrails or a chair lift. Participants do not need to know how to swim.
URL:https://riverplex.org/event/riverplex-warm-water-arthritis-class/2026-07-13/
LOCATION:Warm Water
CATEGORIES:Warm Water Pool
END:VEVENT
BEGIN:VEVENT
DTSTART;TZID=America/Chicago:20260713T090000
DTEND;TZID=America/Chicago:20260713T094500
DTSTAMP:20260425T001956
CREATED:20241126T152618Z
LAST-MODIFIED:20250515T162708Z
UID:13041-1783933200-1783935900@riverplex.org
SUMMARY:OSF Arthritis
DESCRIPTION:Exercises are performed in the warm water pool. Entrance to the pool is by steps with handrails or a chair lift. Participants do not need to know how to swim. A Physician Consent form is required. Call 282-1605 to register. Pricing available for 6 week class punch cards. This class is offered several times daily.
URL:https://riverplex.org/event/osf-arthritis/2026-07-13/
LOCATION:Warm Water
CATEGORIES:Warm Water Pool
END:VEVENT
BEGIN:VEVENT
DTSTART;TZID=America/Chicago:20260713T100000
DTEND;TZID=America/Chicago:20260713T104500
DTSTAMP:20260425T001956
CREATED:20241126T152850Z
LAST-MODIFIED:20241126T152850Z
UID:13590-1783936800-1783939500@riverplex.org
SUMMARY:OSF Arthritis
DESCRIPTION:Exercises are performed in the warm water pool. Entrance to the pool is by steps with handrails or a chair lift. Participants do not need to know how to swim. A Physician Consent form is required. Call 282-1605 to register. Pricing available for 6 week class punch cards. This class is offered several times daily.
URL:https://riverplex.org/event/osf-arthritis-2/2026-07-13/
LOCATION:Warm Water
CATEGORIES:Warm Water Pool
END:VEVENT
BEGIN:VEVENT
DTSTART;TZID=America/Chicago:20260713T110000
DTEND;TZID=America/Chicago:20260713T114500
DTSTAMP:20260425T001956
CREATED:20251021T204813Z
LAST-MODIFIED:20251021T204813Z
UID:32639-1783940400-1783943100@riverplex.org
SUMMARY:OSF Arthritis
DESCRIPTION:Exercises are performed in the warm water pool. Entrance to the pool is by steps with handrails or a chair lift. Participants do not need to know how to swim. A Physician Consent form is required. Call 282-1605 to register. Pricing available for 6 week class punch cards. This class is offered several times daily.
URL:https://riverplex.org/event/osf-arthritis-3/2026-07-13/
LOCATION:Warm Water
CATEGORIES:Warm Water Pool
END:VEVENT
BEGIN:VEVENT
DTSTART;TZID=America/Chicago:20260714T090000
DTEND;TZID=America/Chicago:20260714T094500
DTSTAMP:20260425T001956
CREATED:20241126T152618Z
LAST-MODIFIED:20250515T162708Z
UID:13042-1784019600-1784022300@riverplex.org
SUMMARY:OSF Arthritis
DESCRIPTION:Exercises are performed in the warm water pool. Entrance to the pool is by steps with handrails or a chair lift. Participants do not need to know how to swim. A Physician Consent form is required. Call 282-1605 to register. Pricing available for 6 week class punch cards. This class is offered several times daily.
URL:https://riverplex.org/event/osf-arthritis/2026-07-14/
LOCATION:Warm Water
CATEGORIES:Warm Water Pool
END:VEVENT
BEGIN:VEVENT
DTSTART;TZID=America/Chicago:20260714T100000
DTEND;TZID=America/Chicago:20260714T104500
DTSTAMP:20260425T001956
CREATED:20241126T152850Z
LAST-MODIFIED:20241126T152850Z
UID:13591-1784023200-1784025900@riverplex.org
SUMMARY:OSF Arthritis
DESCRIPTION:Exercises are performed in the warm water pool. Entrance to the pool is by steps with handrails or a chair lift. Participants do not need to know how to swim. A Physician Consent form is required. Call 282-1605 to register. Pricing available for 6 week class punch cards. This class is offered several times daily.
URL:https://riverplex.org/event/osf-arthritis-2/2026-07-14/
LOCATION:Warm Water
CATEGORIES:Warm Water Pool
END:VEVENT
BEGIN:VEVENT
DTSTART;TZID=America/Chicago:20260714T110000
DTEND;TZID=America/Chicago:20260714T114500
DTSTAMP:20260425T001956
CREATED:20251021T204813Z
LAST-MODIFIED:20251021T204813Z
UID:32640-1784026800-1784029500@riverplex.org
SUMMARY:OSF Arthritis
DESCRIPTION:Exercises are performed in the warm water pool. Entrance to the pool is by steps with handrails or a chair lift. Participants do not need to know how to swim. A Physician Consent form is required. Call 282-1605 to register. Pricing available for 6 week class punch cards. This class is offered several times daily.
URL:https://riverplex.org/event/osf-arthritis-3/2026-07-14/
LOCATION:Warm Water
CATEGORIES:Warm Water Pool
END:VEVENT
BEGIN:VEVENT
DTSTART;TZID=UTC:20260715T080000
DTEND;TZID=UTC:20260715T084500
DTSTAMP:20260425T001956
CREATED:20241204T174731Z
LAST-MODIFIED:20241218T170923Z
UID:6156-1784102400-1784105100@riverplex.org
SUMMARY:RiverPlex Warm Water Arthritis Class
DESCRIPTION:This class is similar to the OSF Arthritis class but is taught by RiverPlex staff. \nExercises are performed in the warm water pool. Entrance to the pool is by steps with handrails or a chair lift. Participants do not need to know how to swim.
URL:https://riverplex.org/event/riverplex-warm-water-arthritis-class/2026-07-15/
LOCATION:Warm Water
CATEGORIES:Warm Water Pool
END:VEVENT
BEGIN:VEVENT
DTSTART;TZID=America/Chicago:20260715T090000
DTEND;TZID=America/Chicago:20260715T094500
DTSTAMP:20260425T001956
CREATED:20241126T152618Z
LAST-MODIFIED:20250515T162708Z
UID:13043-1784106000-1784108700@riverplex.org
SUMMARY:OSF Arthritis
DESCRIPTION:Exercises are performed in the warm water pool. Entrance to the pool is by steps with handrails or a chair lift. Participants do not need to know how to swim. A Physician Consent form is required. Call 282-1605 to register. Pricing available for 6 week class punch cards. This class is offered several times daily.
URL:https://riverplex.org/event/osf-arthritis/2026-07-15/
LOCATION:Warm Water
CATEGORIES:Warm Water Pool
END:VEVENT
BEGIN:VEVENT
DTSTART;TZID=America/Chicago:20260715T100000
DTEND;TZID=America/Chicago:20260715T104500
DTSTAMP:20260425T001956
CREATED:20241126T152850Z
LAST-MODIFIED:20241126T152850Z
UID:13592-1784109600-1784112300@riverplex.org
SUMMARY:OSF Arthritis
DESCRIPTION:Exercises are performed in the warm water pool. Entrance to the pool is by steps with handrails or a chair lift. Participants do not need to know how to swim. A Physician Consent form is required. Call 282-1605 to register. Pricing available for 6 week class punch cards. This class is offered several times daily.
URL:https://riverplex.org/event/osf-arthritis-2/2026-07-15/
LOCATION:Warm Water
CATEGORIES:Warm Water Pool
END:VEVENT
BEGIN:VEVENT
DTSTART;TZID=America/Chicago:20260715T110000
DTEND;TZID=America/Chicago:20260715T114500
DTSTAMP:20260425T001956
CREATED:20251021T204813Z
LAST-MODIFIED:20251021T204813Z
UID:32641-1784113200-1784115900@riverplex.org
SUMMARY:OSF Arthritis
DESCRIPTION:Exercises are performed in the warm water pool. Entrance to the pool is by steps with handrails or a chair lift. Participants do not need to know how to swim. A Physician Consent form is required. Call 282-1605 to register. Pricing available for 6 week class punch cards. This class is offered several times daily.
URL:https://riverplex.org/event/osf-arthritis-3/2026-07-15/
LOCATION:Warm Water
CATEGORIES:Warm Water Pool
END:VEVENT
BEGIN:VEVENT
DTSTART;TZID=America/Chicago:20260715T130000
DTEND;TZID=America/Chicago:20260715T163000
DTSTAMP:20260425T001956
CREATED:20241126T153252Z
LAST-MODIFIED:20241126T153252Z
UID:15033-1784120400-1784133000@riverplex.org
SUMMARY:OSF Physical Therapy
DESCRIPTION:
URL:https://riverplex.org/event/osf-physical-therapy/2026-07-15/
LOCATION:Warm Water
CATEGORIES:Warm Water Pool
END:VEVENT
BEGIN:VEVENT
DTSTART;TZID=America/Chicago:20260716T090000
DTEND;TZID=America/Chicago:20260716T094500
DTSTAMP:20260425T001956
CREATED:20241126T152618Z
LAST-MODIFIED:20250515T162708Z
UID:13044-1784192400-1784195100@riverplex.org
SUMMARY:OSF Arthritis
DESCRIPTION:Exercises are performed in the warm water pool. Entrance to the pool is by steps with handrails or a chair lift. Participants do not need to know how to swim. A Physician Consent form is required. Call 282-1605 to register. Pricing available for 6 week class punch cards. This class is offered several times daily.
URL:https://riverplex.org/event/osf-arthritis/2026-07-16/
LOCATION:Warm Water
CATEGORIES:Warm Water Pool
END:VEVENT
BEGIN:VEVENT
DTSTART;TZID=America/Chicago:20260716T100000
DTEND;TZID=America/Chicago:20260716T104500
DTSTAMP:20260425T001956
CREATED:20241126T152850Z
LAST-MODIFIED:20241126T152850Z
UID:13593-1784196000-1784198700@riverplex.org
SUMMARY:OSF Arthritis
DESCRIPTION:Exercises are performed in the warm water pool. Entrance to the pool is by steps with handrails or a chair lift. Participants do not need to know how to swim. A Physician Consent form is required. Call 282-1605 to register. Pricing available for 6 week class punch cards. This class is offered several times daily.
URL:https://riverplex.org/event/osf-arthritis-2/2026-07-16/
LOCATION:Warm Water
CATEGORIES:Warm Water Pool
END:VEVENT
BEGIN:VEVENT
DTSTART;TZID=America/Chicago:20260716T110000
DTEND;TZID=America/Chicago:20260716T114500
DTSTAMP:20260425T001956
CREATED:20251021T204813Z
LAST-MODIFIED:20251021T204813Z
UID:32642-1784199600-1784202300@riverplex.org
SUMMARY:OSF Arthritis
DESCRIPTION:Exercises are performed in the warm water pool. Entrance to the pool is by steps with handrails or a chair lift. Participants do not need to know how to swim. A Physician Consent form is required. Call 282-1605 to register. Pricing available for 6 week class punch cards. This class is offered several times daily.
URL:https://riverplex.org/event/osf-arthritis-3/2026-07-16/
LOCATION:Warm Water
CATEGORIES:Warm Water Pool
END:VEVENT
BEGIN:VEVENT
DTSTART;TZID=UTC:20260717T080000
DTEND;TZID=UTC:20260717T084500
DTSTAMP:20260425T001956
CREATED:20241204T174731Z
LAST-MODIFIED:20241218T170923Z
UID:6157-1784275200-1784277900@riverplex.org
SUMMARY:RiverPlex Warm Water Arthritis Class
DESCRIPTION:This class is similar to the OSF Arthritis class but is taught by RiverPlex staff. \nExercises are performed in the warm water pool. Entrance to the pool is by steps with handrails or a chair lift. Participants do not need to know how to swim.
URL:https://riverplex.org/event/riverplex-warm-water-arthritis-class/2026-07-17/
LOCATION:Warm Water
CATEGORIES:Warm Water Pool
END:VEVENT
BEGIN:VEVENT
DTSTART;TZID=America/Chicago:20260717T090000
DTEND;TZID=America/Chicago:20260717T094500
DTSTAMP:20260425T001956
CREATED:20241126T152618Z
LAST-MODIFIED:20250515T162709Z
UID:13045-1784278800-1784281500@riverplex.org
SUMMARY:OSF Arthritis
DESCRIPTION:Exercises are performed in the warm water pool. Entrance to the pool is by steps with handrails or a chair lift. Participants do not need to know how to swim. A Physician Consent form is required. Call 282-1605 to register. Pricing available for 6 week class punch cards. This class is offered several times daily.
URL:https://riverplex.org/event/osf-arthritis/2026-07-17/
LOCATION:Warm Water
CATEGORIES:Warm Water Pool
END:VEVENT
BEGIN:VEVENT
DTSTART;TZID=America/Chicago:20260717T100000
DTEND;TZID=America/Chicago:20260717T104500
DTSTAMP:20260425T001956
CREATED:20241126T152850Z
LAST-MODIFIED:20241126T152850Z
UID:13594-1784282400-1784285100@riverplex.org
SUMMARY:OSF Arthritis
DESCRIPTION:Exercises are performed in the warm water pool. Entrance to the pool is by steps with handrails or a chair lift. Participants do not need to know how to swim. A Physician Consent form is required. Call 282-1605 to register. Pricing available for 6 week class punch cards. This class is offered several times daily.
URL:https://riverplex.org/event/osf-arthritis-2/2026-07-17/
LOCATION:Warm Water
CATEGORIES:Warm Water Pool
END:VEVENT
BEGIN:VEVENT
DTSTART;TZID=America/Chicago:20260717T110000
DTEND;TZID=America/Chicago:20260717T114500
DTSTAMP:20260425T001956
CREATED:20251021T204813Z
LAST-MODIFIED:20251021T204813Z
UID:32643-1784286000-1784288700@riverplex.org
SUMMARY:OSF Arthritis
DESCRIPTION:Exercises are performed in the warm water pool. Entrance to the pool is by steps with handrails or a chair lift. Participants do not need to know how to swim. A Physician Consent form is required. Call 282-1605 to register. Pricing available for 6 week class punch cards. This class is offered several times daily.
URL:https://riverplex.org/event/osf-arthritis-3/2026-07-17/
LOCATION:Warm Water
CATEGORIES:Warm Water Pool
END:VEVENT
BEGIN:VEVENT
DTSTART;TZID=America/Chicago:20260717T130000
DTEND;TZID=America/Chicago:20260717T163000
DTSTAMP:20260425T001956
CREATED:20241126T153252Z
LAST-MODIFIED:20241126T153252Z
UID:15034-1784293200-1784305800@riverplex.org
SUMMARY:OSF Physical Therapy
DESCRIPTION:
URL:https://riverplex.org/event/osf-physical-therapy/2026-07-17/
LOCATION:Warm Water
CATEGORIES:Warm Water Pool
END:VEVENT
BEGIN:VEVENT
DTSTART;TZID=UTC:20260720T080000
DTEND;TZID=UTC:20260720T084500
DTSTAMP:20260425T001956
CREATED:20241204T174731Z
LAST-MODIFIED:20241218T170923Z
UID:6158-1784534400-1784537100@riverplex.org
SUMMARY:RiverPlex Warm Water Arthritis Class
DESCRIPTION:This class is similar to the OSF Arthritis class but is taught by RiverPlex staff. \nExercises are performed in the warm water pool. Entrance to the pool is by steps with handrails or a chair lift. Participants do not need to know how to swim.
URL:https://riverplex.org/event/riverplex-warm-water-arthritis-class/2026-07-20/
LOCATION:Warm Water
CATEGORIES:Warm Water Pool
END:VEVENT
BEGIN:VEVENT
DTSTART;TZID=America/Chicago:20260720T090000
DTEND;TZID=America/Chicago:20260720T094500
DTSTAMP:20260425T001956
CREATED:20241126T152618Z
LAST-MODIFIED:20250515T162710Z
UID:13046-1784538000-1784540700@riverplex.org
SUMMARY:OSF Arthritis
DESCRIPTION:Exercises are performed in the warm water pool. Entrance to the pool is by steps with handrails or a chair lift. Participants do not need to know how to swim. A Physician Consent form is required. Call 282-1605 to register. Pricing available for 6 week class punch cards. This class is offered several times daily.
URL:https://riverplex.org/event/osf-arthritis/2026-07-20/
LOCATION:Warm Water
CATEGORIES:Warm Water Pool
END:VEVENT
BEGIN:VEVENT
DTSTART;TZID=America/Chicago:20260720T100000
DTEND;TZID=America/Chicago:20260720T104500
DTSTAMP:20260425T001956
CREATED:20241126T152850Z
LAST-MODIFIED:20241126T152850Z
UID:13595-1784541600-1784544300@riverplex.org
SUMMARY:OSF Arthritis
DESCRIPTION:Exercises are performed in the warm water pool. Entrance to the pool is by steps with handrails or a chair lift. Participants do not need to know how to swim. A Physician Consent form is required. Call 282-1605 to register. Pricing available for 6 week class punch cards. This class is offered several times daily.
URL:https://riverplex.org/event/osf-arthritis-2/2026-07-20/
LOCATION:Warm Water
CATEGORIES:Warm Water Pool
END:VEVENT
BEGIN:VEVENT
DTSTART;TZID=America/Chicago:20260720T110000
DTEND;TZID=America/Chicago:20260720T114500
DTSTAMP:20260425T001956
CREATED:20251021T204813Z
LAST-MODIFIED:20251021T204813Z
UID:32644-1784545200-1784547900@riverplex.org
SUMMARY:OSF Arthritis
DESCRIPTION:Exercises are performed in the warm water pool. Entrance to the pool is by steps with handrails or a chair lift. Participants do not need to know how to swim. A Physician Consent form is required. Call 282-1605 to register. Pricing available for 6 week class punch cards. This class is offered several times daily.
URL:https://riverplex.org/event/osf-arthritis-3/2026-07-20/
LOCATION:Warm Water
CATEGORIES:Warm Water Pool
END:VEVENT
BEGIN:VEVENT
DTSTART;TZID=America/Chicago:20260721T090000
DTEND;TZID=America/Chicago:20260721T094500
DTSTAMP:20260425T001956
CREATED:20241126T152618Z
LAST-MODIFIED:20250515T162710Z
UID:13047-1784624400-1784627100@riverplex.org
SUMMARY:OSF Arthritis
DESCRIPTION:Exercises are performed in the warm water pool. Entrance to the pool is by steps with handrails or a chair lift. Participants do not need to know how to swim. A Physician Consent form is required. Call 282-1605 to register. Pricing available for 6 week class punch cards. This class is offered several times daily.
URL:https://riverplex.org/event/osf-arthritis/2026-07-21/
LOCATION:Warm Water
CATEGORIES:Warm Water Pool
END:VEVENT
BEGIN:VEVENT
DTSTART;TZID=America/Chicago:20260721T100000
DTEND;TZID=America/Chicago:20260721T104500
DTSTAMP:20260425T001956
CREATED:20241126T152850Z
LAST-MODIFIED:20241126T152850Z
UID:13596-1784628000-1784630700@riverplex.org
SUMMARY:OSF Arthritis
DESCRIPTION:Exercises are performed in the warm water pool. Entrance to the pool is by steps with handrails or a chair lift. Participants do not need to know how to swim. A Physician Consent form is required. Call 282-1605 to register. Pricing available for 6 week class punch cards. This class is offered several times daily.
URL:https://riverplex.org/event/osf-arthritis-2/2026-07-21/
LOCATION:Warm Water
CATEGORIES:Warm Water Pool
END:VEVENT
END:VCALENDAR