BEGIN:VCALENDAR
VERSION:2.0
PRODID:-//RiverPlex - ECPv6.15.18//NONSGML v1.0//EN
CALSCALE:GREGORIAN
METHOD:PUBLISH
X-ORIGINAL-URL:https://riverplex.org
X-WR-CALDESC:Events for RiverPlex
REFRESH-INTERVAL;VALUE=DURATION:PT1H
X-Robots-Tag:noindex
X-PUBLISHED-TTL:PT1H
BEGIN:VTIMEZONE
TZID:America/Chicago
BEGIN:DAYLIGHT
TZOFFSETFROM:-0600
TZOFFSETTO:-0500
TZNAME:CDT
DTSTART:20250309T080000
END:DAYLIGHT
BEGIN:STANDARD
TZOFFSETFROM:-0500
TZOFFSETTO:-0600
TZNAME:CST
DTSTART:20251102T070000
END:STANDARD
BEGIN:DAYLIGHT
TZOFFSETFROM:-0600
TZOFFSETTO:-0500
TZNAME:CDT
DTSTART:20260308T080000
END:DAYLIGHT
BEGIN:STANDARD
TZOFFSETFROM:-0500
TZOFFSETTO:-0600
TZNAME:CST
DTSTART:20261101T070000
END:STANDARD
BEGIN:DAYLIGHT
TZOFFSETFROM:-0600
TZOFFSETTO:-0500
TZNAME:CDT
DTSTART:20270314T080000
END:DAYLIGHT
BEGIN:STANDARD
TZOFFSETFROM:-0500
TZOFFSETTO:-0600
TZNAME:CST
DTSTART:20271107T070000
END:STANDARD
END:VTIMEZONE
BEGIN:VTIMEZONE
TZID:UTC
BEGIN:STANDARD
TZOFFSETFROM:+0000
TZOFFSETTO:+0000
TZNAME:UTC
DTSTART:20250101T000000
END:STANDARD
END:VTIMEZONE
BEGIN:VEVENT
DTSTART;TZID=America/Chicago:20260701T130000
DTEND;TZID=America/Chicago:20260701T163000
DTSTAMP:20260424T210847
CREATED:20241126T153252Z
LAST-MODIFIED:20241126T153252Z
UID:15029-1782910800-1782923400@riverplex.org
SUMMARY:OSF Physical Therapy
DESCRIPTION:
URL:https://riverplex.org/event/osf-physical-therapy/2026-07-01/
LOCATION:Warm Water
CATEGORIES:Warm Water Pool
END:VEVENT
BEGIN:VEVENT
DTSTART;TZID=America/Chicago:20260702T090000
DTEND;TZID=America/Chicago:20260702T094500
DTSTAMP:20260424T210847
CREATED:20241126T152618Z
LAST-MODIFIED:20250515T162706Z
UID:13034-1782982800-1782985500@riverplex.org
SUMMARY:OSF Arthritis
DESCRIPTION:Exercises are performed in the warm water pool. Entrance to the pool is by steps with handrails or a chair lift. Participants do not need to know how to swim. A Physician Consent form is required. Call 282-1605 to register. Pricing available for 6 week class punch cards. This class is offered several times daily.
URL:https://riverplex.org/event/osf-arthritis/2026-07-02/
LOCATION:Warm Water
CATEGORIES:Warm Water Pool
END:VEVENT
BEGIN:VEVENT
DTSTART;TZID=America/Chicago:20260702T100000
DTEND;TZID=America/Chicago:20260702T104500
DTSTAMP:20260424T210847
CREATED:20241126T152850Z
LAST-MODIFIED:20241126T152850Z
UID:13583-1782986400-1782989100@riverplex.org
SUMMARY:OSF Arthritis
DESCRIPTION:Exercises are performed in the warm water pool. Entrance to the pool is by steps with handrails or a chair lift. Participants do not need to know how to swim. A Physician Consent form is required. Call 282-1605 to register. Pricing available for 6 week class punch cards. This class is offered several times daily.
URL:https://riverplex.org/event/osf-arthritis-2/2026-07-02/
LOCATION:Warm Water
CATEGORIES:Warm Water Pool
END:VEVENT
BEGIN:VEVENT
DTSTART;TZID=America/Chicago:20260702T110000
DTEND;TZID=America/Chicago:20260702T114500
DTSTAMP:20260424T210847
CREATED:20251021T204813Z
LAST-MODIFIED:20251021T204813Z
UID:32632-1782990000-1782992700@riverplex.org
SUMMARY:OSF Arthritis
DESCRIPTION:Exercises are performed in the warm water pool. Entrance to the pool is by steps with handrails or a chair lift. Participants do not need to know how to swim. A Physician Consent form is required. Call 282-1605 to register. Pricing available for 6 week class punch cards. This class is offered several times daily.
URL:https://riverplex.org/event/osf-arthritis-3/2026-07-02/
LOCATION:Warm Water
CATEGORIES:Warm Water Pool
END:VEVENT
BEGIN:VEVENT
DTSTART;TZID=UTC:20260703T080000
DTEND;TZID=UTC:20260703T084500
DTSTAMP:20260424T210847
CREATED:20241204T174731Z
LAST-MODIFIED:20241218T170922Z
UID:6151-1783065600-1783068300@riverplex.org
SUMMARY:RiverPlex Warm Water Arthritis Class
DESCRIPTION:This class is similar to the OSF Arthritis class but is taught by RiverPlex staff. \nExercises are performed in the warm water pool. Entrance to the pool is by steps with handrails or a chair lift. Participants do not need to know how to swim.
URL:https://riverplex.org/event/riverplex-warm-water-arthritis-class/2026-07-03/
LOCATION:Warm Water
CATEGORIES:Warm Water Pool
END:VEVENT
BEGIN:VEVENT
DTSTART;TZID=America/Chicago:20260703T090000
DTEND;TZID=America/Chicago:20260703T094500
DTSTAMP:20260424T210847
CREATED:20241126T152618Z
LAST-MODIFIED:20250515T162706Z
UID:13035-1783069200-1783071900@riverplex.org
SUMMARY:OSF Arthritis
DESCRIPTION:Exercises are performed in the warm water pool. Entrance to the pool is by steps with handrails or a chair lift. Participants do not need to know how to swim. A Physician Consent form is required. Call 282-1605 to register. Pricing available for 6 week class punch cards. This class is offered several times daily.
URL:https://riverplex.org/event/osf-arthritis/2026-07-03/
LOCATION:Warm Water
CATEGORIES:Warm Water Pool
END:VEVENT
BEGIN:VEVENT
DTSTART;TZID=America/Chicago:20260703T100000
DTEND;TZID=America/Chicago:20260703T104500
DTSTAMP:20260424T210847
CREATED:20241126T152850Z
LAST-MODIFIED:20241126T152850Z
UID:13584-1783072800-1783075500@riverplex.org
SUMMARY:OSF Arthritis
DESCRIPTION:Exercises are performed in the warm water pool. Entrance to the pool is by steps with handrails or a chair lift. Participants do not need to know how to swim. A Physician Consent form is required. Call 282-1605 to register. Pricing available for 6 week class punch cards. This class is offered several times daily.
URL:https://riverplex.org/event/osf-arthritis-2/2026-07-03/
LOCATION:Warm Water
CATEGORIES:Warm Water Pool
END:VEVENT
BEGIN:VEVENT
DTSTART;TZID=America/Chicago:20260703T110000
DTEND;TZID=America/Chicago:20260703T114500
DTSTAMP:20260424T210847
CREATED:20251021T204813Z
LAST-MODIFIED:20251021T204813Z
UID:32633-1783076400-1783079100@riverplex.org
SUMMARY:OSF Arthritis
DESCRIPTION:Exercises are performed in the warm water pool. Entrance to the pool is by steps with handrails or a chair lift. Participants do not need to know how to swim. A Physician Consent form is required. Call 282-1605 to register. Pricing available for 6 week class punch cards. This class is offered several times daily.
URL:https://riverplex.org/event/osf-arthritis-3/2026-07-03/
LOCATION:Warm Water
CATEGORIES:Warm Water Pool
END:VEVENT
BEGIN:VEVENT
DTSTART;TZID=America/Chicago:20260703T130000
DTEND;TZID=America/Chicago:20260703T163000
DTSTAMP:20260424T210848
CREATED:20241126T153252Z
LAST-MODIFIED:20241126T153252Z
UID:15030-1783083600-1783096200@riverplex.org
SUMMARY:OSF Physical Therapy
DESCRIPTION:
URL:https://riverplex.org/event/osf-physical-therapy/2026-07-03/
LOCATION:Warm Water
CATEGORIES:Warm Water Pool
END:VEVENT
BEGIN:VEVENT
DTSTART;TZID=UTC:20260706T080000
DTEND;TZID=UTC:20260706T084500
DTSTAMP:20260424T210848
CREATED:20241204T174731Z
LAST-MODIFIED:20241218T170922Z
UID:6152-1783324800-1783327500@riverplex.org
SUMMARY:RiverPlex Warm Water Arthritis Class
DESCRIPTION:This class is similar to the OSF Arthritis class but is taught by RiverPlex staff. \nExercises are performed in the warm water pool. Entrance to the pool is by steps with handrails or a chair lift. Participants do not need to know how to swim.
URL:https://riverplex.org/event/riverplex-warm-water-arthritis-class/2026-07-06/
LOCATION:Warm Water
CATEGORIES:Warm Water Pool
END:VEVENT
BEGIN:VEVENT
DTSTART;TZID=America/Chicago:20260706T090000
DTEND;TZID=America/Chicago:20260706T094500
DTSTAMP:20260424T210848
CREATED:20241126T152618Z
LAST-MODIFIED:20250515T162708Z
UID:13036-1783328400-1783331100@riverplex.org
SUMMARY:OSF Arthritis
DESCRIPTION:Exercises are performed in the warm water pool. Entrance to the pool is by steps with handrails or a chair lift. Participants do not need to know how to swim. A Physician Consent form is required. Call 282-1605 to register. Pricing available for 6 week class punch cards. This class is offered several times daily.
URL:https://riverplex.org/event/osf-arthritis/2026-07-06/
LOCATION:Warm Water
CATEGORIES:Warm Water Pool
END:VEVENT
BEGIN:VEVENT
DTSTART;TZID=America/Chicago:20260706T100000
DTEND;TZID=America/Chicago:20260706T104500
DTSTAMP:20260424T210848
CREATED:20241126T152850Z
LAST-MODIFIED:20241126T152850Z
UID:13585-1783332000-1783334700@riverplex.org
SUMMARY:OSF Arthritis
DESCRIPTION:Exercises are performed in the warm water pool. Entrance to the pool is by steps with handrails or a chair lift. Participants do not need to know how to swim. A Physician Consent form is required. Call 282-1605 to register. Pricing available for 6 week class punch cards. This class is offered several times daily.
URL:https://riverplex.org/event/osf-arthritis-2/2026-07-06/
LOCATION:Warm Water
CATEGORIES:Warm Water Pool
END:VEVENT
BEGIN:VEVENT
DTSTART;TZID=America/Chicago:20260706T110000
DTEND;TZID=America/Chicago:20260706T114500
DTSTAMP:20260424T210848
CREATED:20251021T204813Z
LAST-MODIFIED:20251021T204813Z
UID:32634-1783335600-1783338300@riverplex.org
SUMMARY:OSF Arthritis
DESCRIPTION:Exercises are performed in the warm water pool. Entrance to the pool is by steps with handrails or a chair lift. Participants do not need to know how to swim. A Physician Consent form is required. Call 282-1605 to register. Pricing available for 6 week class punch cards. This class is offered several times daily.
URL:https://riverplex.org/event/osf-arthritis-3/2026-07-06/
LOCATION:Warm Water
CATEGORIES:Warm Water Pool
END:VEVENT
BEGIN:VEVENT
DTSTART;TZID=America/Chicago:20260707T090000
DTEND;TZID=America/Chicago:20260707T094500
DTSTAMP:20260424T210848
CREATED:20241126T152618Z
LAST-MODIFIED:20250515T162708Z
UID:13037-1783414800-1783417500@riverplex.org
SUMMARY:OSF Arthritis
DESCRIPTION:Exercises are performed in the warm water pool. Entrance to the pool is by steps with handrails or a chair lift. Participants do not need to know how to swim. A Physician Consent form is required. Call 282-1605 to register. Pricing available for 6 week class punch cards. This class is offered several times daily.
URL:https://riverplex.org/event/osf-arthritis/2026-07-07/
LOCATION:Warm Water
CATEGORIES:Warm Water Pool
END:VEVENT
BEGIN:VEVENT
DTSTART;TZID=America/Chicago:20260707T100000
DTEND;TZID=America/Chicago:20260707T104500
DTSTAMP:20260424T210848
CREATED:20241126T152850Z
LAST-MODIFIED:20241126T152850Z
UID:13586-1783418400-1783421100@riverplex.org
SUMMARY:OSF Arthritis
DESCRIPTION:Exercises are performed in the warm water pool. Entrance to the pool is by steps with handrails or a chair lift. Participants do not need to know how to swim. A Physician Consent form is required. Call 282-1605 to register. Pricing available for 6 week class punch cards. This class is offered several times daily.
URL:https://riverplex.org/event/osf-arthritis-2/2026-07-07/
LOCATION:Warm Water
CATEGORIES:Warm Water Pool
END:VEVENT
BEGIN:VEVENT
DTSTART;TZID=America/Chicago:20260707T110000
DTEND;TZID=America/Chicago:20260707T114500
DTSTAMP:20260424T210848
CREATED:20251021T204813Z
LAST-MODIFIED:20251021T204813Z
UID:32635-1783422000-1783424700@riverplex.org
SUMMARY:OSF Arthritis
DESCRIPTION:Exercises are performed in the warm water pool. Entrance to the pool is by steps with handrails or a chair lift. Participants do not need to know how to swim. A Physician Consent form is required. Call 282-1605 to register. Pricing available for 6 week class punch cards. This class is offered several times daily.
URL:https://riverplex.org/event/osf-arthritis-3/2026-07-07/
LOCATION:Warm Water
CATEGORIES:Warm Water Pool
END:VEVENT
BEGIN:VEVENT
DTSTART;TZID=UTC:20260708T080000
DTEND;TZID=UTC:20260708T084500
DTSTAMP:20260424T210848
CREATED:20241204T174731Z
LAST-MODIFIED:20241218T170922Z
UID:6153-1783497600-1783500300@riverplex.org
SUMMARY:RiverPlex Warm Water Arthritis Class
DESCRIPTION:This class is similar to the OSF Arthritis class but is taught by RiverPlex staff. \nExercises are performed in the warm water pool. Entrance to the pool is by steps with handrails or a chair lift. Participants do not need to know how to swim.
URL:https://riverplex.org/event/riverplex-warm-water-arthritis-class/2026-07-08/
LOCATION:Warm Water
CATEGORIES:Warm Water Pool
END:VEVENT
BEGIN:VEVENT
DTSTART;TZID=America/Chicago:20260708T090000
DTEND;TZID=America/Chicago:20260708T094500
DTSTAMP:20260424T210848
CREATED:20241126T152618Z
LAST-MODIFIED:20250515T162708Z
UID:13038-1783501200-1783503900@riverplex.org
SUMMARY:OSF Arthritis
DESCRIPTION:Exercises are performed in the warm water pool. Entrance to the pool is by steps with handrails or a chair lift. Participants do not need to know how to swim. A Physician Consent form is required. Call 282-1605 to register. Pricing available for 6 week class punch cards. This class is offered several times daily.
URL:https://riverplex.org/event/osf-arthritis/2026-07-08/
LOCATION:Warm Water
CATEGORIES:Warm Water Pool
END:VEVENT
BEGIN:VEVENT
DTSTART;TZID=America/Chicago:20260708T100000
DTEND;TZID=America/Chicago:20260708T104500
DTSTAMP:20260424T210848
CREATED:20241126T152850Z
LAST-MODIFIED:20241126T152850Z
UID:13587-1783504800-1783507500@riverplex.org
SUMMARY:OSF Arthritis
DESCRIPTION:Exercises are performed in the warm water pool. Entrance to the pool is by steps with handrails or a chair lift. Participants do not need to know how to swim. A Physician Consent form is required. Call 282-1605 to register. Pricing available for 6 week class punch cards. This class is offered several times daily.
URL:https://riverplex.org/event/osf-arthritis-2/2026-07-08/
LOCATION:Warm Water
CATEGORIES:Warm Water Pool
END:VEVENT
BEGIN:VEVENT
DTSTART;TZID=America/Chicago:20260708T110000
DTEND;TZID=America/Chicago:20260708T114500
DTSTAMP:20260424T210848
CREATED:20251021T204813Z
LAST-MODIFIED:20251021T204813Z
UID:32636-1783508400-1783511100@riverplex.org
SUMMARY:OSF Arthritis
DESCRIPTION:Exercises are performed in the warm water pool. Entrance to the pool is by steps with handrails or a chair lift. Participants do not need to know how to swim. A Physician Consent form is required. Call 282-1605 to register. Pricing available for 6 week class punch cards. This class is offered several times daily.
URL:https://riverplex.org/event/osf-arthritis-3/2026-07-08/
LOCATION:Warm Water
CATEGORIES:Warm Water Pool
END:VEVENT
BEGIN:VEVENT
DTSTART;TZID=America/Chicago:20260708T130000
DTEND;TZID=America/Chicago:20260708T163000
DTSTAMP:20260424T210848
CREATED:20241126T153252Z
LAST-MODIFIED:20241126T153252Z
UID:15031-1783515600-1783528200@riverplex.org
SUMMARY:OSF Physical Therapy
DESCRIPTION:
URL:https://riverplex.org/event/osf-physical-therapy/2026-07-08/
LOCATION:Warm Water
CATEGORIES:Warm Water Pool
END:VEVENT
BEGIN:VEVENT
DTSTART;TZID=America/Chicago:20260709T090000
DTEND;TZID=America/Chicago:20260709T094500
DTSTAMP:20260424T210848
CREATED:20241126T152618Z
LAST-MODIFIED:20250515T162708Z
UID:13039-1783587600-1783590300@riverplex.org
SUMMARY:OSF Arthritis
DESCRIPTION:Exercises are performed in the warm water pool. Entrance to the pool is by steps with handrails or a chair lift. Participants do not need to know how to swim. A Physician Consent form is required. Call 282-1605 to register. Pricing available for 6 week class punch cards. This class is offered several times daily.
URL:https://riverplex.org/event/osf-arthritis/2026-07-09/
LOCATION:Warm Water
CATEGORIES:Warm Water Pool
END:VEVENT
BEGIN:VEVENT
DTSTART;TZID=America/Chicago:20260709T100000
DTEND;TZID=America/Chicago:20260709T104500
DTSTAMP:20260424T210848
CREATED:20241126T152850Z
LAST-MODIFIED:20241126T152850Z
UID:13588-1783591200-1783593900@riverplex.org
SUMMARY:OSF Arthritis
DESCRIPTION:Exercises are performed in the warm water pool. Entrance to the pool is by steps with handrails or a chair lift. Participants do not need to know how to swim. A Physician Consent form is required. Call 282-1605 to register. Pricing available for 6 week class punch cards. This class is offered several times daily.
URL:https://riverplex.org/event/osf-arthritis-2/2026-07-09/
LOCATION:Warm Water
CATEGORIES:Warm Water Pool
END:VEVENT
BEGIN:VEVENT
DTSTART;TZID=America/Chicago:20260709T110000
DTEND;TZID=America/Chicago:20260709T114500
DTSTAMP:20260424T210848
CREATED:20251021T204813Z
LAST-MODIFIED:20251021T204813Z
UID:32637-1783594800-1783597500@riverplex.org
SUMMARY:OSF Arthritis
DESCRIPTION:Exercises are performed in the warm water pool. Entrance to the pool is by steps with handrails or a chair lift. Participants do not need to know how to swim. A Physician Consent form is required. Call 282-1605 to register. Pricing available for 6 week class punch cards. This class is offered several times daily.
URL:https://riverplex.org/event/osf-arthritis-3/2026-07-09/
LOCATION:Warm Water
CATEGORIES:Warm Water Pool
END:VEVENT
BEGIN:VEVENT
DTSTART;TZID=UTC:20260710T080000
DTEND;TZID=UTC:20260710T084500
DTSTAMP:20260424T210848
CREATED:20241204T174731Z
LAST-MODIFIED:20241218T170923Z
UID:6154-1783670400-1783673100@riverplex.org
SUMMARY:RiverPlex Warm Water Arthritis Class
DESCRIPTION:This class is similar to the OSF Arthritis class but is taught by RiverPlex staff. \nExercises are performed in the warm water pool. Entrance to the pool is by steps with handrails or a chair lift. Participants do not need to know how to swim.
URL:https://riverplex.org/event/riverplex-warm-water-arthritis-class/2026-07-10/
LOCATION:Warm Water
CATEGORIES:Warm Water Pool
END:VEVENT
BEGIN:VEVENT
DTSTART;TZID=America/Chicago:20260710T090000
DTEND;TZID=America/Chicago:20260710T094500
DTSTAMP:20260424T210848
CREATED:20241126T152618Z
LAST-MODIFIED:20250515T162708Z
UID:13040-1783674000-1783676700@riverplex.org
SUMMARY:OSF Arthritis
DESCRIPTION:Exercises are performed in the warm water pool. Entrance to the pool is by steps with handrails or a chair lift. Participants do not need to know how to swim. A Physician Consent form is required. Call 282-1605 to register. Pricing available for 6 week class punch cards. This class is offered several times daily.
URL:https://riverplex.org/event/osf-arthritis/2026-07-10/
LOCATION:Warm Water
CATEGORIES:Warm Water Pool
END:VEVENT
BEGIN:VEVENT
DTSTART;TZID=America/Chicago:20260710T100000
DTEND;TZID=America/Chicago:20260710T104500
DTSTAMP:20260424T210848
CREATED:20241126T152850Z
LAST-MODIFIED:20241126T152850Z
UID:13589-1783677600-1783680300@riverplex.org
SUMMARY:OSF Arthritis
DESCRIPTION:Exercises are performed in the warm water pool. Entrance to the pool is by steps with handrails or a chair lift. Participants do not need to know how to swim. A Physician Consent form is required. Call 282-1605 to register. Pricing available for 6 week class punch cards. This class is offered several times daily.
URL:https://riverplex.org/event/osf-arthritis-2/2026-07-10/
LOCATION:Warm Water
CATEGORIES:Warm Water Pool
END:VEVENT
BEGIN:VEVENT
DTSTART;TZID=America/Chicago:20260710T110000
DTEND;TZID=America/Chicago:20260710T114500
DTSTAMP:20260424T210848
CREATED:20251021T204813Z
LAST-MODIFIED:20251021T204813Z
UID:32638-1783681200-1783683900@riverplex.org
SUMMARY:OSF Arthritis
DESCRIPTION:Exercises are performed in the warm water pool. Entrance to the pool is by steps with handrails or a chair lift. Participants do not need to know how to swim. A Physician Consent form is required. Call 282-1605 to register. Pricing available for 6 week class punch cards. This class is offered several times daily.
URL:https://riverplex.org/event/osf-arthritis-3/2026-07-10/
LOCATION:Warm Water
CATEGORIES:Warm Water Pool
END:VEVENT
BEGIN:VEVENT
DTSTART;TZID=America/Chicago:20260710T130000
DTEND;TZID=America/Chicago:20260710T163000
DTSTAMP:20260424T210848
CREATED:20241126T153252Z
LAST-MODIFIED:20241126T153252Z
UID:15032-1783688400-1783701000@riverplex.org
SUMMARY:OSF Physical Therapy
DESCRIPTION:
URL:https://riverplex.org/event/osf-physical-therapy/2026-07-10/
LOCATION:Warm Water
CATEGORIES:Warm Water Pool
END:VEVENT
BEGIN:VEVENT
DTSTART;TZID=UTC:20260713T080000
DTEND;TZID=UTC:20260713T084500
DTSTAMP:20260424T210848
CREATED:20241204T174731Z
LAST-MODIFIED:20241218T170923Z
UID:6155-1783929600-1783932300@riverplex.org
SUMMARY:RiverPlex Warm Water Arthritis Class
DESCRIPTION:This class is similar to the OSF Arthritis class but is taught by RiverPlex staff. \nExercises are performed in the warm water pool. Entrance to the pool is by steps with handrails or a chair lift. Participants do not need to know how to swim.
URL:https://riverplex.org/event/riverplex-warm-water-arthritis-class/2026-07-13/
LOCATION:Warm Water
CATEGORIES:Warm Water Pool
END:VEVENT
END:VCALENDAR