BEGIN:VCALENDAR
VERSION:2.0
PRODID:-//RiverPlex - ECPv6.15.18//NONSGML v1.0//EN
CALSCALE:GREGORIAN
METHOD:PUBLISH
X-WR-CALNAME:RiverPlex
X-ORIGINAL-URL:https://riverplex.org
X-WR-CALDESC:Events for RiverPlex
REFRESH-INTERVAL;VALUE=DURATION:PT1H
X-Robots-Tag:noindex
X-PUBLISHED-TTL:PT1H
BEGIN:VTIMEZONE
TZID:America/Chicago
BEGIN:DAYLIGHT
TZOFFSETFROM:-0600
TZOFFSETTO:-0500
TZNAME:CDT
DTSTART:20270314T080000
END:DAYLIGHT
BEGIN:STANDARD
TZOFFSETFROM:-0500
TZOFFSETTO:-0600
TZNAME:CST
DTSTART:20271107T070000
END:STANDARD
BEGIN:DAYLIGHT
TZOFFSETFROM:-0600
TZOFFSETTO:-0500
TZNAME:CDT
DTSTART:20280312T080000
END:DAYLIGHT
BEGIN:STANDARD
TZOFFSETFROM:-0500
TZOFFSETTO:-0600
TZNAME:CST
DTSTART:20281105T070000
END:STANDARD
BEGIN:DAYLIGHT
TZOFFSETFROM:-0600
TZOFFSETTO:-0500
TZNAME:CDT
DTSTART:20290311T080000
END:DAYLIGHT
BEGIN:STANDARD
TZOFFSETFROM:-0500
TZOFFSETTO:-0600
TZNAME:CST
DTSTART:20291104T070000
END:STANDARD
END:VTIMEZONE
BEGIN:VTIMEZONE
TZID:UTC
BEGIN:STANDARD
TZOFFSETFROM:+0000
TZOFFSETTO:+0000
TZNAME:UTC
DTSTART:20270101T000000
END:STANDARD
END:VTIMEZONE
BEGIN:VEVENT
DTSTART;TZID=America/Chicago:20280317T160000
DTEND;TZID=America/Chicago:20280317T184500
DTSTAMP:20260423T233219
CREATED:20241126T144856Z
LAST-MODIFIED:20241126T144856Z
UID:36415-1836921600-1836931500@riverplex.org
SUMMARY:Kids Pool Open Swim
DESCRIPTION:
URL:https://riverplex.org/event/kids-pool-open-swim-2/2028-03-17/
LOCATION:Lap & Class Pool
CATEGORIES:Lap & Class Pool,Lazy River
END:VEVENT
BEGIN:VEVENT
DTSTART;TZID=America/Chicago:20280318T110000
DTEND;TZID=America/Chicago:20280318T154500
DTSTAMP:20260423T233219
CREATED:20250818T183809Z
LAST-MODIFIED:20250818T183809Z
UID:36431-1836990000-1837007100@riverplex.org
SUMMARY:Kids Pool Open Swim
DESCRIPTION:
URL:https://riverplex.org/event/kids-pool-open-swim-5/2028-03-18/
LOCATION:Lazy River
CATEGORIES:Lap & Class Pool,Lazy River
END:VEVENT
BEGIN:VEVENT
DTSTART;TZID=UTC:20280320T090000
DTEND;TZID=UTC:20280320T110000
DTSTAMP:20260423T233219
CREATED:20250818T183055Z
LAST-MODIFIED:20250818T183055Z
UID:36446-1837155600-1837162800@riverplex.org
SUMMARY:PreSchool Splash
DESCRIPTION:Join us for this parent-child open time in the leisure pool. Children ages 0–5 enjoy the splash features and play stations with a parent/guardian who is dressed to swim. There is no charge for adults\, but you must be in the water with your child. \n\nAges 0-5\nMonday and Wednesday\, 9-11 am\nNo registration needed\n\nFree for Members – NonMembers $5/child – Adults free with child admission
URL:https://riverplex.org/event/preschool-splash-2/2028-03-20/
LOCATION:Lazy River
CATEGORIES:Lazy River
END:VEVENT
BEGIN:VEVENT
DTSTART;TZID=UTC:20280322T090000
DTEND;TZID=UTC:20280322T110000
DTSTAMP:20260423T233219
CREATED:20250818T183055Z
LAST-MODIFIED:20250818T183055Z
UID:36478-1837328400-1837335600@riverplex.org
SUMMARY:PreSchool Splash
DESCRIPTION:Join us for this parent-child open time in the leisure pool. Children ages 0–5 enjoy the splash features and play stations with a parent/guardian who is dressed to swim. There is no charge for adults\, but you must be in the water with your child. \n\nAges 0-5\nMonday and Wednesday\, 9-11 am\nNo registration needed\n\nFree for Members – NonMembers $5/child – Adults free with child admission
URL:https://riverplex.org/event/preschool-splash-2/2028-03-22/
LOCATION:Lazy River
CATEGORIES:Lazy River
END:VEVENT
BEGIN:VEVENT
DTSTART;TZID=America/Chicago:20280324T160000
DTEND;TZID=America/Chicago:20280324T184500
DTSTAMP:20260423T233219
CREATED:20241126T144856Z
LAST-MODIFIED:20241126T144856Z
UID:36806-1837526400-1837536300@riverplex.org
SUMMARY:Kids Pool Open Swim
DESCRIPTION:
URL:https://riverplex.org/event/kids-pool-open-swim-2/2028-03-24/
LOCATION:Lap & Class Pool
CATEGORIES:Lap & Class Pool,Lazy River
END:VEVENT
BEGIN:VEVENT
DTSTART;TZID=America/Chicago:20280325T110000
DTEND;TZID=America/Chicago:20280325T154500
DTSTAMP:20260423T233219
CREATED:20250818T183809Z
LAST-MODIFIED:20250818T183809Z
UID:36821-1837594800-1837611900@riverplex.org
SUMMARY:Kids Pool Open Swim
DESCRIPTION:
URL:https://riverplex.org/event/kids-pool-open-swim-5/2028-03-25/
LOCATION:Lazy River
CATEGORIES:Lap & Class Pool,Lazy River
END:VEVENT
BEGIN:VEVENT
DTSTART;TZID=UTC:20280327T090000
DTEND;TZID=UTC:20280327T110000
DTSTAMP:20260423T233219
CREATED:20250818T183055Z
LAST-MODIFIED:20250818T183055Z
UID:36843-1837760400-1837767600@riverplex.org
SUMMARY:PreSchool Splash
DESCRIPTION:Join us for this parent-child open time in the leisure pool. Children ages 0–5 enjoy the splash features and play stations with a parent/guardian who is dressed to swim. There is no charge for adults\, but you must be in the water with your child. \n\nAges 0-5\nMonday and Wednesday\, 9-11 am\nNo registration needed\n\nFree for Members – NonMembers $5/child – Adults free with child admission
URL:https://riverplex.org/event/preschool-splash-2/2028-03-27/
LOCATION:Lazy River
CATEGORIES:Lazy River
END:VEVENT
BEGIN:VEVENT
DTSTART;TZID=UTC:20280329T090000
DTEND;TZID=UTC:20280329T110000
DTSTAMP:20260423T233219
CREATED:20250818T183055Z
LAST-MODIFIED:20250818T183055Z
UID:36875-1837933200-1837940400@riverplex.org
SUMMARY:PreSchool Splash
DESCRIPTION:Join us for this parent-child open time in the leisure pool. Children ages 0–5 enjoy the splash features and play stations with a parent/guardian who is dressed to swim. There is no charge for adults\, but you must be in the water with your child. \n\nAges 0-5\nMonday and Wednesday\, 9-11 am\nNo registration needed\n\nFree for Members – NonMembers $5/child – Adults free with child admission
URL:https://riverplex.org/event/preschool-splash-2/2028-03-29/
LOCATION:Lazy River
CATEGORIES:Lazy River
END:VEVENT
BEGIN:VEVENT
DTSTART;TZID=America/Chicago:20280331T160000
DTEND;TZID=America/Chicago:20280331T184500
DTSTAMP:20260423T233219
CREATED:20241126T144856Z
LAST-MODIFIED:20241126T144856Z
UID:36897-1838131200-1838141100@riverplex.org
SUMMARY:Kids Pool Open Swim
DESCRIPTION:
URL:https://riverplex.org/event/kids-pool-open-swim-2/2028-03-31/
LOCATION:Lap & Class Pool
CATEGORIES:Lap & Class Pool,Lazy River
END:VEVENT
BEGIN:VEVENT
DTSTART;TZID=America/Chicago:20280401T110000
DTEND;TZID=America/Chicago:20280401T154500
DTSTAMP:20260423T233219
CREATED:20250818T183809Z
LAST-MODIFIED:20250818T183809Z
UID:36917-1838199600-1838216700@riverplex.org
SUMMARY:Kids Pool Open Swim
DESCRIPTION:
URL:https://riverplex.org/event/kids-pool-open-swim-5/2028-04-01/
LOCATION:Lazy River
CATEGORIES:Lap & Class Pool,Lazy River
END:VEVENT
BEGIN:VEVENT
DTSTART;TZID=UTC:20280403T090000
DTEND;TZID=UTC:20280403T110000
DTSTAMP:20260423T233219
CREATED:20250818T183055Z
LAST-MODIFIED:20250818T183055Z
UID:36934-1838365200-1838372400@riverplex.org
SUMMARY:PreSchool Splash
DESCRIPTION:Join us for this parent-child open time in the leisure pool. Children ages 0–5 enjoy the splash features and play stations with a parent/guardian who is dressed to swim. There is no charge for adults\, but you must be in the water with your child. \n\nAges 0-5\nMonday and Wednesday\, 9-11 am\nNo registration needed\n\nFree for Members – NonMembers $5/child – Adults free with child admission
URL:https://riverplex.org/event/preschool-splash-2/2028-04-03/
LOCATION:Lazy River
CATEGORIES:Lazy River
END:VEVENT
BEGIN:VEVENT
DTSTART;TZID=UTC:20280405T090000
DTEND;TZID=UTC:20280405T110000
DTSTAMP:20260423T233219
CREATED:20250818T183055Z
LAST-MODIFIED:20250818T183055Z
UID:36966-1838538000-1838545200@riverplex.org
SUMMARY:PreSchool Splash
DESCRIPTION:Join us for this parent-child open time in the leisure pool. Children ages 0–5 enjoy the splash features and play stations with a parent/guardian who is dressed to swim. There is no charge for adults\, but you must be in the water with your child. \n\nAges 0-5\nMonday and Wednesday\, 9-11 am\nNo registration needed\n\nFree for Members – NonMembers $5/child – Adults free with child admission
URL:https://riverplex.org/event/preschool-splash-2/2028-04-05/
LOCATION:Lazy River
CATEGORIES:Lazy River
END:VEVENT
BEGIN:VEVENT
DTSTART;TZID=America/Chicago:20280407T160000
DTEND;TZID=America/Chicago:20280407T184500
DTSTAMP:20260423T233219
CREATED:20241126T144856Z
LAST-MODIFIED:20241126T144856Z
UID:37371-1838736000-1838745900@riverplex.org
SUMMARY:Kids Pool Open Swim
DESCRIPTION:
URL:https://riverplex.org/event/kids-pool-open-swim-2/2028-04-07/
LOCATION:Lap & Class Pool
CATEGORIES:Lap & Class Pool,Lazy River
END:VEVENT
BEGIN:VEVENT
DTSTART;TZID=America/Chicago:20280408T110000
DTEND;TZID=America/Chicago:20280408T154500
DTSTAMP:20260423T233219
CREATED:20250818T183809Z
LAST-MODIFIED:20250818T183809Z
UID:37388-1838804400-1838821500@riverplex.org
SUMMARY:Kids Pool Open Swim
DESCRIPTION:
URL:https://riverplex.org/event/kids-pool-open-swim-5/2028-04-08/
LOCATION:Lazy River
CATEGORIES:Lap & Class Pool,Lazy River
END:VEVENT
BEGIN:VEVENT
DTSTART;TZID=UTC:20280410T090000
DTEND;TZID=UTC:20280410T110000
DTSTAMP:20260423T233219
CREATED:20250818T183055Z
LAST-MODIFIED:20250818T183055Z
UID:37716-1838970000-1838977200@riverplex.org
SUMMARY:PreSchool Splash
DESCRIPTION:Join us for this parent-child open time in the leisure pool. Children ages 0–5 enjoy the splash features and play stations with a parent/guardian who is dressed to swim. There is no charge for adults\, but you must be in the water with your child. \n\nAges 0-5\nMonday and Wednesday\, 9-11 am\nNo registration needed\n\nFree for Members – NonMembers $5/child – Adults free with child admission
URL:https://riverplex.org/event/preschool-splash-2/2028-04-10/
LOCATION:Lazy River
CATEGORIES:Lazy River
END:VEVENT
BEGIN:VEVENT
DTSTART;TZID=UTC:20280412T090000
DTEND;TZID=UTC:20280412T110000
DTSTAMP:20260423T233219
CREATED:20250818T183055Z
LAST-MODIFIED:20250818T183055Z
UID:37747-1839142800-1839150000@riverplex.org
SUMMARY:PreSchool Splash
DESCRIPTION:Join us for this parent-child open time in the leisure pool. Children ages 0–5 enjoy the splash features and play stations with a parent/guardian who is dressed to swim. There is no charge for adults\, but you must be in the water with your child. \n\nAges 0-5\nMonday and Wednesday\, 9-11 am\nNo registration needed\n\nFree for Members – NonMembers $5/child – Adults free with child admission
URL:https://riverplex.org/event/preschool-splash-2/2028-04-12/
LOCATION:Lazy River
CATEGORIES:Lazy River
END:VEVENT
BEGIN:VEVENT
DTSTART;TZID=America/Chicago:20280414T160000
DTEND;TZID=America/Chicago:20280414T184500
DTSTAMP:20260423T233219
CREATED:20241126T144856Z
LAST-MODIFIED:20241126T144856Z
UID:37770-1839340800-1839350700@riverplex.org
SUMMARY:Kids Pool Open Swim
DESCRIPTION:
URL:https://riverplex.org/event/kids-pool-open-swim-2/2028-04-14/
LOCATION:Lap & Class Pool
CATEGORIES:Lap & Class Pool,Lazy River
END:VEVENT
BEGIN:VEVENT
DTSTART;TZID=America/Chicago:20280415T110000
DTEND;TZID=America/Chicago:20280415T154500
DTSTAMP:20260423T233219
CREATED:20250818T183809Z
LAST-MODIFIED:20250818T183809Z
UID:37786-1839409200-1839426300@riverplex.org
SUMMARY:Kids Pool Open Swim
DESCRIPTION:
URL:https://riverplex.org/event/kids-pool-open-swim-5/2028-04-15/
LOCATION:Lazy River
CATEGORIES:Lap & Class Pool,Lazy River
END:VEVENT
BEGIN:VEVENT
DTSTART;TZID=UTC:20280417T090000
DTEND;TZID=UTC:20280417T110000
DTSTAMP:20260423T233219
CREATED:20250818T183055Z
LAST-MODIFIED:20250818T183055Z
UID:37801-1839574800-1839582000@riverplex.org
SUMMARY:PreSchool Splash
DESCRIPTION:Join us for this parent-child open time in the leisure pool. Children ages 0–5 enjoy the splash features and play stations with a parent/guardian who is dressed to swim. There is no charge for adults\, but you must be in the water with your child. \n\nAges 0-5\nMonday and Wednesday\, 9-11 am\nNo registration needed\n\nFree for Members – NonMembers $5/child – Adults free with child admission
URL:https://riverplex.org/event/preschool-splash-2/2028-04-17/
LOCATION:Lazy River
CATEGORIES:Lazy River
END:VEVENT
BEGIN:VEVENT
DTSTART;TZID=UTC:20280419T090000
DTEND;TZID=UTC:20280419T110000
DTSTAMP:20260423T233219
CREATED:20250818T183055Z
LAST-MODIFIED:20250818T183055Z
UID:37832-1839747600-1839754800@riverplex.org
SUMMARY:PreSchool Splash
DESCRIPTION:Join us for this parent-child open time in the leisure pool. Children ages 0–5 enjoy the splash features and play stations with a parent/guardian who is dressed to swim. There is no charge for adults\, but you must be in the water with your child. \n\nAges 0-5\nMonday and Wednesday\, 9-11 am\nNo registration needed\n\nFree for Members – NonMembers $5/child – Adults free with child admission
URL:https://riverplex.org/event/preschool-splash-2/2028-04-19/
LOCATION:Lazy River
CATEGORIES:Lazy River
END:VEVENT
BEGIN:VEVENT
DTSTART;TZID=America/Chicago:20280421T160000
DTEND;TZID=America/Chicago:20280421T184500
DTSTAMP:20260423T233219
CREATED:20241126T144856Z
LAST-MODIFIED:20241126T144856Z
UID:37853-1839945600-1839955500@riverplex.org
SUMMARY:Kids Pool Open Swim
DESCRIPTION:
URL:https://riverplex.org/event/kids-pool-open-swim-2/2028-04-21/
LOCATION:Lap & Class Pool
CATEGORIES:Lap & Class Pool,Lazy River
END:VEVENT
BEGIN:VEVENT
DTSTART;TZID=America/Chicago:20280422T110000
DTEND;TZID=America/Chicago:20280422T154500
DTSTAMP:20260423T233219
CREATED:20250818T183809Z
LAST-MODIFIED:20250818T183809Z
UID:37868-1840014000-1840031100@riverplex.org
SUMMARY:Kids Pool Open Swim
DESCRIPTION:
URL:https://riverplex.org/event/kids-pool-open-swim-5/2028-04-22/
LOCATION:Lazy River
CATEGORIES:Lap & Class Pool,Lazy River
END:VEVENT
END:VCALENDAR