BEGIN:VCALENDAR
VERSION:2.0
PRODID:-//RiverPlex - ECPv6.15.18//NONSGML v1.0//EN
CALSCALE:GREGORIAN
METHOD:PUBLISH
X-ORIGINAL-URL:https://riverplex.org
X-WR-CALDESC:Events for RiverPlex
REFRESH-INTERVAL;VALUE=DURATION:PT1H
X-Robots-Tag:noindex
X-PUBLISHED-TTL:PT1H
BEGIN:VTIMEZONE
TZID:America/Chicago
BEGIN:DAYLIGHT
TZOFFSETFROM:-0600
TZOFFSETTO:-0500
TZNAME:CDT
DTSTART:20270314T080000
END:DAYLIGHT
BEGIN:STANDARD
TZOFFSETFROM:-0500
TZOFFSETTO:-0600
TZNAME:CST
DTSTART:20271107T070000
END:STANDARD
BEGIN:DAYLIGHT
TZOFFSETFROM:-0600
TZOFFSETTO:-0500
TZNAME:CDT
DTSTART:20280312T080000
END:DAYLIGHT
BEGIN:STANDARD
TZOFFSETFROM:-0500
TZOFFSETTO:-0600
TZNAME:CST
DTSTART:20281105T070000
END:STANDARD
BEGIN:DAYLIGHT
TZOFFSETFROM:-0600
TZOFFSETTO:-0500
TZNAME:CDT
DTSTART:20290311T080000
END:DAYLIGHT
BEGIN:STANDARD
TZOFFSETFROM:-0500
TZOFFSETTO:-0600
TZNAME:CST
DTSTART:20291104T070000
END:STANDARD
END:VTIMEZONE
BEGIN:VTIMEZONE
TZID:UTC
BEGIN:STANDARD
TZOFFSETFROM:+0000
TZOFFSETTO:+0000
TZNAME:UTC
DTSTART:20270101T000000
END:STANDARD
END:VTIMEZONE
BEGIN:VEVENT
DTSTART;TZID=America/Chicago:20280114T160000
DTEND;TZID=America/Chicago:20280114T184500
DTSTAMP:20260423T190402
CREATED:20241126T144856Z
LAST-MODIFIED:20241126T144856Z
UID:35301-1831478400-1831488300@riverplex.org
SUMMARY:Kids Pool Open Swim
DESCRIPTION:
URL:https://riverplex.org/event/kids-pool-open-swim-2/2028-01-14/
LOCATION:Lap & Class Pool
CATEGORIES:Lap & Class Pool,Lazy River
END:VEVENT
BEGIN:VEVENT
DTSTART;TZID=America/Chicago:20280115T110000
DTEND;TZID=America/Chicago:20280115T154500
DTSTAMP:20260423T190402
CREATED:20250818T183809Z
LAST-MODIFIED:20250818T183809Z
UID:35317-1831546800-1831563900@riverplex.org
SUMMARY:Kids Pool Open Swim
DESCRIPTION:
URL:https://riverplex.org/event/kids-pool-open-swim-5/2028-01-15/
LOCATION:Lazy River
CATEGORIES:Lap & Class Pool,Lazy River
END:VEVENT
BEGIN:VEVENT
DTSTART;TZID=UTC:20280117T090000
DTEND;TZID=UTC:20280117T110000
DTSTAMP:20260423T190402
CREATED:20250818T183055Z
LAST-MODIFIED:20250818T183055Z
UID:35332-1831712400-1831719600@riverplex.org
SUMMARY:PreSchool Splash
DESCRIPTION:Join us for this parent-child open time in the leisure pool. Children ages 0–5 enjoy the splash features and play stations with a parent/guardian who is dressed to swim. There is no charge for adults\, but you must be in the water with your child. \n\nAges 0-5\nMonday and Wednesday\, 9-11 am\nNo registration needed\n\nFree for Members – NonMembers $5/child – Adults free with child admission
URL:https://riverplex.org/event/preschool-splash-2/2028-01-17/
LOCATION:Lazy River
CATEGORIES:Lazy River
END:VEVENT
BEGIN:VEVENT
DTSTART;TZID=UTC:20280119T090000
DTEND;TZID=UTC:20280119T110000
DTSTAMP:20260423T190402
CREATED:20250818T183055Z
LAST-MODIFIED:20250818T183055Z
UID:35362-1831885200-1831892400@riverplex.org
SUMMARY:PreSchool Splash
DESCRIPTION:Join us for this parent-child open time in the leisure pool. Children ages 0–5 enjoy the splash features and play stations with a parent/guardian who is dressed to swim. There is no charge for adults\, but you must be in the water with your child. \n\nAges 0-5\nMonday and Wednesday\, 9-11 am\nNo registration needed\n\nFree for Members – NonMembers $5/child – Adults free with child admission
URL:https://riverplex.org/event/preschool-splash-2/2028-01-19/
LOCATION:Lazy River
CATEGORIES:Lazy River
END:VEVENT
BEGIN:VEVENT
DTSTART;TZID=America/Chicago:20280121T160000
DTEND;TZID=America/Chicago:20280121T184500
DTSTAMP:20260423T190402
CREATED:20241126T144856Z
LAST-MODIFIED:20241126T144856Z
UID:35387-1832083200-1832093100@riverplex.org
SUMMARY:Kids Pool Open Swim
DESCRIPTION:
URL:https://riverplex.org/event/kids-pool-open-swim-2/2028-01-21/
LOCATION:Lap & Class Pool
CATEGORIES:Lap & Class Pool,Lazy River
END:VEVENT
BEGIN:VEVENT
DTSTART;TZID=America/Chicago:20280122T110000
DTEND;TZID=America/Chicago:20280122T154500
DTSTAMP:20260423T190402
CREATED:20250818T183809Z
LAST-MODIFIED:20250818T183809Z
UID:35403-1832151600-1832168700@riverplex.org
SUMMARY:Kids Pool Open Swim
DESCRIPTION:
URL:https://riverplex.org/event/kids-pool-open-swim-5/2028-01-22/
LOCATION:Lazy River
CATEGORIES:Lap & Class Pool,Lazy River
END:VEVENT
BEGIN:VEVENT
DTSTART;TZID=UTC:20280124T090000
DTEND;TZID=UTC:20280124T110000
DTSTAMP:20260423T190402
CREATED:20250818T183055Z
LAST-MODIFIED:20250818T183055Z
UID:35418-1832317200-1832324400@riverplex.org
SUMMARY:PreSchool Splash
DESCRIPTION:Join us for this parent-child open time in the leisure pool. Children ages 0–5 enjoy the splash features and play stations with a parent/guardian who is dressed to swim. There is no charge for adults\, but you must be in the water with your child. \n\nAges 0-5\nMonday and Wednesday\, 9-11 am\nNo registration needed\n\nFree for Members – NonMembers $5/child – Adults free with child admission
URL:https://riverplex.org/event/preschool-splash-2/2028-01-24/
LOCATION:Lazy River
CATEGORIES:Lazy River
END:VEVENT
BEGIN:VEVENT
DTSTART;TZID=UTC:20280126T090000
DTEND;TZID=UTC:20280126T110000
DTSTAMP:20260423T190402
CREATED:20250818T183055Z
LAST-MODIFIED:20250818T183055Z
UID:35448-1832490000-1832497200@riverplex.org
SUMMARY:PreSchool Splash
DESCRIPTION:Join us for this parent-child open time in the leisure pool. Children ages 0–5 enjoy the splash features and play stations with a parent/guardian who is dressed to swim. There is no charge for adults\, but you must be in the water with your child. \n\nAges 0-5\nMonday and Wednesday\, 9-11 am\nNo registration needed\n\nFree for Members – NonMembers $5/child – Adults free with child admission
URL:https://riverplex.org/event/preschool-splash-2/2028-01-26/
LOCATION:Lazy River
CATEGORIES:Lazy River
END:VEVENT
BEGIN:VEVENT
DTSTART;TZID=America/Chicago:20280128T160000
DTEND;TZID=America/Chicago:20280128T184500
DTSTAMP:20260423T190402
CREATED:20241126T144856Z
LAST-MODIFIED:20241126T144856Z
UID:35470-1832688000-1832697900@riverplex.org
SUMMARY:Kids Pool Open Swim
DESCRIPTION:
URL:https://riverplex.org/event/kids-pool-open-swim-2/2028-01-28/
LOCATION:Lap & Class Pool
CATEGORIES:Lap & Class Pool,Lazy River
END:VEVENT
BEGIN:VEVENT
DTSTART;TZID=America/Chicago:20280129T110000
DTEND;TZID=America/Chicago:20280129T154500
DTSTAMP:20260423T190402
CREATED:20250818T183809Z
LAST-MODIFIED:20250818T183809Z
UID:35486-1832756400-1832773500@riverplex.org
SUMMARY:Kids Pool Open Swim
DESCRIPTION:
URL:https://riverplex.org/event/kids-pool-open-swim-5/2028-01-29/
LOCATION:Lazy River
CATEGORIES:Lap & Class Pool,Lazy River
END:VEVENT
BEGIN:VEVENT
DTSTART;TZID=UTC:20280131T090000
DTEND;TZID=UTC:20280131T110000
DTSTAMP:20260423T190402
CREATED:20250818T183055Z
LAST-MODIFIED:20250818T183055Z
UID:35501-1832922000-1832929200@riverplex.org
SUMMARY:PreSchool Splash
DESCRIPTION:Join us for this parent-child open time in the leisure pool. Children ages 0–5 enjoy the splash features and play stations with a parent/guardian who is dressed to swim. There is no charge for adults\, but you must be in the water with your child. \n\nAges 0-5\nMonday and Wednesday\, 9-11 am\nNo registration needed\n\nFree for Members – NonMembers $5/child – Adults free with child admission
URL:https://riverplex.org/event/preschool-splash-2/2028-01-31/
LOCATION:Lazy River
CATEGORIES:Lazy River
END:VEVENT
BEGIN:VEVENT
DTSTART;TZID=UTC:20280202T090000
DTEND;TZID=UTC:20280202T110000
DTSTAMP:20260423T190402
CREATED:20250818T183055Z
LAST-MODIFIED:20250818T183055Z
UID:35531-1833094800-1833102000@riverplex.org
SUMMARY:PreSchool Splash
DESCRIPTION:Join us for this parent-child open time in the leisure pool. Children ages 0–5 enjoy the splash features and play stations with a parent/guardian who is dressed to swim. There is no charge for adults\, but you must be in the water with your child. \n\nAges 0-5\nMonday and Wednesday\, 9-11 am\nNo registration needed\n\nFree for Members – NonMembers $5/child – Adults free with child admission
URL:https://riverplex.org/event/preschool-splash-2/2028-02-02/
LOCATION:Lazy River
CATEGORIES:Lazy River
END:VEVENT
BEGIN:VEVENT
DTSTART;TZID=America/Chicago:20280204T160000
DTEND;TZID=America/Chicago:20280204T184500
DTSTAMP:20260423T190402
CREATED:20241126T144856Z
LAST-MODIFIED:20241126T144856Z
UID:35553-1833292800-1833302700@riverplex.org
SUMMARY:Kids Pool Open Swim
DESCRIPTION:
URL:https://riverplex.org/event/kids-pool-open-swim-2/2028-02-04/
LOCATION:Lap & Class Pool
CATEGORIES:Lap & Class Pool,Lazy River
END:VEVENT
BEGIN:VEVENT
DTSTART;TZID=America/Chicago:20280205T110000
DTEND;TZID=America/Chicago:20280205T154500
DTSTAMP:20260423T190402
CREATED:20250818T183809Z
LAST-MODIFIED:20250818T183809Z
UID:35569-1833361200-1833378300@riverplex.org
SUMMARY:Kids Pool Open Swim
DESCRIPTION:
URL:https://riverplex.org/event/kids-pool-open-swim-5/2028-02-05/
LOCATION:Lazy River
CATEGORIES:Lap & Class Pool,Lazy River
END:VEVENT
BEGIN:VEVENT
DTSTART;TZID=UTC:20280207T090000
DTEND;TZID=UTC:20280207T110000
DTSTAMP:20260423T190402
CREATED:20250818T183055Z
LAST-MODIFIED:20250818T183055Z
UID:35584-1833526800-1833534000@riverplex.org
SUMMARY:PreSchool Splash
DESCRIPTION:Join us for this parent-child open time in the leisure pool. Children ages 0–5 enjoy the splash features and play stations with a parent/guardian who is dressed to swim. There is no charge for adults\, but you must be in the water with your child. \n\nAges 0-5\nMonday and Wednesday\, 9-11 am\nNo registration needed\n\nFree for Members – NonMembers $5/child – Adults free with child admission
URL:https://riverplex.org/event/preschool-splash-2/2028-02-07/
LOCATION:Lazy River
CATEGORIES:Lazy River
END:VEVENT
BEGIN:VEVENT
DTSTART;TZID=UTC:20280209T090000
DTEND;TZID=UTC:20280209T110000
DTSTAMP:20260423T190402
CREATED:20250818T183055Z
LAST-MODIFIED:20250818T183055Z
UID:35614-1833699600-1833706800@riverplex.org
SUMMARY:PreSchool Splash
DESCRIPTION:Join us for this parent-child open time in the leisure pool. Children ages 0–5 enjoy the splash features and play stations with a parent/guardian who is dressed to swim. There is no charge for adults\, but you must be in the water with your child. \n\nAges 0-5\nMonday and Wednesday\, 9-11 am\nNo registration needed\n\nFree for Members – NonMembers $5/child – Adults free with child admission
URL:https://riverplex.org/event/preschool-splash-2/2028-02-09/
LOCATION:Lazy River
CATEGORIES:Lazy River
END:VEVENT
BEGIN:VEVENT
DTSTART;TZID=America/Chicago:20280211T160000
DTEND;TZID=America/Chicago:20280211T184500
DTSTAMP:20260423T190402
CREATED:20241126T144856Z
LAST-MODIFIED:20241126T144856Z
UID:35653-1833897600-1833907500@riverplex.org
SUMMARY:Kids Pool Open Swim
DESCRIPTION:
URL:https://riverplex.org/event/kids-pool-open-swim-2/2028-02-11/
LOCATION:Lap & Class Pool
CATEGORIES:Lap & Class Pool,Lazy River
END:VEVENT
BEGIN:VEVENT
DTSTART;TZID=America/Chicago:20280212T110000
DTEND;TZID=America/Chicago:20280212T154500
DTSTAMP:20260423T190402
CREATED:20250818T183809Z
LAST-MODIFIED:20250818T183809Z
UID:35669-1833966000-1833983100@riverplex.org
SUMMARY:Kids Pool Open Swim
DESCRIPTION:
URL:https://riverplex.org/event/kids-pool-open-swim-5/2028-02-12/
LOCATION:Lazy River
CATEGORIES:Lap & Class Pool,Lazy River
END:VEVENT
BEGIN:VEVENT
DTSTART;TZID=UTC:20280214T090000
DTEND;TZID=UTC:20280214T110000
DTSTAMP:20260423T190402
CREATED:20250818T183055Z
LAST-MODIFIED:20250818T183055Z
UID:35684-1834131600-1834138800@riverplex.org
SUMMARY:PreSchool Splash
DESCRIPTION:Join us for this parent-child open time in the leisure pool. Children ages 0–5 enjoy the splash features and play stations with a parent/guardian who is dressed to swim. There is no charge for adults\, but you must be in the water with your child. \n\nAges 0-5\nMonday and Wednesday\, 9-11 am\nNo registration needed\n\nFree for Members – NonMembers $5/child – Adults free with child admission
URL:https://riverplex.org/event/preschool-splash-2/2028-02-14/
LOCATION:Lazy River
CATEGORIES:Lazy River
END:VEVENT
BEGIN:VEVENT
DTSTART;TZID=UTC:20280216T090000
DTEND;TZID=UTC:20280216T110000
DTSTAMP:20260423T190402
CREATED:20250818T183055Z
LAST-MODIFIED:20250818T183055Z
UID:35714-1834304400-1834311600@riverplex.org
SUMMARY:PreSchool Splash
DESCRIPTION:Join us for this parent-child open time in the leisure pool. Children ages 0–5 enjoy the splash features and play stations with a parent/guardian who is dressed to swim. There is no charge for adults\, but you must be in the water with your child. \n\nAges 0-5\nMonday and Wednesday\, 9-11 am\nNo registration needed\n\nFree for Members – NonMembers $5/child – Adults free with child admission
URL:https://riverplex.org/event/preschool-splash-2/2028-02-16/
LOCATION:Lazy River
CATEGORIES:Lazy River
END:VEVENT
BEGIN:VEVENT
DTSTART;TZID=America/Chicago:20280218T160000
DTEND;TZID=America/Chicago:20280218T184500
DTSTAMP:20260423T190402
CREATED:20241126T144856Z
LAST-MODIFIED:20241126T144856Z
UID:35739-1834502400-1834512300@riverplex.org
SUMMARY:Kids Pool Open Swim
DESCRIPTION:
URL:https://riverplex.org/event/kids-pool-open-swim-2/2028-02-18/
LOCATION:Lap & Class Pool
CATEGORIES:Lap & Class Pool,Lazy River
END:VEVENT
BEGIN:VEVENT
DTSTART;TZID=America/Chicago:20280219T110000
DTEND;TZID=America/Chicago:20280219T154500
DTSTAMP:20260423T190402
CREATED:20250818T183809Z
LAST-MODIFIED:20250818T183809Z
UID:35755-1834570800-1834587900@riverplex.org
SUMMARY:Kids Pool Open Swim
DESCRIPTION:
URL:https://riverplex.org/event/kids-pool-open-swim-5/2028-02-19/
LOCATION:Lazy River
CATEGORIES:Lap & Class Pool,Lazy River
END:VEVENT
BEGIN:VEVENT
DTSTART;TZID=UTC:20280221T090000
DTEND;TZID=UTC:20280221T110000
DTSTAMP:20260423T190402
CREATED:20250818T183055Z
LAST-MODIFIED:20250818T183055Z
UID:35770-1834736400-1834743600@riverplex.org
SUMMARY:PreSchool Splash
DESCRIPTION:Join us for this parent-child open time in the leisure pool. Children ages 0–5 enjoy the splash features and play stations with a parent/guardian who is dressed to swim. There is no charge for adults\, but you must be in the water with your child. \n\nAges 0-5\nMonday and Wednesday\, 9-11 am\nNo registration needed\n\nFree for Members – NonMembers $5/child – Adults free with child admission
URL:https://riverplex.org/event/preschool-splash-2/2028-02-21/
LOCATION:Lazy River
CATEGORIES:Lazy River
END:VEVENT
BEGIN:VEVENT
DTSTART;TZID=UTC:20280223T090000
DTEND;TZID=UTC:20280223T110000
DTSTAMP:20260423T190402
CREATED:20250818T183055Z
LAST-MODIFIED:20250818T183055Z
UID:35800-1834909200-1834916400@riverplex.org
SUMMARY:PreSchool Splash
DESCRIPTION:Join us for this parent-child open time in the leisure pool. Children ages 0–5 enjoy the splash features and play stations with a parent/guardian who is dressed to swim. There is no charge for adults\, but you must be in the water with your child. \n\nAges 0-5\nMonday and Wednesday\, 9-11 am\nNo registration needed\n\nFree for Members – NonMembers $5/child – Adults free with child admission
URL:https://riverplex.org/event/preschool-splash-2/2028-02-23/
LOCATION:Lazy River
CATEGORIES:Lazy River
END:VEVENT
BEGIN:VEVENT
DTSTART;TZID=America/Chicago:20280225T160000
DTEND;TZID=America/Chicago:20280225T184500
DTSTAMP:20260423T190402
CREATED:20241126T144856Z
LAST-MODIFIED:20241126T144856Z
UID:35825-1835107200-1835117100@riverplex.org
SUMMARY:Kids Pool Open Swim
DESCRIPTION:
URL:https://riverplex.org/event/kids-pool-open-swim-2/2028-02-25/
LOCATION:Lap & Class Pool
CATEGORIES:Lap & Class Pool,Lazy River
END:VEVENT
BEGIN:VEVENT
DTSTART;TZID=America/Chicago:20280226T110000
DTEND;TZID=America/Chicago:20280226T154500
DTSTAMP:20260423T190402
CREATED:20250818T183809Z
LAST-MODIFIED:20250818T183809Z
UID:35841-1835175600-1835192700@riverplex.org
SUMMARY:Kids Pool Open Swim
DESCRIPTION:
URL:https://riverplex.org/event/kids-pool-open-swim-5/2028-02-26/
LOCATION:Lazy River
CATEGORIES:Lap & Class Pool,Lazy River
END:VEVENT
BEGIN:VEVENT
DTSTART;TZID=UTC:20280228T090000
DTEND;TZID=UTC:20280228T110000
DTSTAMP:20260423T190402
CREATED:20250818T183055Z
LAST-MODIFIED:20250818T183055Z
UID:35875-1835341200-1835348400@riverplex.org
SUMMARY:PreSchool Splash
DESCRIPTION:Join us for this parent-child open time in the leisure pool. Children ages 0–5 enjoy the splash features and play stations with a parent/guardian who is dressed to swim. There is no charge for adults\, but you must be in the water with your child. \n\nAges 0-5\nMonday and Wednesday\, 9-11 am\nNo registration needed\n\nFree for Members – NonMembers $5/child – Adults free with child admission
URL:https://riverplex.org/event/preschool-splash-2/2028-02-28/
LOCATION:Lazy River
CATEGORIES:Lazy River
END:VEVENT
BEGIN:VEVENT
DTSTART;TZID=UTC:20280301T090000
DTEND;TZID=UTC:20280301T110000
DTSTAMP:20260423T190402
CREATED:20250818T183055Z
LAST-MODIFIED:20250818T183055Z
UID:35890-1835514000-1835521200@riverplex.org
SUMMARY:PreSchool Splash
DESCRIPTION:Join us for this parent-child open time in the leisure pool. Children ages 0–5 enjoy the splash features and play stations with a parent/guardian who is dressed to swim. There is no charge for adults\, but you must be in the water with your child. \n\nAges 0-5\nMonday and Wednesday\, 9-11 am\nNo registration needed\n\nFree for Members – NonMembers $5/child – Adults free with child admission
URL:https://riverplex.org/event/preschool-splash-2/2028-03-01/
LOCATION:Lazy River
CATEGORIES:Lazy River
END:VEVENT
BEGIN:VEVENT
DTSTART;TZID=America/Chicago:20280303T160000
DTEND;TZID=America/Chicago:20280303T184500
DTSTAMP:20260423T190402
CREATED:20241126T144856Z
LAST-MODIFIED:20241126T144856Z
UID:35913-1835712000-1835721900@riverplex.org
SUMMARY:Kids Pool Open Swim
DESCRIPTION:
URL:https://riverplex.org/event/kids-pool-open-swim-2/2028-03-03/
LOCATION:Lap & Class Pool
CATEGORIES:Lap & Class Pool,Lazy River
END:VEVENT
BEGIN:VEVENT
DTSTART;TZID=America/Chicago:20280304T110000
DTEND;TZID=America/Chicago:20280304T154500
DTSTAMP:20260423T190402
CREATED:20250818T183809Z
LAST-MODIFIED:20250818T183809Z
UID:36043-1835780400-1835797500@riverplex.org
SUMMARY:Kids Pool Open Swim
DESCRIPTION:
URL:https://riverplex.org/event/kids-pool-open-swim-5/2028-03-04/
LOCATION:Lazy River
CATEGORIES:Lap & Class Pool,Lazy River
END:VEVENT
END:VCALENDAR