BEGIN:VCALENDAR
VERSION:2.0
PRODID:-//RiverPlex - ECPv6.15.18//NONSGML v1.0//EN
CALSCALE:GREGORIAN
METHOD:PUBLISH
X-ORIGINAL-URL:https://riverplex.org
X-WR-CALDESC:Events for RiverPlex
REFRESH-INTERVAL;VALUE=DURATION:PT1H
X-Robots-Tag:noindex
X-PUBLISHED-TTL:PT1H
BEGIN:VTIMEZONE
TZID:America/Chicago
BEGIN:DAYLIGHT
TZOFFSETFROM:-0600
TZOFFSETTO:-0500
TZNAME:CDT
DTSTART:20260308T080000
END:DAYLIGHT
BEGIN:STANDARD
TZOFFSETFROM:-0500
TZOFFSETTO:-0600
TZNAME:CST
DTSTART:20261101T070000
END:STANDARD
BEGIN:DAYLIGHT
TZOFFSETFROM:-0600
TZOFFSETTO:-0500
TZNAME:CDT
DTSTART:20270314T080000
END:DAYLIGHT
BEGIN:STANDARD
TZOFFSETFROM:-0500
TZOFFSETTO:-0600
TZNAME:CST
DTSTART:20271107T070000
END:STANDARD
BEGIN:DAYLIGHT
TZOFFSETFROM:-0600
TZOFFSETTO:-0500
TZNAME:CDT
DTSTART:20280312T080000
END:DAYLIGHT
BEGIN:STANDARD
TZOFFSETFROM:-0500
TZOFFSETTO:-0600
TZNAME:CST
DTSTART:20281105T070000
END:STANDARD
BEGIN:DAYLIGHT
TZOFFSETFROM:-0600
TZOFFSETTO:-0500
TZNAME:CDT
DTSTART:20290311T080000
END:DAYLIGHT
BEGIN:STANDARD
TZOFFSETFROM:-0500
TZOFFSETTO:-0600
TZNAME:CST
DTSTART:20291104T070000
END:STANDARD
END:VTIMEZONE
BEGIN:VTIMEZONE
TZID:UTC
BEGIN:STANDARD
TZOFFSETFROM:+0000
TZOFFSETTO:+0000
TZNAME:UTC
DTSTART:20260101T000000
END:STANDARD
END:VTIMEZONE
BEGIN:VEVENT
DTSTART;TZID=America/Chicago:20271203T160000
DTEND;TZID=America/Chicago:20271203T184500
DTSTAMP:20260423T162057
CREATED:20241126T144856Z
LAST-MODIFIED:20251223T193316Z
UID:33356-1827849600-1827859500@riverplex.org
SUMMARY:Kids Pool Open Swim
DESCRIPTION:
URL:https://riverplex.org/event/kids-pool-open-swim-2/2027-12-03/
LOCATION:Lap & Class Pool
CATEGORIES:Lap & Class Pool,Lazy River
END:VEVENT
BEGIN:VEVENT
DTSTART;TZID=America/Chicago:20271204T110000
DTEND;TZID=America/Chicago:20271204T154500
DTSTAMP:20260423T162057
CREATED:20250818T183809Z
LAST-MODIFIED:20251223T193347Z
UID:33373-1827918000-1827935100@riverplex.org
SUMMARY:Kids Pool Open Swim
DESCRIPTION:
URL:https://riverplex.org/event/kids-pool-open-swim-5/2027-12-04/
LOCATION:Lazy River
CATEGORIES:Lap & Class Pool,Lazy River
END:VEVENT
BEGIN:VEVENT
DTSTART;TZID=UTC:20271206T090000
DTEND;TZID=UTC:20271206T110000
DTSTAMP:20260423T162057
CREATED:20250818T183055Z
LAST-MODIFIED:20251230T194752Z
UID:33387-1828083600-1828090800@riverplex.org
SUMMARY:PreSchool Splash
DESCRIPTION:Join us for this parent-child open time in the leisure pool. Children ages 0–5 enjoy the splash features and play stations with a parent/guardian who is dressed to swim. There is no charge for adults\, but you must be in the water with your child. \n\nAges 0-5\nMonday and Wednesday\, 9-11 am\nNo registration needed\n\nFree for Members – NonMembers $5/child – Adults free with child admission
URL:https://riverplex.org/event/preschool-splash-2/2027-12-06/
LOCATION:Lazy River
CATEGORIES:Lazy River
END:VEVENT
BEGIN:VEVENT
DTSTART;TZID=UTC:20271208T090000
DTEND;TZID=UTC:20271208T110000
DTSTAMP:20260423T162057
CREATED:20250818T183055Z
LAST-MODIFIED:20251230T194752Z
UID:33425-1828256400-1828263600@riverplex.org
SUMMARY:PreSchool Splash
DESCRIPTION:Join us for this parent-child open time in the leisure pool. Children ages 0–5 enjoy the splash features and play stations with a parent/guardian who is dressed to swim. There is no charge for adults\, but you must be in the water with your child. \n\nAges 0-5\nMonday and Wednesday\, 9-11 am\nNo registration needed\n\nFree for Members – NonMembers $5/child – Adults free with child admission
URL:https://riverplex.org/event/preschool-splash-2/2027-12-08/
LOCATION:Lazy River
CATEGORIES:Lazy River
END:VEVENT
BEGIN:VEVENT
DTSTART;TZID=America/Chicago:20271210T160000
DTEND;TZID=America/Chicago:20271210T184500
DTSTAMP:20260423T162057
CREATED:20241126T144856Z
LAST-MODIFIED:20251223T193316Z
UID:33446-1828454400-1828464300@riverplex.org
SUMMARY:Kids Pool Open Swim
DESCRIPTION:
URL:https://riverplex.org/event/kids-pool-open-swim-2/2027-12-10/
LOCATION:Lap & Class Pool
CATEGORIES:Lap & Class Pool,Lazy River
END:VEVENT
BEGIN:VEVENT
DTSTART;TZID=America/Chicago:20271211T110000
DTEND;TZID=America/Chicago:20271211T154500
DTSTAMP:20260423T162057
CREATED:20250818T183809Z
LAST-MODIFIED:20251223T193347Z
UID:33463-1828522800-1828539900@riverplex.org
SUMMARY:Kids Pool Open Swim
DESCRIPTION:
URL:https://riverplex.org/event/kids-pool-open-swim-5/2027-12-11/
LOCATION:Lazy River
CATEGORIES:Lap & Class Pool,Lazy River
END:VEVENT
BEGIN:VEVENT
DTSTART;TZID=UTC:20271213T090000
DTEND;TZID=UTC:20271213T110000
DTSTAMP:20260423T162057
CREATED:20250818T183055Z
LAST-MODIFIED:20251230T194752Z
UID:33479-1828688400-1828695600@riverplex.org
SUMMARY:PreSchool Splash
DESCRIPTION:Join us for this parent-child open time in the leisure pool. Children ages 0–5 enjoy the splash features and play stations with a parent/guardian who is dressed to swim. There is no charge for adults\, but you must be in the water with your child. \n\nAges 0-5\nMonday and Wednesday\, 9-11 am\nNo registration needed\n\nFree for Members – NonMembers $5/child – Adults free with child admission
URL:https://riverplex.org/event/preschool-splash-2/2027-12-13/
LOCATION:Lazy River
CATEGORIES:Lazy River
END:VEVENT
BEGIN:VEVENT
DTSTART;TZID=UTC:20271215T090000
DTEND;TZID=UTC:20271215T110000
DTSTAMP:20260423T162057
CREATED:20250818T183055Z
LAST-MODIFIED:20251230T194752Z
UID:33512-1828861200-1828868400@riverplex.org
SUMMARY:PreSchool Splash
DESCRIPTION:Join us for this parent-child open time in the leisure pool. Children ages 0–5 enjoy the splash features and play stations with a parent/guardian who is dressed to swim. There is no charge for adults\, but you must be in the water with your child. \n\nAges 0-5\nMonday and Wednesday\, 9-11 am\nNo registration needed\n\nFree for Members – NonMembers $5/child – Adults free with child admission
URL:https://riverplex.org/event/preschool-splash-2/2027-12-15/
LOCATION:Lazy River
CATEGORIES:Lazy River
END:VEVENT
BEGIN:VEVENT
DTSTART;TZID=America/Chicago:20271217T160000
DTEND;TZID=America/Chicago:20271217T184500
DTSTAMP:20260423T162057
CREATED:20241126T144856Z
LAST-MODIFIED:20251223T193316Z
UID:33541-1829059200-1829069100@riverplex.org
SUMMARY:Kids Pool Open Swim
DESCRIPTION:
URL:https://riverplex.org/event/kids-pool-open-swim-2/2027-12-17/
LOCATION:Lap & Class Pool
CATEGORIES:Lap & Class Pool,Lazy River
END:VEVENT
BEGIN:VEVENT
DTSTART;TZID=America/Chicago:20271218T110000
DTEND;TZID=America/Chicago:20271218T154500
DTSTAMP:20260423T162057
CREATED:20250818T183809Z
LAST-MODIFIED:20251223T193347Z
UID:33558-1829127600-1829144700@riverplex.org
SUMMARY:Kids Pool Open Swim
DESCRIPTION:
URL:https://riverplex.org/event/kids-pool-open-swim-5/2027-12-18/
LOCATION:Lazy River
CATEGORIES:Lap & Class Pool,Lazy River
END:VEVENT
BEGIN:VEVENT
DTSTART;TZID=UTC:20271220T090000
DTEND;TZID=UTC:20271220T110000
DTSTAMP:20260423T162057
CREATED:20250818T183055Z
LAST-MODIFIED:20251230T194752Z
UID:33572-1829293200-1829300400@riverplex.org
SUMMARY:PreSchool Splash
DESCRIPTION:Join us for this parent-child open time in the leisure pool. Children ages 0–5 enjoy the splash features and play stations with a parent/guardian who is dressed to swim. There is no charge for adults\, but you must be in the water with your child. \n\nAges 0-5\nMonday and Wednesday\, 9-11 am\nNo registration needed\n\nFree for Members – NonMembers $5/child – Adults free with child admission
URL:https://riverplex.org/event/preschool-splash-2/2027-12-20/
LOCATION:Lazy River
CATEGORIES:Lazy River
END:VEVENT
BEGIN:VEVENT
DTSTART;TZID=UTC:20271222T090000
DTEND;TZID=UTC:20271222T110000
DTSTAMP:20260423T162057
CREATED:20250818T183055Z
LAST-MODIFIED:20251230T194752Z
UID:33605-1829466000-1829473200@riverplex.org
SUMMARY:PreSchool Splash
DESCRIPTION:Join us for this parent-child open time in the leisure pool. Children ages 0–5 enjoy the splash features and play stations with a parent/guardian who is dressed to swim. There is no charge for adults\, but you must be in the water with your child. \n\nAges 0-5\nMonday and Wednesday\, 9-11 am\nNo registration needed\n\nFree for Members – NonMembers $5/child – Adults free with child admission
URL:https://riverplex.org/event/preschool-splash-2/2027-12-22/
LOCATION:Lazy River
CATEGORIES:Lazy River
END:VEVENT
BEGIN:VEVENT
DTSTART;TZID=America/Chicago:20271224T160000
DTEND;TZID=America/Chicago:20271224T184500
DTSTAMP:20260423T162057
CREATED:20241126T144856Z
LAST-MODIFIED:20241126T144856Z
UID:34005-1829664000-1829673900@riverplex.org
SUMMARY:Kids Pool Open Swim
DESCRIPTION:
URL:https://riverplex.org/event/kids-pool-open-swim-2/2027-12-24/
LOCATION:Lap & Class Pool
CATEGORIES:Lap & Class Pool,Lazy River
END:VEVENT
BEGIN:VEVENT
DTSTART;TZID=America/Chicago:20271225T110000
DTEND;TZID=America/Chicago:20271225T154500
DTSTAMP:20260423T162057
CREATED:20250818T183809Z
LAST-MODIFIED:20250818T183809Z
UID:34022-1829732400-1829749500@riverplex.org
SUMMARY:Kids Pool Open Swim
DESCRIPTION:
URL:https://riverplex.org/event/kids-pool-open-swim-5/2027-12-25/
LOCATION:Lazy River
CATEGORIES:Lap & Class Pool,Lazy River
END:VEVENT
BEGIN:VEVENT
DTSTART;TZID=UTC:20271227T090000
DTEND;TZID=UTC:20271227T110000
DTSTAMP:20260423T162057
CREATED:20250818T183055Z
LAST-MODIFIED:20251230T194752Z
UID:34036-1829898000-1829905200@riverplex.org
SUMMARY:PreSchool Splash
DESCRIPTION:Join us for this parent-child open time in the leisure pool. Children ages 0–5 enjoy the splash features and play stations with a parent/guardian who is dressed to swim. There is no charge for adults\, but you must be in the water with your child. \n\nAges 0-5\nMonday and Wednesday\, 9-11 am\nNo registration needed\n\nFree for Members – NonMembers $5/child – Adults free with child admission
URL:https://riverplex.org/event/preschool-splash-2/2027-12-27/
LOCATION:Lazy River
CATEGORIES:Lazy River
END:VEVENT
BEGIN:VEVENT
DTSTART;TZID=UTC:20271229T090000
DTEND;TZID=UTC:20271229T110000
DTSTAMP:20260423T162057
CREATED:20250818T183055Z
LAST-MODIFIED:20251230T194752Z
UID:34069-1830070800-1830078000@riverplex.org
SUMMARY:PreSchool Splash
DESCRIPTION:Join us for this parent-child open time in the leisure pool. Children ages 0–5 enjoy the splash features and play stations with a parent/guardian who is dressed to swim. There is no charge for adults\, but you must be in the water with your child. \n\nAges 0-5\nMonday and Wednesday\, 9-11 am\nNo registration needed\n\nFree for Members – NonMembers $5/child – Adults free with child admission
URL:https://riverplex.org/event/preschool-splash-2/2027-12-29/
LOCATION:Lazy River
CATEGORIES:Lazy River
END:VEVENT
BEGIN:VEVENT
DTSTART;TZID=America/Chicago:20271231T160000
DTEND;TZID=America/Chicago:20271231T184500
DTSTAMP:20260423T162057
CREATED:20241126T144856Z
LAST-MODIFIED:20241126T144856Z
UID:34128-1830268800-1830278700@riverplex.org
SUMMARY:Kids Pool Open Swim
DESCRIPTION:
URL:https://riverplex.org/event/kids-pool-open-swim-2/2027-12-31/
LOCATION:Lap & Class Pool
CATEGORIES:Lap & Class Pool,Lazy River
END:VEVENT
BEGIN:VEVENT
DTSTART;TZID=America/Chicago:20280101T110000
DTEND;TZID=America/Chicago:20280101T154500
DTSTAMP:20260423T162057
CREATED:20250818T183809Z
LAST-MODIFIED:20250818T183809Z
UID:34145-1830337200-1830354300@riverplex.org
SUMMARY:Kids Pool Open Swim
DESCRIPTION:
URL:https://riverplex.org/event/kids-pool-open-swim-5/2028-01-01/
LOCATION:Lazy River
CATEGORIES:Lap & Class Pool,Lazy River
END:VEVENT
BEGIN:VEVENT
DTSTART;TZID=UTC:20280103T090000
DTEND;TZID=UTC:20280103T110000
DTSTAMP:20260423T162057
CREATED:20250818T183055Z
LAST-MODIFIED:20250818T183055Z
UID:34596-1830502800-1830510000@riverplex.org
SUMMARY:PreSchool Splash
DESCRIPTION:Join us for this parent-child open time in the leisure pool. Children ages 0–5 enjoy the splash features and play stations with a parent/guardian who is dressed to swim. There is no charge for adults\, but you must be in the water with your child. \n\nAges 0-5\nMonday and Wednesday\, 9-11 am\nNo registration needed\n\nFree for Members – NonMembers $5/child – Adults free with child admission
URL:https://riverplex.org/event/preschool-splash-2/2028-01-03/
LOCATION:Lazy River
CATEGORIES:Lazy River
END:VEVENT
BEGIN:VEVENT
DTSTART;TZID=UTC:20280105T090000
DTEND;TZID=UTC:20280105T110000
DTSTAMP:20260423T162057
CREATED:20250818T183055Z
LAST-MODIFIED:20250818T183055Z
UID:34866-1830675600-1830682800@riverplex.org
SUMMARY:PreSchool Splash
DESCRIPTION:Join us for this parent-child open time in the leisure pool. Children ages 0–5 enjoy the splash features and play stations with a parent/guardian who is dressed to swim. There is no charge for adults\, but you must be in the water with your child. \n\nAges 0-5\nMonday and Wednesday\, 9-11 am\nNo registration needed\n\nFree for Members – NonMembers $5/child – Adults free with child admission
URL:https://riverplex.org/event/preschool-splash-2/2028-01-05/
LOCATION:Lazy River
CATEGORIES:Lazy River
END:VEVENT
BEGIN:VEVENT
DTSTART;TZID=America/Chicago:20280107T160000
DTEND;TZID=America/Chicago:20280107T184500
DTSTAMP:20260423T162057
CREATED:20241126T144856Z
LAST-MODIFIED:20241126T144856Z
UID:34887-1830873600-1830883500@riverplex.org
SUMMARY:Kids Pool Open Swim
DESCRIPTION:
URL:https://riverplex.org/event/kids-pool-open-swim-2/2028-01-07/
LOCATION:Lap & Class Pool
CATEGORIES:Lap & Class Pool,Lazy River
END:VEVENT
BEGIN:VEVENT
DTSTART;TZID=America/Chicago:20280108T110000
DTEND;TZID=America/Chicago:20280108T154500
DTSTAMP:20260423T162057
CREATED:20250818T183809Z
LAST-MODIFIED:20250818T183809Z
UID:35123-1830942000-1830959100@riverplex.org
SUMMARY:Kids Pool Open Swim
DESCRIPTION:
URL:https://riverplex.org/event/kids-pool-open-swim-5/2028-01-08/
LOCATION:Lazy River
CATEGORIES:Lap & Class Pool,Lazy River
END:VEVENT
BEGIN:VEVENT
DTSTART;TZID=UTC:20280110T090000
DTEND;TZID=UTC:20280110T110000
DTSTAMP:20260423T162057
CREATED:20250818T183055Z
LAST-MODIFIED:20250818T183055Z
UID:35247-1831107600-1831114800@riverplex.org
SUMMARY:PreSchool Splash
DESCRIPTION:Join us for this parent-child open time in the leisure pool. Children ages 0–5 enjoy the splash features and play stations with a parent/guardian who is dressed to swim. There is no charge for adults\, but you must be in the water with your child. \n\nAges 0-5\nMonday and Wednesday\, 9-11 am\nNo registration needed\n\nFree for Members – NonMembers $5/child – Adults free with child admission
URL:https://riverplex.org/event/preschool-splash-2/2028-01-10/
LOCATION:Lazy River
CATEGORIES:Lazy River
END:VEVENT
BEGIN:VEVENT
DTSTART;TZID=UTC:20280112T090000
DTEND;TZID=UTC:20280112T110000
DTSTAMP:20260423T162057
CREATED:20250818T183055Z
LAST-MODIFIED:20250818T183055Z
UID:35277-1831280400-1831287600@riverplex.org
SUMMARY:PreSchool Splash
DESCRIPTION:Join us for this parent-child open time in the leisure pool. Children ages 0–5 enjoy the splash features and play stations with a parent/guardian who is dressed to swim. There is no charge for adults\, but you must be in the water with your child. \n\nAges 0-5\nMonday and Wednesday\, 9-11 am\nNo registration needed\n\nFree for Members – NonMembers $5/child – Adults free with child admission
URL:https://riverplex.org/event/preschool-splash-2/2028-01-12/
LOCATION:Lazy River
CATEGORIES:Lazy River
END:VEVENT
BEGIN:VEVENT
DTSTART;TZID=America/Chicago:20280114T160000
DTEND;TZID=America/Chicago:20280114T184500
DTSTAMP:20260423T162057
CREATED:20241126T144856Z
LAST-MODIFIED:20241126T144856Z
UID:35301-1831478400-1831488300@riverplex.org
SUMMARY:Kids Pool Open Swim
DESCRIPTION:
URL:https://riverplex.org/event/kids-pool-open-swim-2/2028-01-14/
LOCATION:Lap & Class Pool
CATEGORIES:Lap & Class Pool,Lazy River
END:VEVENT
BEGIN:VEVENT
DTSTART;TZID=America/Chicago:20280115T110000
DTEND;TZID=America/Chicago:20280115T154500
DTSTAMP:20260423T162057
CREATED:20250818T183809Z
LAST-MODIFIED:20250818T183809Z
UID:35317-1831546800-1831563900@riverplex.org
SUMMARY:Kids Pool Open Swim
DESCRIPTION:
URL:https://riverplex.org/event/kids-pool-open-swim-5/2028-01-15/
LOCATION:Lazy River
CATEGORIES:Lap & Class Pool,Lazy River
END:VEVENT
BEGIN:VEVENT
DTSTART;TZID=UTC:20280117T090000
DTEND;TZID=UTC:20280117T110000
DTSTAMP:20260423T162057
CREATED:20250818T183055Z
LAST-MODIFIED:20250818T183055Z
UID:35332-1831712400-1831719600@riverplex.org
SUMMARY:PreSchool Splash
DESCRIPTION:Join us for this parent-child open time in the leisure pool. Children ages 0–5 enjoy the splash features and play stations with a parent/guardian who is dressed to swim. There is no charge for adults\, but you must be in the water with your child. \n\nAges 0-5\nMonday and Wednesday\, 9-11 am\nNo registration needed\n\nFree for Members – NonMembers $5/child – Adults free with child admission
URL:https://riverplex.org/event/preschool-splash-2/2028-01-17/
LOCATION:Lazy River
CATEGORIES:Lazy River
END:VEVENT
BEGIN:VEVENT
DTSTART;TZID=UTC:20280119T090000
DTEND;TZID=UTC:20280119T110000
DTSTAMP:20260423T162057
CREATED:20250818T183055Z
LAST-MODIFIED:20250818T183055Z
UID:35362-1831885200-1831892400@riverplex.org
SUMMARY:PreSchool Splash
DESCRIPTION:Join us for this parent-child open time in the leisure pool. Children ages 0–5 enjoy the splash features and play stations with a parent/guardian who is dressed to swim. There is no charge for adults\, but you must be in the water with your child. \n\nAges 0-5\nMonday and Wednesday\, 9-11 am\nNo registration needed\n\nFree for Members – NonMembers $5/child – Adults free with child admission
URL:https://riverplex.org/event/preschool-splash-2/2028-01-19/
LOCATION:Lazy River
CATEGORIES:Lazy River
END:VEVENT
BEGIN:VEVENT
DTSTART;TZID=America/Chicago:20280121T160000
DTEND;TZID=America/Chicago:20280121T184500
DTSTAMP:20260423T162057
CREATED:20241126T144856Z
LAST-MODIFIED:20241126T144856Z
UID:35387-1832083200-1832093100@riverplex.org
SUMMARY:Kids Pool Open Swim
DESCRIPTION:
URL:https://riverplex.org/event/kids-pool-open-swim-2/2028-01-21/
LOCATION:Lap & Class Pool
CATEGORIES:Lap & Class Pool,Lazy River
END:VEVENT
BEGIN:VEVENT
DTSTART;TZID=America/Chicago:20280122T110000
DTEND;TZID=America/Chicago:20280122T154500
DTSTAMP:20260423T162057
CREATED:20250818T183809Z
LAST-MODIFIED:20250818T183809Z
UID:35403-1832151600-1832168700@riverplex.org
SUMMARY:Kids Pool Open Swim
DESCRIPTION:
URL:https://riverplex.org/event/kids-pool-open-swim-5/2028-01-22/
LOCATION:Lazy River
CATEGORIES:Lap & Class Pool,Lazy River
END:VEVENT
END:VCALENDAR