BEGIN:VCALENDAR
VERSION:2.0
PRODID:-//RiverPlex - ECPv6.15.18//NONSGML v1.0//EN
CALSCALE:GREGORIAN
METHOD:PUBLISH
X-WR-CALNAME:RiverPlex
X-ORIGINAL-URL:https://riverplex.org
X-WR-CALDESC:Events for RiverPlex
REFRESH-INTERVAL;VALUE=DURATION:PT1H
X-Robots-Tag:noindex
X-PUBLISHED-TTL:PT1H
BEGIN:VTIMEZONE
TZID:America/Chicago
BEGIN:DAYLIGHT
TZOFFSETFROM:-0600
TZOFFSETTO:-0500
TZNAME:CDT
DTSTART:20260308T080000
END:DAYLIGHT
BEGIN:STANDARD
TZOFFSETFROM:-0500
TZOFFSETTO:-0600
TZNAME:CST
DTSTART:20261101T070000
END:STANDARD
BEGIN:DAYLIGHT
TZOFFSETFROM:-0600
TZOFFSETTO:-0500
TZNAME:CDT
DTSTART:20270314T080000
END:DAYLIGHT
BEGIN:STANDARD
TZOFFSETFROM:-0500
TZOFFSETTO:-0600
TZNAME:CST
DTSTART:20271107T070000
END:STANDARD
BEGIN:DAYLIGHT
TZOFFSETFROM:-0600
TZOFFSETTO:-0500
TZNAME:CDT
DTSTART:20280312T080000
END:DAYLIGHT
BEGIN:STANDARD
TZOFFSETFROM:-0500
TZOFFSETTO:-0600
TZNAME:CST
DTSTART:20281105T070000
END:STANDARD
END:VTIMEZONE
BEGIN:VTIMEZONE
TZID:UTC
BEGIN:STANDARD
TZOFFSETFROM:+0000
TZOFFSETTO:+0000
TZNAME:UTC
DTSTART:20260101T000000
END:STANDARD
END:VTIMEZONE
BEGIN:VEVENT
DTSTART;TZID=America/Chicago:20271022T160000
DTEND;TZID=America/Chicago:20271022T184500
DTSTAMP:20260423T132159
CREATED:20241126T144856Z
LAST-MODIFIED:20251223T193315Z
UID:32664-1824220800-1824230700@riverplex.org
SUMMARY:Kids Pool Open Swim
DESCRIPTION:
URL:https://riverplex.org/event/kids-pool-open-swim-2/2027-10-22/
LOCATION:Lap & Class Pool
CATEGORIES:Lap & Class Pool,Lazy River
END:VEVENT
BEGIN:VEVENT
DTSTART;TZID=America/Chicago:20271023T110000
DTEND;TZID=America/Chicago:20271023T154500
DTSTAMP:20260423T132159
CREATED:20250818T183809Z
LAST-MODIFIED:20251223T193347Z
UID:32681-1824289200-1824306300@riverplex.org
SUMMARY:Kids Pool Open Swim
DESCRIPTION:
URL:https://riverplex.org/event/kids-pool-open-swim-5/2027-10-23/
LOCATION:Lazy River
CATEGORIES:Lap & Class Pool,Lazy River
END:VEVENT
BEGIN:VEVENT
DTSTART;TZID=UTC:20271025T090000
DTEND;TZID=UTC:20271025T110000
DTSTAMP:20260423T132159
CREATED:20250818T183055Z
LAST-MODIFIED:20251230T194750Z
UID:32695-1824454800-1824462000@riverplex.org
SUMMARY:PreSchool Splash
DESCRIPTION:Join us for this parent-child open time in the leisure pool. Children ages 0–5 enjoy the splash features and play stations with a parent/guardian who is dressed to swim. There is no charge for adults\, but you must be in the water with your child. \n\nAges 0-5\nMonday and Wednesday\, 9-11 am\nNo registration needed\n\nFree for Members – NonMembers $5/child – Adults free with child admission
URL:https://riverplex.org/event/preschool-splash-2/2027-10-25/
LOCATION:Lazy River
CATEGORIES:Lazy River
END:VEVENT
BEGIN:VEVENT
DTSTART;TZID=UTC:20271027T090000
DTEND;TZID=UTC:20271027T110000
DTSTAMP:20260423T132159
CREATED:20250818T183055Z
LAST-MODIFIED:20251230T194751Z
UID:32728-1824627600-1824634800@riverplex.org
SUMMARY:PreSchool Splash
DESCRIPTION:Join us for this parent-child open time in the leisure pool. Children ages 0–5 enjoy the splash features and play stations with a parent/guardian who is dressed to swim. There is no charge for adults\, but you must be in the water with your child. \n\nAges 0-5\nMonday and Wednesday\, 9-11 am\nNo registration needed\n\nFree for Members – NonMembers $5/child – Adults free with child admission
URL:https://riverplex.org/event/preschool-splash-2/2027-10-27/
LOCATION:Lazy River
CATEGORIES:Lazy River
END:VEVENT
BEGIN:VEVENT
DTSTART;TZID=America/Chicago:20271029T160000
DTEND;TZID=America/Chicago:20271029T184500
DTSTAMP:20260423T132159
CREATED:20241126T144856Z
LAST-MODIFIED:20251223T193316Z
UID:32751-1824825600-1824835500@riverplex.org
SUMMARY:Kids Pool Open Swim
DESCRIPTION:
URL:https://riverplex.org/event/kids-pool-open-swim-2/2027-10-29/
LOCATION:Lap & Class Pool
CATEGORIES:Lap & Class Pool,Lazy River
END:VEVENT
BEGIN:VEVENT
DTSTART;TZID=America/Chicago:20271030T110000
DTEND;TZID=America/Chicago:20271030T154500
DTSTAMP:20260423T132159
CREATED:20250818T183809Z
LAST-MODIFIED:20251223T193347Z
UID:32768-1824894000-1824911100@riverplex.org
SUMMARY:Kids Pool Open Swim
DESCRIPTION:
URL:https://riverplex.org/event/kids-pool-open-swim-5/2027-10-30/
LOCATION:Lazy River
CATEGORIES:Lap & Class Pool,Lazy River
END:VEVENT
BEGIN:VEVENT
DTSTART;TZID=UTC:20271101T090000
DTEND;TZID=UTC:20271101T110000
DTSTAMP:20260423T132159
CREATED:20250818T183055Z
LAST-MODIFIED:20251230T194751Z
UID:32782-1825059600-1825066800@riverplex.org
SUMMARY:PreSchool Splash
DESCRIPTION:Join us for this parent-child open time in the leisure pool. Children ages 0–5 enjoy the splash features and play stations with a parent/guardian who is dressed to swim. There is no charge for adults\, but you must be in the water with your child. \n\nAges 0-5\nMonday and Wednesday\, 9-11 am\nNo registration needed\n\nFree for Members – NonMembers $5/child – Adults free with child admission
URL:https://riverplex.org/event/preschool-splash-2/2027-11-01/
LOCATION:Lazy River
CATEGORIES:Lazy River
END:VEVENT
BEGIN:VEVENT
DTSTART;TZID=UTC:20271103T090000
DTEND;TZID=UTC:20271103T110000
DTSTAMP:20260423T132159
CREATED:20250818T183055Z
LAST-MODIFIED:20251230T194751Z
UID:32832-1825232400-1825239600@riverplex.org
SUMMARY:PreSchool Splash
DESCRIPTION:Join us for this parent-child open time in the leisure pool. Children ages 0–5 enjoy the splash features and play stations with a parent/guardian who is dressed to swim. There is no charge for adults\, but you must be in the water with your child. \n\nAges 0-5\nMonday and Wednesday\, 9-11 am\nNo registration needed\n\nFree for Members – NonMembers $5/child – Adults free with child admission
URL:https://riverplex.org/event/preschool-splash-2/2027-11-03/
LOCATION:Lazy River
CATEGORIES:Lazy River
END:VEVENT
BEGIN:VEVENT
DTSTART;TZID=America/Chicago:20271105T160000
DTEND;TZID=America/Chicago:20271105T184500
DTSTAMP:20260423T132159
CREATED:20241126T144856Z
LAST-MODIFIED:20251223T193316Z
UID:32857-1825430400-1825440300@riverplex.org
SUMMARY:Kids Pool Open Swim
DESCRIPTION:
URL:https://riverplex.org/event/kids-pool-open-swim-2/2027-11-05/
LOCATION:Lap & Class Pool
CATEGORIES:Lap & Class Pool,Lazy River
END:VEVENT
BEGIN:VEVENT
DTSTART;TZID=America/Chicago:20271106T110000
DTEND;TZID=America/Chicago:20271106T154500
DTSTAMP:20260423T132159
CREATED:20250818T183809Z
LAST-MODIFIED:20251223T193347Z
UID:32874-1825498800-1825515900@riverplex.org
SUMMARY:Kids Pool Open Swim
DESCRIPTION:
URL:https://riverplex.org/event/kids-pool-open-swim-5/2027-11-06/
LOCATION:Lazy River
CATEGORIES:Lap & Class Pool,Lazy River
END:VEVENT
BEGIN:VEVENT
DTSTART;TZID=UTC:20271108T090000
DTEND;TZID=UTC:20271108T110000
DTSTAMP:20260423T132159
CREATED:20250818T183055Z
LAST-MODIFIED:20251230T194751Z
UID:32888-1825664400-1825671600@riverplex.org
SUMMARY:PreSchool Splash
DESCRIPTION:Join us for this parent-child open time in the leisure pool. Children ages 0–5 enjoy the splash features and play stations with a parent/guardian who is dressed to swim. There is no charge for adults\, but you must be in the water with your child. \n\nAges 0-5\nMonday and Wednesday\, 9-11 am\nNo registration needed\n\nFree for Members – NonMembers $5/child – Adults free with child admission
URL:https://riverplex.org/event/preschool-splash-2/2027-11-08/
LOCATION:Lazy River
CATEGORIES:Lazy River
END:VEVENT
BEGIN:VEVENT
DTSTART;TZID=UTC:20271110T090000
DTEND;TZID=UTC:20271110T110000
DTSTAMP:20260423T132159
CREATED:20250818T183055Z
LAST-MODIFIED:20251230T194751Z
UID:33074-1825837200-1825844400@riverplex.org
SUMMARY:PreSchool Splash
DESCRIPTION:Join us for this parent-child open time in the leisure pool. Children ages 0–5 enjoy the splash features and play stations with a parent/guardian who is dressed to swim. There is no charge for adults\, but you must be in the water with your child. \n\nAges 0-5\nMonday and Wednesday\, 9-11 am\nNo registration needed\n\nFree for Members – NonMembers $5/child – Adults free with child admission
URL:https://riverplex.org/event/preschool-splash-2/2027-11-10/
LOCATION:Lazy River
CATEGORIES:Lazy River
END:VEVENT
BEGIN:VEVENT
DTSTART;TZID=America/Chicago:20271112T160000
DTEND;TZID=America/Chicago:20271112T184500
DTSTAMP:20260423T132159
CREATED:20241126T144856Z
LAST-MODIFIED:20251223T193316Z
UID:33095-1826035200-1826045100@riverplex.org
SUMMARY:Kids Pool Open Swim
DESCRIPTION:
URL:https://riverplex.org/event/kids-pool-open-swim-2/2027-11-12/
LOCATION:Lap & Class Pool
CATEGORIES:Lap & Class Pool,Lazy River
END:VEVENT
BEGIN:VEVENT
DTSTART;TZID=America/Chicago:20271113T110000
DTEND;TZID=America/Chicago:20271113T154500
DTSTAMP:20260423T132159
CREATED:20250818T183809Z
LAST-MODIFIED:20251223T193347Z
UID:33112-1826103600-1826120700@riverplex.org
SUMMARY:Kids Pool Open Swim
DESCRIPTION:
URL:https://riverplex.org/event/kids-pool-open-swim-5/2027-11-13/
LOCATION:Lazy River
CATEGORIES:Lap & Class Pool,Lazy River
END:VEVENT
BEGIN:VEVENT
DTSTART;TZID=UTC:20271115T090000
DTEND;TZID=UTC:20271115T110000
DTSTAMP:20260423T132159
CREATED:20250818T183055Z
LAST-MODIFIED:20251230T194751Z
UID:33126-1826269200-1826276400@riverplex.org
SUMMARY:PreSchool Splash
DESCRIPTION:Join us for this parent-child open time in the leisure pool. Children ages 0–5 enjoy the splash features and play stations with a parent/guardian who is dressed to swim. There is no charge for adults\, but you must be in the water with your child. \n\nAges 0-5\nMonday and Wednesday\, 9-11 am\nNo registration needed\n\nFree for Members – NonMembers $5/child – Adults free with child admission
URL:https://riverplex.org/event/preschool-splash-2/2027-11-15/
LOCATION:Lazy River
CATEGORIES:Lazy River
END:VEVENT
BEGIN:VEVENT
DTSTART;TZID=UTC:20271117T090000
DTEND;TZID=UTC:20271117T110000
DTSTAMP:20260423T132159
CREATED:20250818T183055Z
LAST-MODIFIED:20251230T194751Z
UID:33159-1826442000-1826449200@riverplex.org
SUMMARY:PreSchool Splash
DESCRIPTION:Join us for this parent-child open time in the leisure pool. Children ages 0–5 enjoy the splash features and play stations with a parent/guardian who is dressed to swim. There is no charge for adults\, but you must be in the water with your child. \n\nAges 0-5\nMonday and Wednesday\, 9-11 am\nNo registration needed\n\nFree for Members – NonMembers $5/child – Adults free with child admission
URL:https://riverplex.org/event/preschool-splash-2/2027-11-17/
LOCATION:Lazy River
CATEGORIES:Lazy River
END:VEVENT
BEGIN:VEVENT
DTSTART;TZID=America/Chicago:20271119T160000
DTEND;TZID=America/Chicago:20271119T184500
DTSTAMP:20260423T132159
CREATED:20241126T144856Z
LAST-MODIFIED:20251223T193316Z
UID:33180-1826640000-1826649900@riverplex.org
SUMMARY:Kids Pool Open Swim
DESCRIPTION:
URL:https://riverplex.org/event/kids-pool-open-swim-2/2027-11-19/
LOCATION:Lap & Class Pool
CATEGORIES:Lap & Class Pool,Lazy River
END:VEVENT
BEGIN:VEVENT
DTSTART;TZID=America/Chicago:20271120T110000
DTEND;TZID=America/Chicago:20271120T154500
DTSTAMP:20260423T132159
CREATED:20250818T183809Z
LAST-MODIFIED:20251223T193347Z
UID:33198-1826708400-1826725500@riverplex.org
SUMMARY:Kids Pool Open Swim
DESCRIPTION:
URL:https://riverplex.org/event/kids-pool-open-swim-5/2027-11-20/
LOCATION:Lazy River
CATEGORIES:Lap & Class Pool,Lazy River
END:VEVENT
BEGIN:VEVENT
DTSTART;TZID=UTC:20271122T090000
DTEND;TZID=UTC:20271122T110000
DTSTAMP:20260423T132159
CREATED:20250818T183055Z
LAST-MODIFIED:20251230T194751Z
UID:33214-1826874000-1826881200@riverplex.org
SUMMARY:PreSchool Splash
DESCRIPTION:Join us for this parent-child open time in the leisure pool. Children ages 0–5 enjoy the splash features and play stations with a parent/guardian who is dressed to swim. There is no charge for adults\, but you must be in the water with your child. \n\nAges 0-5\nMonday and Wednesday\, 9-11 am\nNo registration needed\n\nFree for Members – NonMembers $5/child – Adults free with child admission
URL:https://riverplex.org/event/preschool-splash-2/2027-11-22/
LOCATION:Lazy River
CATEGORIES:Lazy River
END:VEVENT
BEGIN:VEVENT
DTSTART;TZID=UTC:20271124T090000
DTEND;TZID=UTC:20271124T110000
DTSTAMP:20260423T132159
CREATED:20250818T183055Z
LAST-MODIFIED:20251230T194751Z
UID:33247-1827046800-1827054000@riverplex.org
SUMMARY:PreSchool Splash
DESCRIPTION:Join us for this parent-child open time in the leisure pool. Children ages 0–5 enjoy the splash features and play stations with a parent/guardian who is dressed to swim. There is no charge for adults\, but you must be in the water with your child. \n\nAges 0-5\nMonday and Wednesday\, 9-11 am\nNo registration needed\n\nFree for Members – NonMembers $5/child – Adults free with child admission
URL:https://riverplex.org/event/preschool-splash-2/2027-11-24/
LOCATION:Lazy River
CATEGORIES:Lazy River
END:VEVENT
BEGIN:VEVENT
DTSTART;TZID=America/Chicago:20271126T160000
DTEND;TZID=America/Chicago:20271126T184500
DTSTAMP:20260423T132159
CREATED:20241126T144856Z
LAST-MODIFIED:20251223T193316Z
UID:33268-1827244800-1827254700@riverplex.org
SUMMARY:Kids Pool Open Swim
DESCRIPTION:
URL:https://riverplex.org/event/kids-pool-open-swim-2/2027-11-26/
LOCATION:Lap & Class Pool
CATEGORIES:Lap & Class Pool,Lazy River
END:VEVENT
BEGIN:VEVENT
DTSTART;TZID=America/Chicago:20271127T110000
DTEND;TZID=America/Chicago:20271127T154500
DTSTAMP:20260423T132159
CREATED:20250818T183809Z
LAST-MODIFIED:20251223T193347Z
UID:33285-1827313200-1827330300@riverplex.org
SUMMARY:Kids Pool Open Swim
DESCRIPTION:
URL:https://riverplex.org/event/kids-pool-open-swim-5/2027-11-27/
LOCATION:Lazy River
CATEGORIES:Lap & Class Pool,Lazy River
END:VEVENT
BEGIN:VEVENT
DTSTART;TZID=UTC:20271129T090000
DTEND;TZID=UTC:20271129T110000
DTSTAMP:20260423T132159
CREATED:20250818T183055Z
LAST-MODIFIED:20251230T194752Z
UID:33302-1827478800-1827486000@riverplex.org
SUMMARY:PreSchool Splash
DESCRIPTION:Join us for this parent-child open time in the leisure pool. Children ages 0–5 enjoy the splash features and play stations with a parent/guardian who is dressed to swim. There is no charge for adults\, but you must be in the water with your child. \n\nAges 0-5\nMonday and Wednesday\, 9-11 am\nNo registration needed\n\nFree for Members – NonMembers $5/child – Adults free with child admission
URL:https://riverplex.org/event/preschool-splash-2/2027-11-29/
LOCATION:Lazy River
CATEGORIES:Lazy River
END:VEVENT
BEGIN:VEVENT
DTSTART;TZID=UTC:20271201T090000
DTEND;TZID=UTC:20271201T110000
DTSTAMP:20260423T132159
CREATED:20250818T183055Z
LAST-MODIFIED:20251230T194752Z
UID:33335-1827651600-1827658800@riverplex.org
SUMMARY:PreSchool Splash
DESCRIPTION:Join us for this parent-child open time in the leisure pool. Children ages 0–5 enjoy the splash features and play stations with a parent/guardian who is dressed to swim. There is no charge for adults\, but you must be in the water with your child. \n\nAges 0-5\nMonday and Wednesday\, 9-11 am\nNo registration needed\n\nFree for Members – NonMembers $5/child – Adults free with child admission
URL:https://riverplex.org/event/preschool-splash-2/2027-12-01/
LOCATION:Lazy River
CATEGORIES:Lazy River
END:VEVENT
BEGIN:VEVENT
DTSTART;TZID=America/Chicago:20271203T160000
DTEND;TZID=America/Chicago:20271203T184500
DTSTAMP:20260423T132159
CREATED:20241126T144856Z
LAST-MODIFIED:20251223T193316Z
UID:33356-1827849600-1827859500@riverplex.org
SUMMARY:Kids Pool Open Swim
DESCRIPTION:
URL:https://riverplex.org/event/kids-pool-open-swim-2/2027-12-03/
LOCATION:Lap & Class Pool
CATEGORIES:Lap & Class Pool,Lazy River
END:VEVENT
BEGIN:VEVENT
DTSTART;TZID=America/Chicago:20271204T110000
DTEND;TZID=America/Chicago:20271204T154500
DTSTAMP:20260423T132159
CREATED:20250818T183809Z
LAST-MODIFIED:20251223T193347Z
UID:33373-1827918000-1827935100@riverplex.org
SUMMARY:Kids Pool Open Swim
DESCRIPTION:
URL:https://riverplex.org/event/kids-pool-open-swim-5/2027-12-04/
LOCATION:Lazy River
CATEGORIES:Lap & Class Pool,Lazy River
END:VEVENT
BEGIN:VEVENT
DTSTART;TZID=UTC:20271206T090000
DTEND;TZID=UTC:20271206T110000
DTSTAMP:20260423T132159
CREATED:20250818T183055Z
LAST-MODIFIED:20251230T194752Z
UID:33387-1828083600-1828090800@riverplex.org
SUMMARY:PreSchool Splash
DESCRIPTION:Join us for this parent-child open time in the leisure pool. Children ages 0–5 enjoy the splash features and play stations with a parent/guardian who is dressed to swim. There is no charge for adults\, but you must be in the water with your child. \n\nAges 0-5\nMonday and Wednesday\, 9-11 am\nNo registration needed\n\nFree for Members – NonMembers $5/child – Adults free with child admission
URL:https://riverplex.org/event/preschool-splash-2/2027-12-06/
LOCATION:Lazy River
CATEGORIES:Lazy River
END:VEVENT
BEGIN:VEVENT
DTSTART;TZID=UTC:20271208T090000
DTEND;TZID=UTC:20271208T110000
DTSTAMP:20260423T132159
CREATED:20250818T183055Z
LAST-MODIFIED:20251230T194752Z
UID:33425-1828256400-1828263600@riverplex.org
SUMMARY:PreSchool Splash
DESCRIPTION:Join us for this parent-child open time in the leisure pool. Children ages 0–5 enjoy the splash features and play stations with a parent/guardian who is dressed to swim. There is no charge for adults\, but you must be in the water with your child. \n\nAges 0-5\nMonday and Wednesday\, 9-11 am\nNo registration needed\n\nFree for Members – NonMembers $5/child – Adults free with child admission
URL:https://riverplex.org/event/preschool-splash-2/2027-12-08/
LOCATION:Lazy River
CATEGORIES:Lazy River
END:VEVENT
BEGIN:VEVENT
DTSTART;TZID=America/Chicago:20271210T160000
DTEND;TZID=America/Chicago:20271210T184500
DTSTAMP:20260423T132159
CREATED:20241126T144856Z
LAST-MODIFIED:20251223T193316Z
UID:33446-1828454400-1828464300@riverplex.org
SUMMARY:Kids Pool Open Swim
DESCRIPTION:
URL:https://riverplex.org/event/kids-pool-open-swim-2/2027-12-10/
LOCATION:Lap & Class Pool
CATEGORIES:Lap & Class Pool,Lazy River
END:VEVENT
BEGIN:VEVENT
DTSTART;TZID=America/Chicago:20271211T110000
DTEND;TZID=America/Chicago:20271211T154500
DTSTAMP:20260423T132159
CREATED:20250818T183809Z
LAST-MODIFIED:20251223T193347Z
UID:33463-1828522800-1828539900@riverplex.org
SUMMARY:Kids Pool Open Swim
DESCRIPTION:
URL:https://riverplex.org/event/kids-pool-open-swim-5/2027-12-11/
LOCATION:Lazy River
CATEGORIES:Lap & Class Pool,Lazy River
END:VEVENT
END:VCALENDAR