BEGIN:VCALENDAR
VERSION:2.0
PRODID:-//RiverPlex - ECPv6.15.18//NONSGML v1.0//EN
CALSCALE:GREGORIAN
METHOD:PUBLISH
X-ORIGINAL-URL:https://riverplex.org
X-WR-CALDESC:Events for RiverPlex
REFRESH-INTERVAL;VALUE=DURATION:PT1H
X-Robots-Tag:noindex
X-PUBLISHED-TTL:PT1H
BEGIN:VTIMEZONE
TZID:America/Chicago
BEGIN:DAYLIGHT
TZOFFSETFROM:-0600
TZOFFSETTO:-0500
TZNAME:CDT
DTSTART:20260308T080000
END:DAYLIGHT
BEGIN:STANDARD
TZOFFSETFROM:-0500
TZOFFSETTO:-0600
TZNAME:CST
DTSTART:20261101T070000
END:STANDARD
BEGIN:DAYLIGHT
TZOFFSETFROM:-0600
TZOFFSETTO:-0500
TZNAME:CDT
DTSTART:20270314T080000
END:DAYLIGHT
BEGIN:STANDARD
TZOFFSETFROM:-0500
TZOFFSETTO:-0600
TZNAME:CST
DTSTART:20271107T070000
END:STANDARD
BEGIN:DAYLIGHT
TZOFFSETFROM:-0600
TZOFFSETTO:-0500
TZNAME:CDT
DTSTART:20280312T080000
END:DAYLIGHT
BEGIN:STANDARD
TZOFFSETFROM:-0500
TZOFFSETTO:-0600
TZNAME:CST
DTSTART:20281105T070000
END:STANDARD
END:VTIMEZONE
BEGIN:VTIMEZONE
TZID:UTC
BEGIN:STANDARD
TZOFFSETFROM:+0000
TZOFFSETTO:+0000
TZNAME:UTC
DTSTART:20260101T000000
END:STANDARD
END:VTIMEZONE
BEGIN:VEVENT
DTSTART;TZID=America/Chicago:20270910T160000
DTEND;TZID=America/Chicago:20270910T184500
DTSTAMP:20260423T103112
CREATED:20241126T144856Z
LAST-MODIFIED:20251223T193315Z
UID:30779-1820592000-1820601900@riverplex.org
SUMMARY:Kids Pool Open Swim
DESCRIPTION:
URL:https://riverplex.org/event/kids-pool-open-swim-2/2027-09-10/
LOCATION:Lap & Class Pool
CATEGORIES:Lap & Class Pool,Lazy River
END:VEVENT
BEGIN:VEVENT
DTSTART;TZID=America/Chicago:20270911T110000
DTEND;TZID=America/Chicago:20270911T154500
DTSTAMP:20260423T103112
CREATED:20250818T183809Z
LAST-MODIFIED:20251223T193346Z
UID:30795-1820660400-1820677500@riverplex.org
SUMMARY:Kids Pool Open Swim
DESCRIPTION:
URL:https://riverplex.org/event/kids-pool-open-swim-5/2027-09-11/
LOCATION:Lazy River
CATEGORIES:Lap & Class Pool,Lazy River
END:VEVENT
BEGIN:VEVENT
DTSTART;TZID=UTC:20270913T090000
DTEND;TZID=UTC:20270913T110000
DTSTAMP:20260423T103112
CREATED:20250818T183055Z
LAST-MODIFIED:20251230T194749Z
UID:30810-1820826000-1820833200@riverplex.org
SUMMARY:PreSchool Splash
DESCRIPTION:Join us for this parent-child open time in the leisure pool. Children ages 0–5 enjoy the splash features and play stations with a parent/guardian who is dressed to swim. There is no charge for adults\, but you must be in the water with your child. \n\nAges 0-5\nMonday and Wednesday\, 9-11 am\nNo registration needed\n\nFree for Members – NonMembers $5/child – Adults free with child admission
URL:https://riverplex.org/event/preschool-splash-2/2027-09-13/
LOCATION:Lazy River
CATEGORIES:Lazy River
END:VEVENT
BEGIN:VEVENT
DTSTART;TZID=UTC:20270915T090000
DTEND;TZID=UTC:20270915T110000
DTSTAMP:20260423T103112
CREATED:20250818T183055Z
LAST-MODIFIED:20251230T194749Z
UID:30839-1820998800-1821006000@riverplex.org
SUMMARY:PreSchool Splash
DESCRIPTION:Join us for this parent-child open time in the leisure pool. Children ages 0–5 enjoy the splash features and play stations with a parent/guardian who is dressed to swim. There is no charge for adults\, but you must be in the water with your child. \n\nAges 0-5\nMonday and Wednesday\, 9-11 am\nNo registration needed\n\nFree for Members – NonMembers $5/child – Adults free with child admission
URL:https://riverplex.org/event/preschool-splash-2/2027-09-15/
LOCATION:Lazy River
CATEGORIES:Lazy River
END:VEVENT
BEGIN:VEVENT
DTSTART;TZID=America/Chicago:20270917T160000
DTEND;TZID=America/Chicago:20270917T184500
DTSTAMP:20260423T103112
CREATED:20241126T144856Z
LAST-MODIFIED:20251223T193315Z
UID:30858-1821196800-1821206700@riverplex.org
SUMMARY:Kids Pool Open Swim
DESCRIPTION:
URL:https://riverplex.org/event/kids-pool-open-swim-2/2027-09-17/
LOCATION:Lap & Class Pool
CATEGORIES:Lap & Class Pool,Lazy River
END:VEVENT
BEGIN:VEVENT
DTSTART;TZID=America/Chicago:20270918T110000
DTEND;TZID=America/Chicago:20270918T154500
DTSTAMP:20260423T103112
CREATED:20250818T183809Z
LAST-MODIFIED:20251223T193346Z
UID:30874-1821265200-1821282300@riverplex.org
SUMMARY:Kids Pool Open Swim
DESCRIPTION:
URL:https://riverplex.org/event/kids-pool-open-swim-5/2027-09-18/
LOCATION:Lazy River
CATEGORIES:Lap & Class Pool,Lazy River
END:VEVENT
BEGIN:VEVENT
DTSTART;TZID=UTC:20270920T090000
DTEND;TZID=UTC:20270920T110000
DTSTAMP:20260423T103112
CREATED:20250818T183055Z
LAST-MODIFIED:20251230T194749Z
UID:30889-1821430800-1821438000@riverplex.org
SUMMARY:PreSchool Splash
DESCRIPTION:Join us for this parent-child open time in the leisure pool. Children ages 0–5 enjoy the splash features and play stations with a parent/guardian who is dressed to swim. There is no charge for adults\, but you must be in the water with your child. \n\nAges 0-5\nMonday and Wednesday\, 9-11 am\nNo registration needed\n\nFree for Members – NonMembers $5/child – Adults free with child admission
URL:https://riverplex.org/event/preschool-splash-2/2027-09-20/
LOCATION:Lazy River
CATEGORIES:Lazy River
END:VEVENT
BEGIN:VEVENT
DTSTART;TZID=UTC:20270922T090000
DTEND;TZID=UTC:20270922T110000
DTSTAMP:20260423T103112
CREATED:20250818T183055Z
LAST-MODIFIED:20251230T194749Z
UID:30932-1821603600-1821610800@riverplex.org
SUMMARY:PreSchool Splash
DESCRIPTION:Join us for this parent-child open time in the leisure pool. Children ages 0–5 enjoy the splash features and play stations with a parent/guardian who is dressed to swim. There is no charge for adults\, but you must be in the water with your child. \n\nAges 0-5\nMonday and Wednesday\, 9-11 am\nNo registration needed\n\nFree for Members – NonMembers $5/child – Adults free with child admission
URL:https://riverplex.org/event/preschool-splash-2/2027-09-22/
LOCATION:Lazy River
CATEGORIES:Lazy River
END:VEVENT
BEGIN:VEVENT
DTSTART;TZID=America/Chicago:20270924T160000
DTEND;TZID=America/Chicago:20270924T184500
DTSTAMP:20260423T103112
CREATED:20241126T144856Z
LAST-MODIFIED:20251223T193315Z
UID:30950-1821801600-1821811500@riverplex.org
SUMMARY:Kids Pool Open Swim
DESCRIPTION:
URL:https://riverplex.org/event/kids-pool-open-swim-2/2027-09-24/
LOCATION:Lap & Class Pool
CATEGORIES:Lap & Class Pool,Lazy River
END:VEVENT
BEGIN:VEVENT
DTSTART;TZID=America/Chicago:20270925T110000
DTEND;TZID=America/Chicago:20270925T154500
DTSTAMP:20260423T103112
CREATED:20250818T183809Z
LAST-MODIFIED:20251223T193346Z
UID:30966-1821870000-1821887100@riverplex.org
SUMMARY:Kids Pool Open Swim
DESCRIPTION:
URL:https://riverplex.org/event/kids-pool-open-swim-5/2027-09-25/
LOCATION:Lazy River
CATEGORIES:Lap & Class Pool,Lazy River
END:VEVENT
BEGIN:VEVENT
DTSTART;TZID=UTC:20270927T090000
DTEND;TZID=UTC:20270927T110000
DTSTAMP:20260423T103112
CREATED:20250818T183055Z
LAST-MODIFIED:20251230T194749Z
UID:30980-1822035600-1822042800@riverplex.org
SUMMARY:PreSchool Splash
DESCRIPTION:Join us for this parent-child open time in the leisure pool. Children ages 0–5 enjoy the splash features and play stations with a parent/guardian who is dressed to swim. There is no charge for adults\, but you must be in the water with your child. \n\nAges 0-5\nMonday and Wednesday\, 9-11 am\nNo registration needed\n\nFree for Members – NonMembers $5/child – Adults free with child admission
URL:https://riverplex.org/event/preschool-splash-2/2027-09-27/
LOCATION:Lazy River
CATEGORIES:Lazy River
END:VEVENT
BEGIN:VEVENT
DTSTART;TZID=UTC:20270929T090000
DTEND;TZID=UTC:20270929T110000
DTSTAMP:20260423T103112
CREATED:20250818T183055Z
LAST-MODIFIED:20251230T194750Z
UID:31009-1822208400-1822215600@riverplex.org
SUMMARY:PreSchool Splash
DESCRIPTION:Join us for this parent-child open time in the leisure pool. Children ages 0–5 enjoy the splash features and play stations with a parent/guardian who is dressed to swim. There is no charge for adults\, but you must be in the water with your child. \n\nAges 0-5\nMonday and Wednesday\, 9-11 am\nNo registration needed\n\nFree for Members – NonMembers $5/child – Adults free with child admission
URL:https://riverplex.org/event/preschool-splash-2/2027-09-29/
LOCATION:Lazy River
CATEGORIES:Lazy River
END:VEVENT
BEGIN:VEVENT
DTSTART;TZID=America/Chicago:20271001T160000
DTEND;TZID=America/Chicago:20271001T184500
DTSTAMP:20260423T103112
CREATED:20241126T144856Z
LAST-MODIFIED:20251223T193315Z
UID:31027-1822406400-1822416300@riverplex.org
SUMMARY:Kids Pool Open Swim
DESCRIPTION:
URL:https://riverplex.org/event/kids-pool-open-swim-2/2027-10-01/
LOCATION:Lap & Class Pool
CATEGORIES:Lap & Class Pool,Lazy River
END:VEVENT
BEGIN:VEVENT
DTSTART;TZID=America/Chicago:20271002T110000
DTEND;TZID=America/Chicago:20271002T154500
DTSTAMP:20260423T103112
CREATED:20250818T183809Z
LAST-MODIFIED:20251223T193346Z
UID:31151-1822474800-1822491900@riverplex.org
SUMMARY:Kids Pool Open Swim
DESCRIPTION:
URL:https://riverplex.org/event/kids-pool-open-swim-5/2027-10-02/
LOCATION:Lazy River
CATEGORIES:Lap & Class Pool,Lazy River
END:VEVENT
BEGIN:VEVENT
DTSTART;TZID=UTC:20271004T090000
DTEND;TZID=UTC:20271004T110000
DTSTAMP:20260423T103112
CREATED:20250818T183055Z
LAST-MODIFIED:20251230T194750Z
UID:31180-1822640400-1822647600@riverplex.org
SUMMARY:PreSchool Splash
DESCRIPTION:Join us for this parent-child open time in the leisure pool. Children ages 0–5 enjoy the splash features and play stations with a parent/guardian who is dressed to swim. There is no charge for adults\, but you must be in the water with your child. \n\nAges 0-5\nMonday and Wednesday\, 9-11 am\nNo registration needed\n\nFree for Members – NonMembers $5/child – Adults free with child admission
URL:https://riverplex.org/event/preschool-splash-2/2027-10-04/
LOCATION:Lazy River
CATEGORIES:Lazy River
END:VEVENT
BEGIN:VEVENT
DTSTART;TZID=UTC:20271006T090000
DTEND;TZID=UTC:20271006T110000
DTSTAMP:20260423T103112
CREATED:20250818T183055Z
LAST-MODIFIED:20251230T194750Z
UID:31312-1822813200-1822820400@riverplex.org
SUMMARY:PreSchool Splash
DESCRIPTION:Join us for this parent-child open time in the leisure pool. Children ages 0–5 enjoy the splash features and play stations with a parent/guardian who is dressed to swim. There is no charge for adults\, but you must be in the water with your child. \n\nAges 0-5\nMonday and Wednesday\, 9-11 am\nNo registration needed\n\nFree for Members – NonMembers $5/child – Adults free with child admission
URL:https://riverplex.org/event/preschool-splash-2/2027-10-06/
LOCATION:Lazy River
CATEGORIES:Lazy River
END:VEVENT
BEGIN:VEVENT
DTSTART;TZID=America/Chicago:20271008T160000
DTEND;TZID=America/Chicago:20271008T184500
DTSTAMP:20260423T103112
CREATED:20241126T144856Z
LAST-MODIFIED:20251223T193315Z
UID:31334-1823011200-1823021100@riverplex.org
SUMMARY:Kids Pool Open Swim
DESCRIPTION:
URL:https://riverplex.org/event/kids-pool-open-swim-2/2027-10-08/
LOCATION:Lap & Class Pool
CATEGORIES:Lap & Class Pool,Lazy River
END:VEVENT
BEGIN:VEVENT
DTSTART;TZID=America/Chicago:20271009T110000
DTEND;TZID=America/Chicago:20271009T154500
DTSTAMP:20260423T103112
CREATED:20250818T183809Z
LAST-MODIFIED:20251223T193346Z
UID:31356-1823079600-1823096700@riverplex.org
SUMMARY:Kids Pool Open Swim
DESCRIPTION:
URL:https://riverplex.org/event/kids-pool-open-swim-5/2027-10-09/
LOCATION:Lazy River
CATEGORIES:Lap & Class Pool,Lazy River
END:VEVENT
BEGIN:VEVENT
DTSTART;TZID=UTC:20271011T090000
DTEND;TZID=UTC:20271011T110000
DTSTAMP:20260423T103112
CREATED:20250818T183055Z
LAST-MODIFIED:20251230T194750Z
UID:32271-1823245200-1823252400@riverplex.org
SUMMARY:PreSchool Splash
DESCRIPTION:Join us for this parent-child open time in the leisure pool. Children ages 0–5 enjoy the splash features and play stations with a parent/guardian who is dressed to swim. There is no charge for adults\, but you must be in the water with your child. \n\nAges 0-5\nMonday and Wednesday\, 9-11 am\nNo registration needed\n\nFree for Members – NonMembers $5/child – Adults free with child admission
URL:https://riverplex.org/event/preschool-splash-2/2027-10-11/
LOCATION:Lazy River
CATEGORIES:Lazy River
END:VEVENT
BEGIN:VEVENT
DTSTART;TZID=UTC:20271013T090000
DTEND;TZID=UTC:20271013T110000
DTSTAMP:20260423T103112
CREATED:20250818T183055Z
LAST-MODIFIED:20251230T194750Z
UID:32308-1823418000-1823425200@riverplex.org
SUMMARY:PreSchool Splash
DESCRIPTION:Join us for this parent-child open time in the leisure pool. Children ages 0–5 enjoy the splash features and play stations with a parent/guardian who is dressed to swim. There is no charge for adults\, but you must be in the water with your child. \n\nAges 0-5\nMonday and Wednesday\, 9-11 am\nNo registration needed\n\nFree for Members – NonMembers $5/child – Adults free with child admission
URL:https://riverplex.org/event/preschool-splash-2/2027-10-13/
LOCATION:Lazy River
CATEGORIES:Lazy River
END:VEVENT
BEGIN:VEVENT
DTSTART;TZID=America/Chicago:20271015T160000
DTEND;TZID=America/Chicago:20271015T184500
DTSTAMP:20260423T103112
CREATED:20241126T144856Z
LAST-MODIFIED:20251223T193315Z
UID:32337-1823616000-1823625900@riverplex.org
SUMMARY:Kids Pool Open Swim
DESCRIPTION:
URL:https://riverplex.org/event/kids-pool-open-swim-2/2027-10-15/
LOCATION:Lap & Class Pool
CATEGORIES:Lap & Class Pool,Lazy River
END:VEVENT
BEGIN:VEVENT
DTSTART;TZID=America/Chicago:20271016T110000
DTEND;TZID=America/Chicago:20271016T154500
DTSTAMP:20260423T103112
CREATED:20250818T183809Z
LAST-MODIFIED:20251223T193346Z
UID:32353-1823684400-1823701500@riverplex.org
SUMMARY:Kids Pool Open Swim
DESCRIPTION:
URL:https://riverplex.org/event/kids-pool-open-swim-5/2027-10-16/
LOCATION:Lazy River
CATEGORIES:Lap & Class Pool,Lazy River
END:VEVENT
BEGIN:VEVENT
DTSTART;TZID=UTC:20271018T090000
DTEND;TZID=UTC:20271018T110000
DTSTAMP:20260423T103112
CREATED:20250818T183055Z
LAST-MODIFIED:20251230T194750Z
UID:32367-1823850000-1823857200@riverplex.org
SUMMARY:PreSchool Splash
DESCRIPTION:Join us for this parent-child open time in the leisure pool. Children ages 0–5 enjoy the splash features and play stations with a parent/guardian who is dressed to swim. There is no charge for adults\, but you must be in the water with your child. \n\nAges 0-5\nMonday and Wednesday\, 9-11 am\nNo registration needed\n\nFree for Members – NonMembers $5/child – Adults free with child admission
URL:https://riverplex.org/event/preschool-splash-2/2027-10-18/
LOCATION:Lazy River
CATEGORIES:Lazy River
END:VEVENT
BEGIN:VEVENT
DTSTART;TZID=UTC:20271020T090000
DTEND;TZID=UTC:20271020T110000
DTSTAMP:20260423T103112
CREATED:20250818T183055Z
LAST-MODIFIED:20251230T194750Z
UID:32398-1824022800-1824030000@riverplex.org
SUMMARY:PreSchool Splash
DESCRIPTION:Join us for this parent-child open time in the leisure pool. Children ages 0–5 enjoy the splash features and play stations with a parent/guardian who is dressed to swim. There is no charge for adults\, but you must be in the water with your child. \n\nAges 0-5\nMonday and Wednesday\, 9-11 am\nNo registration needed\n\nFree for Members – NonMembers $5/child – Adults free with child admission
URL:https://riverplex.org/event/preschool-splash-2/2027-10-20/
LOCATION:Lazy River
CATEGORIES:Lazy River
END:VEVENT
BEGIN:VEVENT
DTSTART;TZID=America/Chicago:20271022T160000
DTEND;TZID=America/Chicago:20271022T184500
DTSTAMP:20260423T103112
CREATED:20241126T144856Z
LAST-MODIFIED:20251223T193315Z
UID:32664-1824220800-1824230700@riverplex.org
SUMMARY:Kids Pool Open Swim
DESCRIPTION:
URL:https://riverplex.org/event/kids-pool-open-swim-2/2027-10-22/
LOCATION:Lap & Class Pool
CATEGORIES:Lap & Class Pool,Lazy River
END:VEVENT
BEGIN:VEVENT
DTSTART;TZID=America/Chicago:20271023T110000
DTEND;TZID=America/Chicago:20271023T154500
DTSTAMP:20260423T103112
CREATED:20250818T183809Z
LAST-MODIFIED:20251223T193347Z
UID:32681-1824289200-1824306300@riverplex.org
SUMMARY:Kids Pool Open Swim
DESCRIPTION:
URL:https://riverplex.org/event/kids-pool-open-swim-5/2027-10-23/
LOCATION:Lazy River
CATEGORIES:Lap & Class Pool,Lazy River
END:VEVENT
BEGIN:VEVENT
DTSTART;TZID=UTC:20271025T090000
DTEND;TZID=UTC:20271025T110000
DTSTAMP:20260423T103112
CREATED:20250818T183055Z
LAST-MODIFIED:20251230T194750Z
UID:32695-1824454800-1824462000@riverplex.org
SUMMARY:PreSchool Splash
DESCRIPTION:Join us for this parent-child open time in the leisure pool. Children ages 0–5 enjoy the splash features and play stations with a parent/guardian who is dressed to swim. There is no charge for adults\, but you must be in the water with your child. \n\nAges 0-5\nMonday and Wednesday\, 9-11 am\nNo registration needed\n\nFree for Members – NonMembers $5/child – Adults free with child admission
URL:https://riverplex.org/event/preschool-splash-2/2027-10-25/
LOCATION:Lazy River
CATEGORIES:Lazy River
END:VEVENT
BEGIN:VEVENT
DTSTART;TZID=UTC:20271027T090000
DTEND;TZID=UTC:20271027T110000
DTSTAMP:20260423T103112
CREATED:20250818T183055Z
LAST-MODIFIED:20251230T194751Z
UID:32728-1824627600-1824634800@riverplex.org
SUMMARY:PreSchool Splash
DESCRIPTION:Join us for this parent-child open time in the leisure pool. Children ages 0–5 enjoy the splash features and play stations with a parent/guardian who is dressed to swim. There is no charge for adults\, but you must be in the water with your child. \n\nAges 0-5\nMonday and Wednesday\, 9-11 am\nNo registration needed\n\nFree for Members – NonMembers $5/child – Adults free with child admission
URL:https://riverplex.org/event/preschool-splash-2/2027-10-27/
LOCATION:Lazy River
CATEGORIES:Lazy River
END:VEVENT
BEGIN:VEVENT
DTSTART;TZID=America/Chicago:20271029T160000
DTEND;TZID=America/Chicago:20271029T184500
DTSTAMP:20260423T103112
CREATED:20241126T144856Z
LAST-MODIFIED:20251223T193316Z
UID:32751-1824825600-1824835500@riverplex.org
SUMMARY:Kids Pool Open Swim
DESCRIPTION:
URL:https://riverplex.org/event/kids-pool-open-swim-2/2027-10-29/
LOCATION:Lap & Class Pool
CATEGORIES:Lap & Class Pool,Lazy River
END:VEVENT
BEGIN:VEVENT
DTSTART;TZID=America/Chicago:20271030T110000
DTEND;TZID=America/Chicago:20271030T154500
DTSTAMP:20260423T103112
CREATED:20250818T183809Z
LAST-MODIFIED:20251223T193347Z
UID:32768-1824894000-1824911100@riverplex.org
SUMMARY:Kids Pool Open Swim
DESCRIPTION:
URL:https://riverplex.org/event/kids-pool-open-swim-5/2027-10-30/
LOCATION:Lazy River
CATEGORIES:Lap & Class Pool,Lazy River
END:VEVENT
END:VCALENDAR