BEGIN:VCALENDAR
VERSION:2.0
PRODID:-//RiverPlex - ECPv6.15.18//NONSGML v1.0//EN
CALSCALE:GREGORIAN
METHOD:PUBLISH
X-ORIGINAL-URL:https://riverplex.org
X-WR-CALDESC:Events for RiverPlex
REFRESH-INTERVAL;VALUE=DURATION:PT1H
X-Robots-Tag:noindex
X-PUBLISHED-TTL:PT1H
BEGIN:VTIMEZONE
TZID:America/Chicago
BEGIN:DAYLIGHT
TZOFFSETFROM:-0600
TZOFFSETTO:-0500
TZNAME:CDT
DTSTART:20240310T080000
END:DAYLIGHT
BEGIN:STANDARD
TZOFFSETFROM:-0500
TZOFFSETTO:-0600
TZNAME:CST
DTSTART:20241103T070000
END:STANDARD
BEGIN:DAYLIGHT
TZOFFSETFROM:-0600
TZOFFSETTO:-0500
TZNAME:CDT
DTSTART:20250309T080000
END:DAYLIGHT
BEGIN:STANDARD
TZOFFSETFROM:-0500
TZOFFSETTO:-0600
TZNAME:CST
DTSTART:20251102T070000
END:STANDARD
BEGIN:DAYLIGHT
TZOFFSETFROM:-0600
TZOFFSETTO:-0500
TZNAME:CDT
DTSTART:20260308T080000
END:DAYLIGHT
BEGIN:STANDARD
TZOFFSETFROM:-0500
TZOFFSETTO:-0600
TZNAME:CST
DTSTART:20261101T070000
END:STANDARD
END:VTIMEZONE
BEGIN:VEVENT
DTSTART;TZID=America/Chicago:20250418T180000
DTEND;TZID=America/Chicago:20250418T190000
DTSTAMP:20260423T203516
CREATED:20241202T123745Z
LAST-MODIFIED:20251010T154047Z
UID:3867-1744999200-1745002800@riverplex.org
SUMMARY:Virtual Les Mills SH'BAM
DESCRIPTION:This is the same SH’BAM workout\, but in the virtual format. The TV screen will automatically start playing the class at the scheduled start time.
URL:https://riverplex.org/event/virtual-les-mills-shbam/2025-04-18/
LOCATION:Upstairs Studio
CATEGORIES:Land Group Exercise
END:VEVENT
BEGIN:VEVENT
DTSTART;TZID=America/Chicago:20250414T090000
DTEND;TZID=America/Chicago:20250414T093000
DTSTAMP:20260423T203516
CREATED:20241126T134701Z
LAST-MODIFIED:20241126T134701Z
UID:3908-1744621200-1744623000@riverplex.org
SUMMARY:Virtual Les Mills Sprint
DESCRIPTION:This is the same SPRINT workout\, but in the virtual format. The TV screen will automatically start playing the class at the scheduled start time.
URL:https://riverplex.org/event/virtual-les-mills-sprint/2025-04-14/
LOCATION:Spin Studio
CATEGORIES:Land Group Exercise
END:VEVENT
BEGIN:VEVENT
DTSTART;TZID=America/Chicago:20250411T180000
DTEND;TZID=America/Chicago:20250411T190000
DTSTAMP:20260423T203516
CREATED:20241202T123745Z
LAST-MODIFIED:20251010T154047Z
UID:3866-1744394400-1744398000@riverplex.org
SUMMARY:Virtual Les Mills SH'BAM
DESCRIPTION:This is the same SH’BAM workout\, but in the virtual format. The TV screen will automatically start playing the class at the scheduled start time.
URL:https://riverplex.org/event/virtual-les-mills-shbam/2025-04-11/
LOCATION:Upstairs Studio
CATEGORIES:Land Group Exercise
END:VEVENT
BEGIN:VEVENT
DTSTART;TZID=America/Chicago:20250407T090000
DTEND;TZID=America/Chicago:20250407T093000
DTSTAMP:20260423T203516
CREATED:20241126T134701Z
LAST-MODIFIED:20241126T134701Z
UID:3907-1744016400-1744018200@riverplex.org
SUMMARY:Virtual Les Mills Sprint
DESCRIPTION:This is the same SPRINT workout\, but in the virtual format. The TV screen will automatically start playing the class at the scheduled start time.
URL:https://riverplex.org/event/virtual-les-mills-sprint/2025-04-07/
LOCATION:Spin Studio
CATEGORIES:Land Group Exercise
END:VEVENT
BEGIN:VEVENT
DTSTART;TZID=America/Chicago:20250404T180000
DTEND;TZID=America/Chicago:20250404T190000
DTSTAMP:20260423T203516
CREATED:20241202T123745Z
LAST-MODIFIED:20251010T154047Z
UID:3865-1743789600-1743793200@riverplex.org
SUMMARY:Virtual Les Mills SH'BAM
DESCRIPTION:This is the same SH’BAM workout\, but in the virtual format. The TV screen will automatically start playing the class at the scheduled start time.
URL:https://riverplex.org/event/virtual-les-mills-shbam/2025-04-04/
LOCATION:Upstairs Studio
CATEGORIES:Land Group Exercise
END:VEVENT
BEGIN:VEVENT
DTSTART;TZID=America/Chicago:20250331T090000
DTEND;TZID=America/Chicago:20250331T093000
DTSTAMP:20260423T203516
CREATED:20241126T134701Z
LAST-MODIFIED:20241126T134701Z
UID:3906-1743411600-1743413400@riverplex.org
SUMMARY:Virtual Les Mills Sprint
DESCRIPTION:This is the same SPRINT workout\, but in the virtual format. The TV screen will automatically start playing the class at the scheduled start time.
URL:https://riverplex.org/event/virtual-les-mills-sprint/2025-03-31/
LOCATION:Spin Studio
CATEGORIES:Land Group Exercise
END:VEVENT
BEGIN:VEVENT
DTSTART;TZID=America/Chicago:20250328T180000
DTEND;TZID=America/Chicago:20250328T190000
DTSTAMP:20260423T203516
CREATED:20241202T123745Z
LAST-MODIFIED:20251010T154047Z
UID:3864-1743184800-1743188400@riverplex.org
SUMMARY:Virtual Les Mills SH'BAM
DESCRIPTION:This is the same SH’BAM workout\, but in the virtual format. The TV screen will automatically start playing the class at the scheduled start time.
URL:https://riverplex.org/event/virtual-les-mills-shbam/2025-03-28/
LOCATION:Upstairs Studio
CATEGORIES:Land Group Exercise
END:VEVENT
BEGIN:VEVENT
DTSTART;TZID=America/Chicago:20250324T090000
DTEND;TZID=America/Chicago:20250324T093000
DTSTAMP:20260423T203516
CREATED:20241126T134701Z
LAST-MODIFIED:20241126T134701Z
UID:3905-1742806800-1742808600@riverplex.org
SUMMARY:Virtual Les Mills Sprint
DESCRIPTION:This is the same SPRINT workout\, but in the virtual format. The TV screen will automatically start playing the class at the scheduled start time.
URL:https://riverplex.org/event/virtual-les-mills-sprint/2025-03-24/
LOCATION:Spin Studio
CATEGORIES:Land Group Exercise
END:VEVENT
BEGIN:VEVENT
DTSTART;TZID=America/Chicago:20250321T180000
DTEND;TZID=America/Chicago:20250321T190000
DTSTAMP:20260423T203516
CREATED:20241202T123745Z
LAST-MODIFIED:20251010T154047Z
UID:3863-1742580000-1742583600@riverplex.org
SUMMARY:Virtual Les Mills SH'BAM
DESCRIPTION:This is the same SH’BAM workout\, but in the virtual format. The TV screen will automatically start playing the class at the scheduled start time.
URL:https://riverplex.org/event/virtual-les-mills-shbam/2025-03-21/
LOCATION:Upstairs Studio
CATEGORIES:Land Group Exercise
END:VEVENT
BEGIN:VEVENT
DTSTART;TZID=America/Chicago:20250317T090000
DTEND;TZID=America/Chicago:20250317T093000
DTSTAMP:20260423T203516
CREATED:20241126T134701Z
LAST-MODIFIED:20241126T134701Z
UID:3904-1742202000-1742203800@riverplex.org
SUMMARY:Virtual Les Mills Sprint
DESCRIPTION:This is the same SPRINT workout\, but in the virtual format. The TV screen will automatically start playing the class at the scheduled start time.
URL:https://riverplex.org/event/virtual-les-mills-sprint/2025-03-17/
LOCATION:Spin Studio
CATEGORIES:Land Group Exercise
END:VEVENT
BEGIN:VEVENT
DTSTART;TZID=America/Chicago:20250314T180000
DTEND;TZID=America/Chicago:20250314T190000
DTSTAMP:20260423T203516
CREATED:20241202T123745Z
LAST-MODIFIED:20251010T154047Z
UID:3862-1741975200-1741978800@riverplex.org
SUMMARY:Virtual Les Mills SH'BAM
DESCRIPTION:This is the same SH’BAM workout\, but in the virtual format. The TV screen will automatically start playing the class at the scheduled start time.
URL:https://riverplex.org/event/virtual-les-mills-shbam/2025-03-14/
LOCATION:Upstairs Studio
CATEGORIES:Land Group Exercise
END:VEVENT
BEGIN:VEVENT
DTSTART;TZID=America/Chicago:20250310T090000
DTEND;TZID=America/Chicago:20250310T093000
DTSTAMP:20260423T203516
CREATED:20241126T134701Z
LAST-MODIFIED:20241126T134701Z
UID:3903-1741597200-1741599000@riverplex.org
SUMMARY:Virtual Les Mills Sprint
DESCRIPTION:This is the same SPRINT workout\, but in the virtual format. The TV screen will automatically start playing the class at the scheduled start time.
URL:https://riverplex.org/event/virtual-les-mills-sprint/2025-03-10/
LOCATION:Spin Studio
CATEGORIES:Land Group Exercise
END:VEVENT
BEGIN:VEVENT
DTSTART;TZID=America/Chicago:20250307T180000
DTEND;TZID=America/Chicago:20250307T190000
DTSTAMP:20260423T203516
CREATED:20241202T123745Z
LAST-MODIFIED:20251010T154047Z
UID:3861-1741370400-1741374000@riverplex.org
SUMMARY:Virtual Les Mills SH'BAM
DESCRIPTION:This is the same SH’BAM workout\, but in the virtual format. The TV screen will automatically start playing the class at the scheduled start time.
URL:https://riverplex.org/event/virtual-les-mills-shbam/2025-03-07/
LOCATION:Upstairs Studio
CATEGORIES:Land Group Exercise
END:VEVENT
BEGIN:VEVENT
DTSTART;TZID=America/Chicago:20250303T090000
DTEND;TZID=America/Chicago:20250303T093000
DTSTAMP:20260423T203516
CREATED:20241126T134701Z
LAST-MODIFIED:20241126T134701Z
UID:3902-1740992400-1740994200@riverplex.org
SUMMARY:Virtual Les Mills Sprint
DESCRIPTION:This is the same SPRINT workout\, but in the virtual format. The TV screen will automatically start playing the class at the scheduled start time.
URL:https://riverplex.org/event/virtual-les-mills-sprint/2025-03-03/
LOCATION:Spin Studio
CATEGORIES:Land Group Exercise
END:VEVENT
BEGIN:VEVENT
DTSTART;TZID=America/Chicago:20250228T180000
DTEND;TZID=America/Chicago:20250228T190000
DTSTAMP:20260423T203516
CREATED:20241202T123745Z
LAST-MODIFIED:20251010T154047Z
UID:3860-1740765600-1740769200@riverplex.org
SUMMARY:Virtual Les Mills SH'BAM
DESCRIPTION:This is the same SH’BAM workout\, but in the virtual format. The TV screen will automatically start playing the class at the scheduled start time.
URL:https://riverplex.org/event/virtual-les-mills-shbam/2025-02-28/
LOCATION:Upstairs Studio
CATEGORIES:Land Group Exercise
END:VEVENT
BEGIN:VEVENT
DTSTART;TZID=America/Chicago:20250224T090000
DTEND;TZID=America/Chicago:20250224T093000
DTSTAMP:20260423T203516
CREATED:20241126T134701Z
LAST-MODIFIED:20241126T134701Z
UID:3901-1740387600-1740389400@riverplex.org
SUMMARY:Virtual Les Mills Sprint
DESCRIPTION:This is the same SPRINT workout\, but in the virtual format. The TV screen will automatically start playing the class at the scheduled start time.
URL:https://riverplex.org/event/virtual-les-mills-sprint/2025-02-24/
LOCATION:Spin Studio
CATEGORIES:Land Group Exercise
END:VEVENT
BEGIN:VEVENT
DTSTART;TZID=America/Chicago:20250221T180000
DTEND;TZID=America/Chicago:20250221T190000
DTSTAMP:20260423T203516
CREATED:20241202T123745Z
LAST-MODIFIED:20251010T154046Z
UID:3859-1740160800-1740164400@riverplex.org
SUMMARY:Virtual Les Mills SH'BAM
DESCRIPTION:This is the same SH’BAM workout\, but in the virtual format. The TV screen will automatically start playing the class at the scheduled start time.
URL:https://riverplex.org/event/virtual-les-mills-shbam/2025-02-21/
LOCATION:Upstairs Studio
CATEGORIES:Land Group Exercise
END:VEVENT
BEGIN:VEVENT
DTSTART;TZID=America/Chicago:20250217T090000
DTEND;TZID=America/Chicago:20250217T093000
DTSTAMP:20260423T203516
CREATED:20241126T134701Z
LAST-MODIFIED:20241126T134701Z
UID:3900-1739782800-1739784600@riverplex.org
SUMMARY:Virtual Les Mills Sprint
DESCRIPTION:This is the same SPRINT workout\, but in the virtual format. The TV screen will automatically start playing the class at the scheduled start time.
URL:https://riverplex.org/event/virtual-les-mills-sprint/2025-02-17/
LOCATION:Spin Studio
CATEGORIES:Land Group Exercise
END:VEVENT
BEGIN:VEVENT
DTSTART;TZID=America/Chicago:20250214T180000
DTEND;TZID=America/Chicago:20250214T190000
DTSTAMP:20260423T203516
CREATED:20241202T123745Z
LAST-MODIFIED:20251010T154045Z
UID:3857-1739556000-1739559600@riverplex.org
SUMMARY:Virtual Les Mills SH'BAM
DESCRIPTION:This is the same SH’BAM workout\, but in the virtual format. The TV screen will automatically start playing the class at the scheduled start time.
URL:https://riverplex.org/event/virtual-les-mills-shbam/2025-02-14/
LOCATION:Upstairs Studio
CATEGORIES:Land Group Exercise
END:VEVENT
BEGIN:VEVENT
DTSTART;TZID=America/Chicago:20250210T090000
DTEND;TZID=America/Chicago:20250210T093000
DTSTAMP:20260423T203516
CREATED:20241126T134701Z
LAST-MODIFIED:20241126T134701Z
UID:3898-1739178000-1739179800@riverplex.org
SUMMARY:Virtual Les Mills Sprint
DESCRIPTION:This is the same SPRINT workout\, but in the virtual format. The TV screen will automatically start playing the class at the scheduled start time.
URL:https://riverplex.org/event/virtual-les-mills-sprint/2025-02-10/
LOCATION:Spin Studio
CATEGORIES:Land Group Exercise
END:VEVENT
BEGIN:VEVENT
DTSTART;TZID=America/Chicago:20250207T180000
DTEND;TZID=America/Chicago:20250207T190000
DTSTAMP:20260423T203516
CREATED:20241202T123745Z
LAST-MODIFIED:20251010T154045Z
UID:3856-1738951200-1738954800@riverplex.org
SUMMARY:Virtual Les Mills SH'BAM
DESCRIPTION:This is the same SH’BAM workout\, but in the virtual format. The TV screen will automatically start playing the class at the scheduled start time.
URL:https://riverplex.org/event/virtual-les-mills-shbam/2025-02-07/
LOCATION:Upstairs Studio
CATEGORIES:Land Group Exercise
END:VEVENT
BEGIN:VEVENT
DTSTART;TZID=America/Chicago:20250203T090000
DTEND;TZID=America/Chicago:20250203T093000
DTSTAMP:20260423T203516
CREATED:20241126T134701Z
LAST-MODIFIED:20241126T134701Z
UID:3897-1738573200-1738575000@riverplex.org
SUMMARY:Virtual Les Mills Sprint
DESCRIPTION:This is the same SPRINT workout\, but in the virtual format. The TV screen will automatically start playing the class at the scheduled start time.
URL:https://riverplex.org/event/virtual-les-mills-sprint/2025-02-03/
LOCATION:Spin Studio
CATEGORIES:Land Group Exercise
END:VEVENT
BEGIN:VEVENT
DTSTART;TZID=America/Chicago:20250131T180000
DTEND;TZID=America/Chicago:20250131T190000
DTSTAMP:20260423T203516
CREATED:20241202T123745Z
LAST-MODIFIED:20251010T154044Z
UID:3855-1738346400-1738350000@riverplex.org
SUMMARY:Virtual Les Mills SH'BAM
DESCRIPTION:This is the same SH’BAM workout\, but in the virtual format. The TV screen will automatically start playing the class at the scheduled start time.
URL:https://riverplex.org/event/virtual-les-mills-shbam/2025-01-31/
LOCATION:Upstairs Studio
CATEGORIES:Land Group Exercise
END:VEVENT
BEGIN:VEVENT
DTSTART;TZID=America/Chicago:20250127T090000
DTEND;TZID=America/Chicago:20250127T093000
DTSTAMP:20260423T203516
CREATED:20241126T134701Z
LAST-MODIFIED:20241126T134701Z
UID:3896-1737968400-1737970200@riverplex.org
SUMMARY:Virtual Les Mills Sprint
DESCRIPTION:This is the same SPRINT workout\, but in the virtual format. The TV screen will automatically start playing the class at the scheduled start time.
URL:https://riverplex.org/event/virtual-les-mills-sprint/2025-01-27/
LOCATION:Spin Studio
CATEGORIES:Land Group Exercise
END:VEVENT
BEGIN:VEVENT
DTSTART;TZID=America/Chicago:20250124T180000
DTEND;TZID=America/Chicago:20250124T190000
DTSTAMP:20260423T203516
CREATED:20241202T123745Z
LAST-MODIFIED:20251010T154044Z
UID:3854-1737741600-1737745200@riverplex.org
SUMMARY:Virtual Les Mills SH'BAM
DESCRIPTION:This is the same SH’BAM workout\, but in the virtual format. The TV screen will automatically start playing the class at the scheduled start time.
URL:https://riverplex.org/event/virtual-les-mills-shbam/2025-01-24/
LOCATION:Upstairs Studio
CATEGORIES:Land Group Exercise
END:VEVENT
BEGIN:VEVENT
DTSTART;TZID=America/Chicago:20250120T090000
DTEND;TZID=America/Chicago:20250120T093000
DTSTAMP:20260423T203516
CREATED:20241126T134701Z
LAST-MODIFIED:20241126T134701Z
UID:3895-1737363600-1737365400@riverplex.org
SUMMARY:Virtual Les Mills Sprint
DESCRIPTION:This is the same SPRINT workout\, but in the virtual format. The TV screen will automatically start playing the class at the scheduled start time.
URL:https://riverplex.org/event/virtual-les-mills-sprint/2025-01-20/
LOCATION:Spin Studio
CATEGORIES:Land Group Exercise
END:VEVENT
BEGIN:VEVENT
DTSTART;TZID=America/Chicago:20250117T180000
DTEND;TZID=America/Chicago:20250117T190000
DTSTAMP:20260423T203516
CREATED:20241202T123745Z
LAST-MODIFIED:20251010T154044Z
UID:3853-1737136800-1737140400@riverplex.org
SUMMARY:Virtual Les Mills SH'BAM
DESCRIPTION:This is the same SH’BAM workout\, but in the virtual format. The TV screen will automatically start playing the class at the scheduled start time.
URL:https://riverplex.org/event/virtual-les-mills-shbam/2025-01-17/
LOCATION:Upstairs Studio
CATEGORIES:Land Group Exercise
END:VEVENT
BEGIN:VEVENT
DTSTART;TZID=America/Chicago:20250113T090000
DTEND;TZID=America/Chicago:20250113T093000
DTSTAMP:20260423T203516
CREATED:20241126T134701Z
LAST-MODIFIED:20241126T134701Z
UID:3894-1736758800-1736760600@riverplex.org
SUMMARY:Virtual Les Mills Sprint
DESCRIPTION:This is the same SPRINT workout\, but in the virtual format. The TV screen will automatically start playing the class at the scheduled start time.
URL:https://riverplex.org/event/virtual-les-mills-sprint/2025-01-13/
LOCATION:Spin Studio
CATEGORIES:Land Group Exercise
END:VEVENT
BEGIN:VEVENT
DTSTART;TZID=America/Chicago:20250110T180000
DTEND;TZID=America/Chicago:20250110T190000
DTSTAMP:20260423T203516
CREATED:20241202T123745Z
LAST-MODIFIED:20251010T154044Z
UID:3852-1736532000-1736535600@riverplex.org
SUMMARY:Virtual Les Mills SH'BAM
DESCRIPTION:This is the same SH’BAM workout\, but in the virtual format. The TV screen will automatically start playing the class at the scheduled start time.
URL:https://riverplex.org/event/virtual-les-mills-shbam/2025-01-10/
LOCATION:Upstairs Studio
CATEGORIES:Land Group Exercise
END:VEVENT
BEGIN:VEVENT
DTSTART;TZID=America/Chicago:20250106T090000
DTEND;TZID=America/Chicago:20250106T093000
DTSTAMP:20260423T203516
CREATED:20241126T134701Z
LAST-MODIFIED:20241126T134701Z
UID:3893-1736154000-1736155800@riverplex.org
SUMMARY:Virtual Les Mills Sprint
DESCRIPTION:This is the same SPRINT workout\, but in the virtual format. The TV screen will automatically start playing the class at the scheduled start time.
URL:https://riverplex.org/event/virtual-les-mills-sprint/2025-01-06/
LOCATION:Spin Studio
CATEGORIES:Land Group Exercise
END:VEVENT
END:VCALENDAR