BEGIN:VCALENDAR
VERSION:2.0
PRODID:-//RiverPlex - ECPv6.15.18//NONSGML v1.0//EN
CALSCALE:GREGORIAN
METHOD:PUBLISH
X-ORIGINAL-URL:https://riverplex.org
X-WR-CALDESC:Events for RiverPlex
REFRESH-INTERVAL;VALUE=DURATION:PT1H
X-Robots-Tag:noindex
X-PUBLISHED-TTL:PT1H
BEGIN:VTIMEZONE
TZID:America/Chicago
BEGIN:DAYLIGHT
TZOFFSETFROM:-0600
TZOFFSETTO:-0500
TZNAME:CDT
DTSTART:20250309T080000
END:DAYLIGHT
BEGIN:STANDARD
TZOFFSETFROM:-0500
TZOFFSETTO:-0600
TZNAME:CST
DTSTART:20251102T070000
END:STANDARD
BEGIN:DAYLIGHT
TZOFFSETFROM:-0600
TZOFFSETTO:-0500
TZNAME:CDT
DTSTART:20260308T080000
END:DAYLIGHT
BEGIN:STANDARD
TZOFFSETFROM:-0500
TZOFFSETTO:-0600
TZNAME:CST
DTSTART:20261101T070000
END:STANDARD
BEGIN:DAYLIGHT
TZOFFSETFROM:-0600
TZOFFSETTO:-0500
TZNAME:CDT
DTSTART:20270314T080000
END:DAYLIGHT
BEGIN:STANDARD
TZOFFSETFROM:-0500
TZOFFSETTO:-0600
TZNAME:CST
DTSTART:20271107T070000
END:STANDARD
BEGIN:DAYLIGHT
TZOFFSETFROM:-0600
TZOFFSETTO:-0500
TZNAME:CDT
DTSTART:20280312T080000
END:DAYLIGHT
BEGIN:STANDARD
TZOFFSETFROM:-0500
TZOFFSETTO:-0600
TZNAME:CST
DTSTART:20281105T070000
END:STANDARD
END:VTIMEZONE
BEGIN:VEVENT
DTSTART;TZID=America/Chicago:20260722T090000
DTEND;TZID=America/Chicago:20260722T095500
DTSTAMP:20260423T102631
CREATED:20241126T134205Z
LAST-MODIFIED:20251010T114555Z
UID:31553-1784710800-1784714100@riverplex.org
SUMMARY:Virtual Les Mills Sprint
DESCRIPTION:This is the same Sprint workout\, but in the virtual format. The TV screen will automatically start playing the class at the scheduled start time.
URL:https://riverplex.org/event/virtual-les-mills-rpm/2026-07-22/
LOCATION:Spin Studio
CATEGORIES:Land Group Exercise
END:VEVENT
BEGIN:VEVENT
DTSTART;TZID=America/Chicago:20260729T090000
DTEND;TZID=America/Chicago:20260729T095500
DTSTAMP:20260423T102631
CREATED:20241126T134205Z
LAST-MODIFIED:20251010T114555Z
UID:31554-1785315600-1785318900@riverplex.org
SUMMARY:Virtual Les Mills Sprint
DESCRIPTION:This is the same Sprint workout\, but in the virtual format. The TV screen will automatically start playing the class at the scheduled start time.
URL:https://riverplex.org/event/virtual-les-mills-rpm/2026-07-29/
LOCATION:Spin Studio
CATEGORIES:Land Group Exercise
END:VEVENT
BEGIN:VEVENT
DTSTART;TZID=America/Chicago:20260805T090000
DTEND;TZID=America/Chicago:20260805T095500
DTSTAMP:20260423T102631
CREATED:20241126T134205Z
LAST-MODIFIED:20251010T114556Z
UID:31555-1785920400-1785923700@riverplex.org
SUMMARY:Virtual Les Mills Sprint
DESCRIPTION:This is the same Sprint workout\, but in the virtual format. The TV screen will automatically start playing the class at the scheduled start time.
URL:https://riverplex.org/event/virtual-les-mills-rpm/2026-08-05/
LOCATION:Spin Studio
CATEGORIES:Land Group Exercise
END:VEVENT
BEGIN:VEVENT
DTSTART;TZID=America/Chicago:20260812T090000
DTEND;TZID=America/Chicago:20260812T095500
DTSTAMP:20260423T102631
CREATED:20241126T134205Z
LAST-MODIFIED:20251010T114556Z
UID:31556-1786525200-1786528500@riverplex.org
SUMMARY:Virtual Les Mills Sprint
DESCRIPTION:This is the same Sprint workout\, but in the virtual format. The TV screen will automatically start playing the class at the scheduled start time.
URL:https://riverplex.org/event/virtual-les-mills-rpm/2026-08-12/
LOCATION:Spin Studio
CATEGORIES:Land Group Exercise
END:VEVENT
BEGIN:VEVENT
DTSTART;TZID=America/Chicago:20260819T090000
DTEND;TZID=America/Chicago:20260819T095500
DTSTAMP:20260423T102631
CREATED:20241126T134205Z
LAST-MODIFIED:20251010T114556Z
UID:31557-1787130000-1787133300@riverplex.org
SUMMARY:Virtual Les Mills Sprint
DESCRIPTION:This is the same Sprint workout\, but in the virtual format. The TV screen will automatically start playing the class at the scheduled start time.
URL:https://riverplex.org/event/virtual-les-mills-rpm/2026-08-19/
LOCATION:Spin Studio
CATEGORIES:Land Group Exercise
END:VEVENT
BEGIN:VEVENT
DTSTART;TZID=America/Chicago:20260826T090000
DTEND;TZID=America/Chicago:20260826T095500
DTSTAMP:20260423T102631
CREATED:20241126T134205Z
LAST-MODIFIED:20251010T114556Z
UID:31558-1787734800-1787738100@riverplex.org
SUMMARY:Virtual Les Mills Sprint
DESCRIPTION:This is the same Sprint workout\, but in the virtual format. The TV screen will automatically start playing the class at the scheduled start time.
URL:https://riverplex.org/event/virtual-les-mills-rpm/2026-08-26/
LOCATION:Spin Studio
CATEGORIES:Land Group Exercise
END:VEVENT
BEGIN:VEVENT
DTSTART;TZID=America/Chicago:20260902T090000
DTEND;TZID=America/Chicago:20260902T095500
DTSTAMP:20260423T102631
CREATED:20241126T134205Z
LAST-MODIFIED:20251010T114556Z
UID:31559-1788339600-1788342900@riverplex.org
SUMMARY:Virtual Les Mills Sprint
DESCRIPTION:This is the same Sprint workout\, but in the virtual format. The TV screen will automatically start playing the class at the scheduled start time.
URL:https://riverplex.org/event/virtual-les-mills-rpm/2026-09-02/
LOCATION:Spin Studio
CATEGORIES:Land Group Exercise
END:VEVENT
BEGIN:VEVENT
DTSTART;TZID=America/Chicago:20260909T090000
DTEND;TZID=America/Chicago:20260909T095500
DTSTAMP:20260423T102631
CREATED:20241126T134205Z
LAST-MODIFIED:20251010T114556Z
UID:31560-1788944400-1788947700@riverplex.org
SUMMARY:Virtual Les Mills Sprint
DESCRIPTION:This is the same Sprint workout\, but in the virtual format. The TV screen will automatically start playing the class at the scheduled start time.
URL:https://riverplex.org/event/virtual-les-mills-rpm/2026-09-09/
LOCATION:Spin Studio
CATEGORIES:Land Group Exercise
END:VEVENT
BEGIN:VEVENT
DTSTART;TZID=America/Chicago:20260916T090000
DTEND;TZID=America/Chicago:20260916T095500
DTSTAMP:20260423T102631
CREATED:20241126T134205Z
LAST-MODIFIED:20251010T114556Z
UID:31561-1789549200-1789552500@riverplex.org
SUMMARY:Virtual Les Mills Sprint
DESCRIPTION:This is the same Sprint workout\, but in the virtual format. The TV screen will automatically start playing the class at the scheduled start time.
URL:https://riverplex.org/event/virtual-les-mills-rpm/2026-09-16/
LOCATION:Spin Studio
CATEGORIES:Land Group Exercise
END:VEVENT
BEGIN:VEVENT
DTSTART;TZID=America/Chicago:20260923T090000
DTEND;TZID=America/Chicago:20260923T095500
DTSTAMP:20260423T102631
CREATED:20241126T134205Z
LAST-MODIFIED:20251010T114556Z
UID:31562-1790154000-1790157300@riverplex.org
SUMMARY:Virtual Les Mills Sprint
DESCRIPTION:This is the same Sprint workout\, but in the virtual format. The TV screen will automatically start playing the class at the scheduled start time.
URL:https://riverplex.org/event/virtual-les-mills-rpm/2026-09-23/
LOCATION:Spin Studio
CATEGORIES:Land Group Exercise
END:VEVENT
BEGIN:VEVENT
DTSTART;TZID=America/Chicago:20260930T090000
DTEND;TZID=America/Chicago:20260930T095500
DTSTAMP:20260423T102631
CREATED:20241126T134205Z
LAST-MODIFIED:20251010T114557Z
UID:31563-1790758800-1790762100@riverplex.org
SUMMARY:Virtual Les Mills Sprint
DESCRIPTION:This is the same Sprint workout\, but in the virtual format. The TV screen will automatically start playing the class at the scheduled start time.
URL:https://riverplex.org/event/virtual-les-mills-rpm/2026-09-30/
LOCATION:Spin Studio
CATEGORIES:Land Group Exercise
END:VEVENT
BEGIN:VEVENT
DTSTART;TZID=America/Chicago:20261007T090000
DTEND;TZID=America/Chicago:20261007T095500
DTSTAMP:20260423T102631
CREATED:20241126T134205Z
LAST-MODIFIED:20251010T114557Z
UID:31564-1791363600-1791366900@riverplex.org
SUMMARY:Virtual Les Mills Sprint
DESCRIPTION:This is the same Sprint workout\, but in the virtual format. The TV screen will automatically start playing the class at the scheduled start time.
URL:https://riverplex.org/event/virtual-les-mills-rpm/2026-10-07/
LOCATION:Spin Studio
CATEGORIES:Land Group Exercise
END:VEVENT
BEGIN:VEVENT
DTSTART;TZID=America/Chicago:20261014T090000
DTEND;TZID=America/Chicago:20261014T095500
DTSTAMP:20260423T102631
CREATED:20241126T134205Z
LAST-MODIFIED:20251010T114557Z
UID:31565-1791968400-1791971700@riverplex.org
SUMMARY:Virtual Les Mills Sprint
DESCRIPTION:This is the same Sprint workout\, but in the virtual format. The TV screen will automatically start playing the class at the scheduled start time.
URL:https://riverplex.org/event/virtual-les-mills-rpm/2026-10-14/
LOCATION:Spin Studio
CATEGORIES:Land Group Exercise
END:VEVENT
BEGIN:VEVENT
DTSTART;TZID=America/Chicago:20261021T090000
DTEND;TZID=America/Chicago:20261021T095500
DTSTAMP:20260423T102631
CREATED:20241126T134205Z
LAST-MODIFIED:20251010T114557Z
UID:31566-1792573200-1792576500@riverplex.org
SUMMARY:Virtual Les Mills Sprint
DESCRIPTION:This is the same Sprint workout\, but in the virtual format. The TV screen will automatically start playing the class at the scheduled start time.
URL:https://riverplex.org/event/virtual-les-mills-rpm/2026-10-21/
LOCATION:Spin Studio
CATEGORIES:Land Group Exercise
END:VEVENT
BEGIN:VEVENT
DTSTART;TZID=America/Chicago:20261028T090000
DTEND;TZID=America/Chicago:20261028T095500
DTSTAMP:20260423T102631
CREATED:20241126T134205Z
LAST-MODIFIED:20251010T114557Z
UID:31567-1793178000-1793181300@riverplex.org
SUMMARY:Virtual Les Mills Sprint
DESCRIPTION:This is the same Sprint workout\, but in the virtual format. The TV screen will automatically start playing the class at the scheduled start time.
URL:https://riverplex.org/event/virtual-les-mills-rpm/2026-10-28/
LOCATION:Spin Studio
CATEGORIES:Land Group Exercise
END:VEVENT
BEGIN:VEVENT
DTSTART;TZID=America/Chicago:20261104T090000
DTEND;TZID=America/Chicago:20261104T095500
DTSTAMP:20260423T102631
CREATED:20241126T134205Z
LAST-MODIFIED:20251010T114557Z
UID:31568-1793782800-1793786100@riverplex.org
SUMMARY:Virtual Les Mills Sprint
DESCRIPTION:This is the same Sprint workout\, but in the virtual format. The TV screen will automatically start playing the class at the scheduled start time.
URL:https://riverplex.org/event/virtual-les-mills-rpm/2026-11-04/
LOCATION:Spin Studio
CATEGORIES:Land Group Exercise
END:VEVENT
BEGIN:VEVENT
DTSTART;TZID=America/Chicago:20261111T090000
DTEND;TZID=America/Chicago:20261111T095500
DTSTAMP:20260423T102631
CREATED:20241126T134205Z
LAST-MODIFIED:20251010T114558Z
UID:31569-1794387600-1794390900@riverplex.org
SUMMARY:Virtual Les Mills Sprint
DESCRIPTION:This is the same Sprint workout\, but in the virtual format. The TV screen will automatically start playing the class at the scheduled start time.
URL:https://riverplex.org/event/virtual-les-mills-rpm/2026-11-11/
LOCATION:Spin Studio
CATEGORIES:Land Group Exercise
END:VEVENT
BEGIN:VEVENT
DTSTART;TZID=America/Chicago:20261118T090000
DTEND;TZID=America/Chicago:20261118T095500
DTSTAMP:20260423T102631
CREATED:20241126T134205Z
LAST-MODIFIED:20251010T114558Z
UID:31570-1794992400-1794995700@riverplex.org
SUMMARY:Virtual Les Mills Sprint
DESCRIPTION:This is the same Sprint workout\, but in the virtual format. The TV screen will automatically start playing the class at the scheduled start time.
URL:https://riverplex.org/event/virtual-les-mills-rpm/2026-11-18/
LOCATION:Spin Studio
CATEGORIES:Land Group Exercise
END:VEVENT
BEGIN:VEVENT
DTSTART;TZID=America/Chicago:20261125T090000
DTEND;TZID=America/Chicago:20261125T095500
DTSTAMP:20260423T102631
CREATED:20241126T134205Z
LAST-MODIFIED:20251010T114558Z
UID:31571-1795597200-1795600500@riverplex.org
SUMMARY:Virtual Les Mills Sprint
DESCRIPTION:This is the same Sprint workout\, but in the virtual format. The TV screen will automatically start playing the class at the scheduled start time.
URL:https://riverplex.org/event/virtual-les-mills-rpm/2026-11-25/
LOCATION:Spin Studio
CATEGORIES:Land Group Exercise
END:VEVENT
BEGIN:VEVENT
DTSTART;TZID=America/Chicago:20261202T090000
DTEND;TZID=America/Chicago:20261202T095500
DTSTAMP:20260423T102631
CREATED:20241126T134205Z
LAST-MODIFIED:20251010T114558Z
UID:31572-1796202000-1796205300@riverplex.org
SUMMARY:Virtual Les Mills Sprint
DESCRIPTION:This is the same Sprint workout\, but in the virtual format. The TV screen will automatically start playing the class at the scheduled start time.
URL:https://riverplex.org/event/virtual-les-mills-rpm/2026-12-02/
LOCATION:Spin Studio
CATEGORIES:Land Group Exercise
END:VEVENT
BEGIN:VEVENT
DTSTART;TZID=America/Chicago:20261207T090000
DTEND;TZID=America/Chicago:20261207T093000
DTSTAMP:20260423T102631
CREATED:20241126T134701Z
LAST-MODIFIED:20241126T134701Z
UID:8682-1796634000-1796635800@riverplex.org
SUMMARY:Virtual Les Mills Sprint
DESCRIPTION:This is the same SPRINT workout\, but in the virtual format. The TV screen will automatically start playing the class at the scheduled start time.
URL:https://riverplex.org/event/virtual-les-mills-sprint/2026-12-07/
LOCATION:Spin Studio
CATEGORIES:Land Group Exercise
END:VEVENT
BEGIN:VEVENT
DTSTART;TZID=America/Chicago:20261209T090000
DTEND;TZID=America/Chicago:20261209T095500
DTSTAMP:20260423T102631
CREATED:20241126T134205Z
LAST-MODIFIED:20251010T114559Z
UID:31573-1796806800-1796810100@riverplex.org
SUMMARY:Virtual Les Mills Sprint
DESCRIPTION:This is the same Sprint workout\, but in the virtual format. The TV screen will automatically start playing the class at the scheduled start time.
URL:https://riverplex.org/event/virtual-les-mills-rpm/2026-12-09/
LOCATION:Spin Studio
CATEGORIES:Land Group Exercise
END:VEVENT
BEGIN:VEVENT
DTSTART;TZID=America/Chicago:20261214T090000
DTEND;TZID=America/Chicago:20261214T093000
DTSTAMP:20260423T102631
CREATED:20241126T134701Z
LAST-MODIFIED:20241126T134701Z
UID:10893-1797238800-1797240600@riverplex.org
SUMMARY:Virtual Les Mills Sprint
DESCRIPTION:This is the same SPRINT workout\, but in the virtual format. The TV screen will automatically start playing the class at the scheduled start time.
URL:https://riverplex.org/event/virtual-les-mills-sprint/2026-12-14/
LOCATION:Spin Studio
CATEGORIES:Land Group Exercise
END:VEVENT
BEGIN:VEVENT
DTSTART;TZID=America/Chicago:20261216T090000
DTEND;TZID=America/Chicago:20261216T095500
DTSTAMP:20260423T102631
CREATED:20241126T134205Z
LAST-MODIFIED:20251010T114559Z
UID:31574-1797411600-1797414900@riverplex.org
SUMMARY:Virtual Les Mills Sprint
DESCRIPTION:This is the same Sprint workout\, but in the virtual format. The TV screen will automatically start playing the class at the scheduled start time.
URL:https://riverplex.org/event/virtual-les-mills-rpm/2026-12-16/
LOCATION:Spin Studio
CATEGORIES:Land Group Exercise
END:VEVENT
BEGIN:VEVENT
DTSTART;TZID=America/Chicago:20261221T090000
DTEND;TZID=America/Chicago:20261221T093000
DTSTAMP:20260423T102631
CREATED:20241126T134701Z
LAST-MODIFIED:20241126T134701Z
UID:15962-1797843600-1797845400@riverplex.org
SUMMARY:Virtual Les Mills Sprint
DESCRIPTION:This is the same SPRINT workout\, but in the virtual format. The TV screen will automatically start playing the class at the scheduled start time.
URL:https://riverplex.org/event/virtual-les-mills-sprint/2026-12-21/
LOCATION:Spin Studio
CATEGORIES:Land Group Exercise
END:VEVENT
BEGIN:VEVENT
DTSTART;TZID=America/Chicago:20261223T090000
DTEND;TZID=America/Chicago:20261223T095500
DTSTAMP:20260423T102631
CREATED:20241126T134205Z
LAST-MODIFIED:20251010T114559Z
UID:31575-1798016400-1798019700@riverplex.org
SUMMARY:Virtual Les Mills Sprint
DESCRIPTION:This is the same Sprint workout\, but in the virtual format. The TV screen will automatically start playing the class at the scheduled start time.
URL:https://riverplex.org/event/virtual-les-mills-rpm/2026-12-23/
LOCATION:Spin Studio
CATEGORIES:Land Group Exercise
END:VEVENT
BEGIN:VEVENT
DTSTART;TZID=America/Chicago:20261228T090000
DTEND;TZID=America/Chicago:20261228T093000
DTSTAMP:20260423T102631
CREATED:20241126T134701Z
LAST-MODIFIED:20241126T134701Z
UID:16195-1798448400-1798450200@riverplex.org
SUMMARY:Virtual Les Mills Sprint
DESCRIPTION:This is the same SPRINT workout\, but in the virtual format. The TV screen will automatically start playing the class at the scheduled start time.
URL:https://riverplex.org/event/virtual-les-mills-sprint/2026-12-28/
LOCATION:Spin Studio
CATEGORIES:Land Group Exercise
END:VEVENT
BEGIN:VEVENT
DTSTART;TZID=America/Chicago:20261230T090000
DTEND;TZID=America/Chicago:20261230T095500
DTSTAMP:20260423T102631
CREATED:20241126T134205Z
LAST-MODIFIED:20251010T114559Z
UID:31576-1798621200-1798624500@riverplex.org
SUMMARY:Virtual Les Mills Sprint
DESCRIPTION:This is the same Sprint workout\, but in the virtual format. The TV screen will automatically start playing the class at the scheduled start time.
URL:https://riverplex.org/event/virtual-les-mills-rpm/2026-12-30/
LOCATION:Spin Studio
CATEGORIES:Land Group Exercise
END:VEVENT
BEGIN:VEVENT
DTSTART;TZID=America/Chicago:20270104T090000
DTEND;TZID=America/Chicago:20270104T093000
DTSTAMP:20260423T102631
CREATED:20241126T134701Z
LAST-MODIFIED:20241126T134701Z
UID:17897-1799053200-1799055000@riverplex.org
SUMMARY:Virtual Les Mills Sprint
DESCRIPTION:This is the same SPRINT workout\, but in the virtual format. The TV screen will automatically start playing the class at the scheduled start time.
URL:https://riverplex.org/event/virtual-les-mills-sprint/2027-01-04/
LOCATION:Spin Studio
CATEGORIES:Land Group Exercise
END:VEVENT
BEGIN:VEVENT
DTSTART;TZID=America/Chicago:20270106T090000
DTEND;TZID=America/Chicago:20270106T095500
DTSTAMP:20260423T102631
CREATED:20241126T134205Z
LAST-MODIFIED:20251010T114559Z
UID:31577-1799226000-1799229300@riverplex.org
SUMMARY:Virtual Les Mills Sprint
DESCRIPTION:This is the same Sprint workout\, but in the virtual format. The TV screen will automatically start playing the class at the scheduled start time.
URL:https://riverplex.org/event/virtual-les-mills-rpm/2027-01-06/
LOCATION:Spin Studio
CATEGORIES:Land Group Exercise
END:VEVENT
END:VCALENDAR