BEGIN:VCALENDAR
VERSION:2.0
PRODID:-//RiverPlex - ECPv6.15.18//NONSGML v1.0//EN
CALSCALE:GREGORIAN
METHOD:PUBLISH
X-WR-CALNAME:RiverPlex
X-ORIGINAL-URL:https://riverplex.org
X-WR-CALDESC:Events for RiverPlex
REFRESH-INTERVAL;VALUE=DURATION:PT1H
X-Robots-Tag:noindex
X-PUBLISHED-TTL:PT1H
BEGIN:VTIMEZONE
TZID:America/Chicago
BEGIN:DAYLIGHT
TZOFFSETFROM:-0600
TZOFFSETTO:-0500
TZNAME:CDT
DTSTART:20260308T080000
END:DAYLIGHT
BEGIN:STANDARD
TZOFFSETFROM:-0500
TZOFFSETTO:-0600
TZNAME:CST
DTSTART:20261101T070000
END:STANDARD
BEGIN:DAYLIGHT
TZOFFSETFROM:-0600
TZOFFSETTO:-0500
TZNAME:CDT
DTSTART:20270314T080000
END:DAYLIGHT
BEGIN:STANDARD
TZOFFSETFROM:-0500
TZOFFSETTO:-0600
TZNAME:CST
DTSTART:20271107T070000
END:STANDARD
BEGIN:DAYLIGHT
TZOFFSETFROM:-0600
TZOFFSETTO:-0500
TZNAME:CDT
DTSTART:20280312T080000
END:DAYLIGHT
BEGIN:STANDARD
TZOFFSETFROM:-0500
TZOFFSETTO:-0600
TZNAME:CST
DTSTART:20281105T070000
END:STANDARD
END:VTIMEZONE
BEGIN:VEVENT
DTSTART;TZID=America/Chicago:20270830T090000
DTEND;TZID=America/Chicago:20270830T093000
DTSTAMP:20260423T215918
CREATED:20241126T134701Z
LAST-MODIFIED:20241126T134701Z
UID:30645-1819616400-1819618200@riverplex.org
SUMMARY:Virtual Les Mills Sprint
DESCRIPTION:This is the same SPRINT workout\, but in the virtual format. The TV screen will automatically start playing the class at the scheduled start time.
URL:https://riverplex.org/event/virtual-les-mills-sprint/2027-08-30/
LOCATION:Spin Studio
CATEGORIES:Land Group Exercise
END:VEVENT
BEGIN:VEVENT
DTSTART;TZID=America/Chicago:20270901T090000
DTEND;TZID=America/Chicago:20270901T095500
DTSTAMP:20260423T215918
CREATED:20241126T134205Z
LAST-MODIFIED:20251010T114604Z
UID:31611-1819789200-1819792500@riverplex.org
SUMMARY:Virtual Les Mills Sprint
DESCRIPTION:This is the same Sprint workout\, but in the virtual format. The TV screen will automatically start playing the class at the scheduled start time.
URL:https://riverplex.org/event/virtual-les-mills-rpm/2027-09-01/
LOCATION:Spin Studio
CATEGORIES:Land Group Exercise
END:VEVENT
BEGIN:VEVENT
DTSTART;TZID=America/Chicago:20270906T090000
DTEND;TZID=America/Chicago:20270906T093000
DTSTAMP:20260423T215918
CREATED:20241126T134701Z
LAST-MODIFIED:20241126T134701Z
UID:30723-1820221200-1820223000@riverplex.org
SUMMARY:Virtual Les Mills Sprint
DESCRIPTION:This is the same SPRINT workout\, but in the virtual format. The TV screen will automatically start playing the class at the scheduled start time.
URL:https://riverplex.org/event/virtual-les-mills-sprint/2027-09-06/
LOCATION:Spin Studio
CATEGORIES:Land Group Exercise
END:VEVENT
BEGIN:VEVENT
DTSTART;TZID=America/Chicago:20270908T090000
DTEND;TZID=America/Chicago:20270908T095500
DTSTAMP:20260423T215918
CREATED:20241126T134205Z
LAST-MODIFIED:20251010T114604Z
UID:31612-1820394000-1820397300@riverplex.org
SUMMARY:Virtual Les Mills Sprint
DESCRIPTION:This is the same Sprint workout\, but in the virtual format. The TV screen will automatically start playing the class at the scheduled start time.
URL:https://riverplex.org/event/virtual-les-mills-rpm/2027-09-08/
LOCATION:Spin Studio
CATEGORIES:Land Group Exercise
END:VEVENT
BEGIN:VEVENT
DTSTART;TZID=America/Chicago:20270913T090000
DTEND;TZID=America/Chicago:20270913T093000
DTSTAMP:20260423T215918
CREATED:20241126T134701Z
LAST-MODIFIED:20241126T134701Z
UID:30801-1820826000-1820827800@riverplex.org
SUMMARY:Virtual Les Mills Sprint
DESCRIPTION:This is the same SPRINT workout\, but in the virtual format. The TV screen will automatically start playing the class at the scheduled start time.
URL:https://riverplex.org/event/virtual-les-mills-sprint/2027-09-13/
LOCATION:Spin Studio
CATEGORIES:Land Group Exercise
END:VEVENT
BEGIN:VEVENT
DTSTART;TZID=America/Chicago:20270915T090000
DTEND;TZID=America/Chicago:20270915T095500
DTSTAMP:20260423T215918
CREATED:20241126T134205Z
LAST-MODIFIED:20251010T114605Z
UID:31613-1820998800-1821002100@riverplex.org
SUMMARY:Virtual Les Mills Sprint
DESCRIPTION:This is the same Sprint workout\, but in the virtual format. The TV screen will automatically start playing the class at the scheduled start time.
URL:https://riverplex.org/event/virtual-les-mills-rpm/2027-09-15/
LOCATION:Spin Studio
CATEGORIES:Land Group Exercise
END:VEVENT
BEGIN:VEVENT
DTSTART;TZID=America/Chicago:20270920T090000
DTEND;TZID=America/Chicago:20270920T093000
DTSTAMP:20260423T215918
CREATED:20241126T134701Z
LAST-MODIFIED:20241126T134701Z
UID:30880-1821430800-1821432600@riverplex.org
SUMMARY:Virtual Les Mills Sprint
DESCRIPTION:This is the same SPRINT workout\, but in the virtual format. The TV screen will automatically start playing the class at the scheduled start time.
URL:https://riverplex.org/event/virtual-les-mills-sprint/2027-09-20/
LOCATION:Spin Studio
CATEGORIES:Land Group Exercise
END:VEVENT
BEGIN:VEVENT
DTSTART;TZID=America/Chicago:20270922T090000
DTEND;TZID=America/Chicago:20270922T095500
DTSTAMP:20260423T215918
CREATED:20241126T134205Z
LAST-MODIFIED:20251010T114605Z
UID:31614-1821603600-1821606900@riverplex.org
SUMMARY:Virtual Les Mills Sprint
DESCRIPTION:This is the same Sprint workout\, but in the virtual format. The TV screen will automatically start playing the class at the scheduled start time.
URL:https://riverplex.org/event/virtual-les-mills-rpm/2027-09-22/
LOCATION:Spin Studio
CATEGORIES:Land Group Exercise
END:VEVENT
BEGIN:VEVENT
DTSTART;TZID=America/Chicago:20270927T090000
DTEND;TZID=America/Chicago:20270927T093000
DTSTAMP:20260423T215918
CREATED:20241126T134701Z
LAST-MODIFIED:20241126T134701Z
UID:30972-1822035600-1822037400@riverplex.org
SUMMARY:Virtual Les Mills Sprint
DESCRIPTION:This is the same SPRINT workout\, but in the virtual format. The TV screen will automatically start playing the class at the scheduled start time.
URL:https://riverplex.org/event/virtual-les-mills-sprint/2027-09-27/
LOCATION:Spin Studio
CATEGORIES:Land Group Exercise
END:VEVENT
BEGIN:VEVENT
DTSTART;TZID=America/Chicago:20270929T090000
DTEND;TZID=America/Chicago:20270929T095500
DTSTAMP:20260423T215918
CREATED:20241126T134205Z
LAST-MODIFIED:20251010T114606Z
UID:31615-1822208400-1822211700@riverplex.org
SUMMARY:Virtual Les Mills Sprint
DESCRIPTION:This is the same Sprint workout\, but in the virtual format. The TV screen will automatically start playing the class at the scheduled start time.
URL:https://riverplex.org/event/virtual-les-mills-rpm/2027-09-29/
LOCATION:Spin Studio
CATEGORIES:Land Group Exercise
END:VEVENT
BEGIN:VEVENT
DTSTART;TZID=America/Chicago:20271004T090000
DTEND;TZID=America/Chicago:20271004T093000
DTSTAMP:20260423T215918
CREATED:20241126T134701Z
LAST-MODIFIED:20241126T134701Z
UID:31172-1822640400-1822642200@riverplex.org
SUMMARY:Virtual Les Mills Sprint
DESCRIPTION:This is the same SPRINT workout\, but in the virtual format. The TV screen will automatically start playing the class at the scheduled start time.
URL:https://riverplex.org/event/virtual-les-mills-sprint/2027-10-04/
LOCATION:Spin Studio
CATEGORIES:Land Group Exercise
END:VEVENT
BEGIN:VEVENT
DTSTART;TZID=America/Chicago:20271006T090000
DTEND;TZID=America/Chicago:20271006T095500
DTSTAMP:20260423T215918
CREATED:20241126T134205Z
LAST-MODIFIED:20251010T114606Z
UID:31616-1822813200-1822816500@riverplex.org
SUMMARY:Virtual Les Mills Sprint
DESCRIPTION:This is the same Sprint workout\, but in the virtual format. The TV screen will automatically start playing the class at the scheduled start time.
URL:https://riverplex.org/event/virtual-les-mills-rpm/2027-10-06/
LOCATION:Spin Studio
CATEGORIES:Land Group Exercise
END:VEVENT
BEGIN:VEVENT
DTSTART;TZID=America/Chicago:20271011T090000
DTEND;TZID=America/Chicago:20271011T093000
DTSTAMP:20260423T215918
CREATED:20241126T134701Z
LAST-MODIFIED:20241126T134701Z
UID:32263-1823245200-1823247000@riverplex.org
SUMMARY:Virtual Les Mills Sprint
DESCRIPTION:This is the same SPRINT workout\, but in the virtual format. The TV screen will automatically start playing the class at the scheduled start time.
URL:https://riverplex.org/event/virtual-les-mills-sprint/2027-10-11/
LOCATION:Spin Studio
CATEGORIES:Land Group Exercise
END:VEVENT
BEGIN:VEVENT
DTSTART;TZID=America/Chicago:20271013T090000
DTEND;TZID=America/Chicago:20271013T095500
DTSTAMP:20260423T215918
CREATED:20241126T134205Z
LAST-MODIFIED:20241126T134205Z
UID:32300-1823418000-1823421300@riverplex.org
SUMMARY:Virtual Les Mills Sprint
DESCRIPTION:This is the same Sprint workout\, but in the virtual format. The TV screen will automatically start playing the class at the scheduled start time.
URL:https://riverplex.org/event/virtual-les-mills-rpm/2027-10-13/
LOCATION:Spin Studio
CATEGORIES:Land Group Exercise
END:VEVENT
BEGIN:VEVENT
DTSTART;TZID=America/Chicago:20271018T090000
DTEND;TZID=America/Chicago:20271018T093000
DTSTAMP:20260423T215918
CREATED:20241126T134701Z
LAST-MODIFIED:20241126T134701Z
UID:32359-1823850000-1823851800@riverplex.org
SUMMARY:Virtual Les Mills Sprint
DESCRIPTION:This is the same SPRINT workout\, but in the virtual format. The TV screen will automatically start playing the class at the scheduled start time.
URL:https://riverplex.org/event/virtual-les-mills-sprint/2027-10-18/
LOCATION:Spin Studio
CATEGORIES:Land Group Exercise
END:VEVENT
BEGIN:VEVENT
DTSTART;TZID=America/Chicago:20271020T090000
DTEND;TZID=America/Chicago:20271020T095500
DTSTAMP:20260423T215918
CREATED:20241126T134205Z
LAST-MODIFIED:20241126T134205Z
UID:32390-1824022800-1824026100@riverplex.org
SUMMARY:Virtual Les Mills Sprint
DESCRIPTION:This is the same Sprint workout\, but in the virtual format. The TV screen will automatically start playing the class at the scheduled start time.
URL:https://riverplex.org/event/virtual-les-mills-rpm/2027-10-20/
LOCATION:Spin Studio
CATEGORIES:Land Group Exercise
END:VEVENT
BEGIN:VEVENT
DTSTART;TZID=America/Chicago:20271025T090000
DTEND;TZID=America/Chicago:20271025T093000
DTSTAMP:20260423T215918
CREATED:20241126T134701Z
LAST-MODIFIED:20241126T134701Z
UID:32687-1824454800-1824456600@riverplex.org
SUMMARY:Virtual Les Mills Sprint
DESCRIPTION:This is the same SPRINT workout\, but in the virtual format. The TV screen will automatically start playing the class at the scheduled start time.
URL:https://riverplex.org/event/virtual-les-mills-sprint/2027-10-25/
LOCATION:Spin Studio
CATEGORIES:Land Group Exercise
END:VEVENT
BEGIN:VEVENT
DTSTART;TZID=America/Chicago:20271027T090000
DTEND;TZID=America/Chicago:20271027T095500
DTSTAMP:20260423T215918
CREATED:20241126T134205Z
LAST-MODIFIED:20241126T134205Z
UID:32720-1824627600-1824630900@riverplex.org
SUMMARY:Virtual Les Mills Sprint
DESCRIPTION:This is the same Sprint workout\, but in the virtual format. The TV screen will automatically start playing the class at the scheduled start time.
URL:https://riverplex.org/event/virtual-les-mills-rpm/2027-10-27/
LOCATION:Spin Studio
CATEGORIES:Land Group Exercise
END:VEVENT
BEGIN:VEVENT
DTSTART;TZID=America/Chicago:20271101T090000
DTEND;TZID=America/Chicago:20271101T093000
DTSTAMP:20260423T215918
CREATED:20241126T134701Z
LAST-MODIFIED:20241126T134701Z
UID:32774-1825059600-1825061400@riverplex.org
SUMMARY:Virtual Les Mills Sprint
DESCRIPTION:This is the same SPRINT workout\, but in the virtual format. The TV screen will automatically start playing the class at the scheduled start time.
URL:https://riverplex.org/event/virtual-les-mills-sprint/2027-11-01/
LOCATION:Spin Studio
CATEGORIES:Land Group Exercise
END:VEVENT
BEGIN:VEVENT
DTSTART;TZID=America/Chicago:20271103T090000
DTEND;TZID=America/Chicago:20271103T095500
DTSTAMP:20260423T215918
CREATED:20241126T134205Z
LAST-MODIFIED:20241126T134205Z
UID:32824-1825232400-1825235700@riverplex.org
SUMMARY:Virtual Les Mills Sprint
DESCRIPTION:This is the same Sprint workout\, but in the virtual format. The TV screen will automatically start playing the class at the scheduled start time.
URL:https://riverplex.org/event/virtual-les-mills-rpm/2027-11-03/
LOCATION:Spin Studio
CATEGORIES:Land Group Exercise
END:VEVENT
BEGIN:VEVENT
DTSTART;TZID=America/Chicago:20271108T090000
DTEND;TZID=America/Chicago:20271108T093000
DTSTAMP:20260423T215918
CREATED:20241126T134701Z
LAST-MODIFIED:20241126T134701Z
UID:32880-1825664400-1825666200@riverplex.org
SUMMARY:Virtual Les Mills Sprint
DESCRIPTION:This is the same SPRINT workout\, but in the virtual format. The TV screen will automatically start playing the class at the scheduled start time.
URL:https://riverplex.org/event/virtual-les-mills-sprint/2027-11-08/
LOCATION:Spin Studio
CATEGORIES:Land Group Exercise
END:VEVENT
BEGIN:VEVENT
DTSTART;TZID=America/Chicago:20271110T090000
DTEND;TZID=America/Chicago:20271110T095500
DTSTAMP:20260423T215918
CREATED:20241126T134205Z
LAST-MODIFIED:20241126T134205Z
UID:33066-1825837200-1825840500@riverplex.org
SUMMARY:Virtual Les Mills Sprint
DESCRIPTION:This is the same Sprint workout\, but in the virtual format. The TV screen will automatically start playing the class at the scheduled start time.
URL:https://riverplex.org/event/virtual-les-mills-rpm/2027-11-10/
LOCATION:Spin Studio
CATEGORIES:Land Group Exercise
END:VEVENT
BEGIN:VEVENT
DTSTART;TZID=America/Chicago:20271115T090000
DTEND;TZID=America/Chicago:20271115T093000
DTSTAMP:20260423T215918
CREATED:20241126T134701Z
LAST-MODIFIED:20241126T134701Z
UID:33118-1826269200-1826271000@riverplex.org
SUMMARY:Virtual Les Mills Sprint
DESCRIPTION:This is the same SPRINT workout\, but in the virtual format. The TV screen will automatically start playing the class at the scheduled start time.
URL:https://riverplex.org/event/virtual-les-mills-sprint/2027-11-15/
LOCATION:Spin Studio
CATEGORIES:Land Group Exercise
END:VEVENT
BEGIN:VEVENT
DTSTART;TZID=America/Chicago:20271117T090000
DTEND;TZID=America/Chicago:20271117T095500
DTSTAMP:20260423T215918
CREATED:20241126T134205Z
LAST-MODIFIED:20241126T134205Z
UID:33151-1826442000-1826445300@riverplex.org
SUMMARY:Virtual Les Mills Sprint
DESCRIPTION:This is the same Sprint workout\, but in the virtual format. The TV screen will automatically start playing the class at the scheduled start time.
URL:https://riverplex.org/event/virtual-les-mills-rpm/2027-11-17/
LOCATION:Spin Studio
CATEGORIES:Land Group Exercise
END:VEVENT
BEGIN:VEVENT
DTSTART;TZID=America/Chicago:20271122T090000
DTEND;TZID=America/Chicago:20271122T093000
DTSTAMP:20260423T215918
CREATED:20241126T134701Z
LAST-MODIFIED:20241126T134701Z
UID:33206-1826874000-1826875800@riverplex.org
SUMMARY:Virtual Les Mills Sprint
DESCRIPTION:This is the same SPRINT workout\, but in the virtual format. The TV screen will automatically start playing the class at the scheduled start time.
URL:https://riverplex.org/event/virtual-les-mills-sprint/2027-11-22/
LOCATION:Spin Studio
CATEGORIES:Land Group Exercise
END:VEVENT
BEGIN:VEVENT
DTSTART;TZID=America/Chicago:20271124T090000
DTEND;TZID=America/Chicago:20271124T095500
DTSTAMP:20260423T215918
CREATED:20241126T134205Z
LAST-MODIFIED:20241126T134205Z
UID:33239-1827046800-1827050100@riverplex.org
SUMMARY:Virtual Les Mills Sprint
DESCRIPTION:This is the same Sprint workout\, but in the virtual format. The TV screen will automatically start playing the class at the scheduled start time.
URL:https://riverplex.org/event/virtual-les-mills-rpm/2027-11-24/
LOCATION:Spin Studio
CATEGORIES:Land Group Exercise
END:VEVENT
BEGIN:VEVENT
DTSTART;TZID=America/Chicago:20271129T090000
DTEND;TZID=America/Chicago:20271129T093000
DTSTAMP:20260423T215918
CREATED:20241126T134701Z
LAST-MODIFIED:20241126T134701Z
UID:33294-1827478800-1827480600@riverplex.org
SUMMARY:Virtual Les Mills Sprint
DESCRIPTION:This is the same SPRINT workout\, but in the virtual format. The TV screen will automatically start playing the class at the scheduled start time.
URL:https://riverplex.org/event/virtual-les-mills-sprint/2027-11-29/
LOCATION:Spin Studio
CATEGORIES:Land Group Exercise
END:VEVENT
BEGIN:VEVENT
DTSTART;TZID=America/Chicago:20271201T090000
DTEND;TZID=America/Chicago:20271201T095500
DTSTAMP:20260423T215918
CREATED:20241126T134205Z
LAST-MODIFIED:20241126T134205Z
UID:33327-1827651600-1827654900@riverplex.org
SUMMARY:Virtual Les Mills Sprint
DESCRIPTION:This is the same Sprint workout\, but in the virtual format. The TV screen will automatically start playing the class at the scheduled start time.
URL:https://riverplex.org/event/virtual-les-mills-rpm/2027-12-01/
LOCATION:Spin Studio
CATEGORIES:Land Group Exercise
END:VEVENT
BEGIN:VEVENT
DTSTART;TZID=America/Chicago:20271206T090000
DTEND;TZID=America/Chicago:20271206T093000
DTSTAMP:20260423T215918
CREATED:20241126T134701Z
LAST-MODIFIED:20241126T134701Z
UID:33379-1828083600-1828085400@riverplex.org
SUMMARY:Virtual Les Mills Sprint
DESCRIPTION:This is the same SPRINT workout\, but in the virtual format. The TV screen will automatically start playing the class at the scheduled start time.
URL:https://riverplex.org/event/virtual-les-mills-sprint/2027-12-06/
LOCATION:Spin Studio
CATEGORIES:Land Group Exercise
END:VEVENT
BEGIN:VEVENT
DTSTART;TZID=America/Chicago:20271208T090000
DTEND;TZID=America/Chicago:20271208T095500
DTSTAMP:20260423T215918
CREATED:20241126T134205Z
LAST-MODIFIED:20241126T134205Z
UID:33417-1828256400-1828259700@riverplex.org
SUMMARY:Virtual Les Mills Sprint
DESCRIPTION:This is the same Sprint workout\, but in the virtual format. The TV screen will automatically start playing the class at the scheduled start time.
URL:https://riverplex.org/event/virtual-les-mills-rpm/2027-12-08/
LOCATION:Spin Studio
CATEGORIES:Land Group Exercise
END:VEVENT
END:VCALENDAR