BEGIN:VCALENDAR
VERSION:2.0
PRODID:-//RiverPlex - ECPv6.15.18//NONSGML v1.0//EN
CALSCALE:GREGORIAN
METHOD:PUBLISH
X-WR-CALNAME:RiverPlex
X-ORIGINAL-URL:https://riverplex.org
X-WR-CALDESC:Events for RiverPlex
REFRESH-INTERVAL;VALUE=DURATION:PT1H
X-Robots-Tag:noindex
X-PUBLISHED-TTL:PT1H
BEGIN:VTIMEZONE
TZID:America/Chicago
BEGIN:DAYLIGHT
TZOFFSETFROM:-0600
TZOFFSETTO:-0500
TZNAME:CDT
DTSTART:20250309T080000
END:DAYLIGHT
BEGIN:STANDARD
TZOFFSETFROM:-0500
TZOFFSETTO:-0600
TZNAME:CST
DTSTART:20251102T070000
END:STANDARD
BEGIN:DAYLIGHT
TZOFFSETFROM:-0600
TZOFFSETTO:-0500
TZNAME:CDT
DTSTART:20260308T080000
END:DAYLIGHT
BEGIN:STANDARD
TZOFFSETFROM:-0500
TZOFFSETTO:-0600
TZNAME:CST
DTSTART:20261101T070000
END:STANDARD
BEGIN:DAYLIGHT
TZOFFSETFROM:-0600
TZOFFSETTO:-0500
TZNAME:CDT
DTSTART:20270314T080000
END:DAYLIGHT
BEGIN:STANDARD
TZOFFSETFROM:-0500
TZOFFSETTO:-0600
TZNAME:CST
DTSTART:20271107T070000
END:STANDARD
BEGIN:DAYLIGHT
TZOFFSETFROM:-0600
TZOFFSETTO:-0500
TZNAME:CDT
DTSTART:20280312T080000
END:DAYLIGHT
BEGIN:STANDARD
TZOFFSETFROM:-0500
TZOFFSETTO:-0600
TZNAME:CST
DTSTART:20281105T070000
END:STANDARD
END:VTIMEZONE
BEGIN:VEVENT
DTSTART;TZID=America/Chicago:20260720T161500
DTEND;TZID=America/Chicago:20260720T170000
DTSTAMP:20260425T170921
CREATED:20241126T144125Z
LAST-MODIFIED:20250827T163555Z
UID:22526-1784564100-1784566800@riverplex.org
SUMMARY:Aqua Zumba
DESCRIPTION:Perfect for those looking to make a splash by adding a low-impact\, high-energy aquatic exercise to their fitness routine. \nHow It Works: Aqua Zumba® blends the Zumba® philosophy with water resistance\, for one pool party you shouldn’t miss! \nBenefits: There is less impact on your joints during an Aqua Zumba® class so you can really let loose. Water creates natural resistance\, which means every step is more challenging and helps tone your muscles.
URL:https://riverplex.org/event/aqua-zumba/2026-07-20/
LOCATION:Lap & Class Pool
CATEGORIES:Lap & Class Pool
END:VEVENT
BEGIN:VEVENT
DTSTART;TZID=America/Chicago:20260727T161500
DTEND;TZID=America/Chicago:20260727T170000
DTSTAMP:20260425T170921
CREATED:20241126T144125Z
LAST-MODIFIED:20250827T163555Z
UID:22527-1785168900-1785171600@riverplex.org
SUMMARY:Aqua Zumba
DESCRIPTION:Perfect for those looking to make a splash by adding a low-impact\, high-energy aquatic exercise to their fitness routine. \nHow It Works: Aqua Zumba® blends the Zumba® philosophy with water resistance\, for one pool party you shouldn’t miss! \nBenefits: There is less impact on your joints during an Aqua Zumba® class so you can really let loose. Water creates natural resistance\, which means every step is more challenging and helps tone your muscles.
URL:https://riverplex.org/event/aqua-zumba/2026-07-27/
LOCATION:Lap & Class Pool
CATEGORIES:Lap & Class Pool
END:VEVENT
BEGIN:VEVENT
DTSTART;TZID=America/Chicago:20260803T161500
DTEND;TZID=America/Chicago:20260803T170000
DTSTAMP:20260425T170921
CREATED:20241126T144125Z
LAST-MODIFIED:20250827T163555Z
UID:22528-1785773700-1785776400@riverplex.org
SUMMARY:Aqua Zumba
DESCRIPTION:Perfect for those looking to make a splash by adding a low-impact\, high-energy aquatic exercise to their fitness routine. \nHow It Works: Aqua Zumba® blends the Zumba® philosophy with water resistance\, for one pool party you shouldn’t miss! \nBenefits: There is less impact on your joints during an Aqua Zumba® class so you can really let loose. Water creates natural resistance\, which means every step is more challenging and helps tone your muscles.
URL:https://riverplex.org/event/aqua-zumba/2026-08-03/
LOCATION:Lap & Class Pool
CATEGORIES:Lap & Class Pool
END:VEVENT
BEGIN:VEVENT
DTSTART;TZID=America/Chicago:20260810T161500
DTEND;TZID=America/Chicago:20260810T170000
DTSTAMP:20260425T170921
CREATED:20241126T144125Z
LAST-MODIFIED:20250827T163555Z
UID:22529-1786378500-1786381200@riverplex.org
SUMMARY:Aqua Zumba
DESCRIPTION:Perfect for those looking to make a splash by adding a low-impact\, high-energy aquatic exercise to their fitness routine. \nHow It Works: Aqua Zumba® blends the Zumba® philosophy with water resistance\, for one pool party you shouldn’t miss! \nBenefits: There is less impact on your joints during an Aqua Zumba® class so you can really let loose. Water creates natural resistance\, which means every step is more challenging and helps tone your muscles.
URL:https://riverplex.org/event/aqua-zumba/2026-08-10/
LOCATION:Lap & Class Pool
CATEGORIES:Lap & Class Pool
END:VEVENT
BEGIN:VEVENT
DTSTART;TZID=America/Chicago:20260817T161500
DTEND;TZID=America/Chicago:20260817T170000
DTSTAMP:20260425T170921
CREATED:20241126T144125Z
LAST-MODIFIED:20250827T163555Z
UID:22530-1786983300-1786986000@riverplex.org
SUMMARY:Aqua Zumba
DESCRIPTION:Perfect for those looking to make a splash by adding a low-impact\, high-energy aquatic exercise to their fitness routine. \nHow It Works: Aqua Zumba® blends the Zumba® philosophy with water resistance\, for one pool party you shouldn’t miss! \nBenefits: There is less impact on your joints during an Aqua Zumba® class so you can really let loose. Water creates natural resistance\, which means every step is more challenging and helps tone your muscles.
URL:https://riverplex.org/event/aqua-zumba/2026-08-17/
LOCATION:Lap & Class Pool
CATEGORIES:Lap & Class Pool
END:VEVENT
BEGIN:VEVENT
DTSTART;TZID=America/Chicago:20260824T161500
DTEND;TZID=America/Chicago:20260824T170000
DTSTAMP:20260425T170921
CREATED:20241126T144125Z
LAST-MODIFIED:20250827T163555Z
UID:22531-1787588100-1787590800@riverplex.org
SUMMARY:Aqua Zumba
DESCRIPTION:Perfect for those looking to make a splash by adding a low-impact\, high-energy aquatic exercise to their fitness routine. \nHow It Works: Aqua Zumba® blends the Zumba® philosophy with water resistance\, for one pool party you shouldn’t miss! \nBenefits: There is less impact on your joints during an Aqua Zumba® class so you can really let loose. Water creates natural resistance\, which means every step is more challenging and helps tone your muscles.
URL:https://riverplex.org/event/aqua-zumba/2026-08-24/
LOCATION:Lap & Class Pool
CATEGORIES:Lap & Class Pool
END:VEVENT
BEGIN:VEVENT
DTSTART;TZID=America/Chicago:20260831T161500
DTEND;TZID=America/Chicago:20260831T170000
DTSTAMP:20260425T170921
CREATED:20241126T144125Z
LAST-MODIFIED:20250827T163555Z
UID:22532-1788192900-1788195600@riverplex.org
SUMMARY:Aqua Zumba
DESCRIPTION:Perfect for those looking to make a splash by adding a low-impact\, high-energy aquatic exercise to their fitness routine. \nHow It Works: Aqua Zumba® blends the Zumba® philosophy with water resistance\, for one pool party you shouldn’t miss! \nBenefits: There is less impact on your joints during an Aqua Zumba® class so you can really let loose. Water creates natural resistance\, which means every step is more challenging and helps tone your muscles.
URL:https://riverplex.org/event/aqua-zumba/2026-08-31/
LOCATION:Lap & Class Pool
CATEGORIES:Lap & Class Pool
END:VEVENT
BEGIN:VEVENT
DTSTART;TZID=America/Chicago:20260907T161500
DTEND;TZID=America/Chicago:20260907T170000
DTSTAMP:20260425T170921
CREATED:20241126T144125Z
LAST-MODIFIED:20250827T163556Z
UID:22533-1788797700-1788800400@riverplex.org
SUMMARY:Aqua Zumba
DESCRIPTION:Perfect for those looking to make a splash by adding a low-impact\, high-energy aquatic exercise to their fitness routine. \nHow It Works: Aqua Zumba® blends the Zumba® philosophy with water resistance\, for one pool party you shouldn’t miss! \nBenefits: There is less impact on your joints during an Aqua Zumba® class so you can really let loose. Water creates natural resistance\, which means every step is more challenging and helps tone your muscles.
URL:https://riverplex.org/event/aqua-zumba/2026-09-07/
LOCATION:Lap & Class Pool
CATEGORIES:Lap & Class Pool
END:VEVENT
BEGIN:VEVENT
DTSTART;TZID=America/Chicago:20260914T161500
DTEND;TZID=America/Chicago:20260914T170000
DTSTAMP:20260425T170921
CREATED:20241126T144125Z
LAST-MODIFIED:20250827T163556Z
UID:22534-1789402500-1789405200@riverplex.org
SUMMARY:Aqua Zumba
DESCRIPTION:Perfect for those looking to make a splash by adding a low-impact\, high-energy aquatic exercise to their fitness routine. \nHow It Works: Aqua Zumba® blends the Zumba® philosophy with water resistance\, for one pool party you shouldn’t miss! \nBenefits: There is less impact on your joints during an Aqua Zumba® class so you can really let loose. Water creates natural resistance\, which means every step is more challenging and helps tone your muscles.
URL:https://riverplex.org/event/aqua-zumba/2026-09-14/
LOCATION:Lap & Class Pool
CATEGORIES:Lap & Class Pool
END:VEVENT
BEGIN:VEVENT
DTSTART;TZID=America/Chicago:20260921T161500
DTEND;TZID=America/Chicago:20260921T170000
DTSTAMP:20260425T170921
CREATED:20241126T144125Z
LAST-MODIFIED:20250827T163556Z
UID:22535-1790007300-1790010000@riverplex.org
SUMMARY:Aqua Zumba
DESCRIPTION:Perfect for those looking to make a splash by adding a low-impact\, high-energy aquatic exercise to their fitness routine. \nHow It Works: Aqua Zumba® blends the Zumba® philosophy with water resistance\, for one pool party you shouldn’t miss! \nBenefits: There is less impact on your joints during an Aqua Zumba® class so you can really let loose. Water creates natural resistance\, which means every step is more challenging and helps tone your muscles.
URL:https://riverplex.org/event/aqua-zumba/2026-09-21/
LOCATION:Lap & Class Pool
CATEGORIES:Lap & Class Pool
END:VEVENT
BEGIN:VEVENT
DTSTART;TZID=America/Chicago:20260928T161500
DTEND;TZID=America/Chicago:20260928T170000
DTSTAMP:20260425T170921
CREATED:20241126T144125Z
LAST-MODIFIED:20250827T163556Z
UID:22536-1790612100-1790614800@riverplex.org
SUMMARY:Aqua Zumba
DESCRIPTION:Perfect for those looking to make a splash by adding a low-impact\, high-energy aquatic exercise to their fitness routine. \nHow It Works: Aqua Zumba® blends the Zumba® philosophy with water resistance\, for one pool party you shouldn’t miss! \nBenefits: There is less impact on your joints during an Aqua Zumba® class so you can really let loose. Water creates natural resistance\, which means every step is more challenging and helps tone your muscles.
URL:https://riverplex.org/event/aqua-zumba/2026-09-28/
LOCATION:Lap & Class Pool
CATEGORIES:Lap & Class Pool
END:VEVENT
BEGIN:VEVENT
DTSTART;TZID=America/Chicago:20261005T161500
DTEND;TZID=America/Chicago:20261005T170000
DTSTAMP:20260425T170921
CREATED:20241126T144125Z
LAST-MODIFIED:20250827T163556Z
UID:22537-1791216900-1791219600@riverplex.org
SUMMARY:Aqua Zumba
DESCRIPTION:Perfect for those looking to make a splash by adding a low-impact\, high-energy aquatic exercise to their fitness routine. \nHow It Works: Aqua Zumba® blends the Zumba® philosophy with water resistance\, for one pool party you shouldn’t miss! \nBenefits: There is less impact on your joints during an Aqua Zumba® class so you can really let loose. Water creates natural resistance\, which means every step is more challenging and helps tone your muscles.
URL:https://riverplex.org/event/aqua-zumba/2026-10-05/
LOCATION:Lap & Class Pool
CATEGORIES:Lap & Class Pool
END:VEVENT
BEGIN:VEVENT
DTSTART;TZID=America/Chicago:20261012T161500
DTEND;TZID=America/Chicago:20261012T170000
DTSTAMP:20260425T170921
CREATED:20241126T144125Z
LAST-MODIFIED:20250827T163556Z
UID:22538-1791821700-1791824400@riverplex.org
SUMMARY:Aqua Zumba
DESCRIPTION:Perfect for those looking to make a splash by adding a low-impact\, high-energy aquatic exercise to their fitness routine. \nHow It Works: Aqua Zumba® blends the Zumba® philosophy with water resistance\, for one pool party you shouldn’t miss! \nBenefits: There is less impact on your joints during an Aqua Zumba® class so you can really let loose. Water creates natural resistance\, which means every step is more challenging and helps tone your muscles.
URL:https://riverplex.org/event/aqua-zumba/2026-10-12/
LOCATION:Lap & Class Pool
CATEGORIES:Lap & Class Pool
END:VEVENT
BEGIN:VEVENT
DTSTART;TZID=America/Chicago:20261019T161500
DTEND;TZID=America/Chicago:20261019T170000
DTSTAMP:20260425T170921
CREATED:20241126T144125Z
LAST-MODIFIED:20250827T163556Z
UID:22539-1792426500-1792429200@riverplex.org
SUMMARY:Aqua Zumba
DESCRIPTION:Perfect for those looking to make a splash by adding a low-impact\, high-energy aquatic exercise to their fitness routine. \nHow It Works: Aqua Zumba® blends the Zumba® philosophy with water resistance\, for one pool party you shouldn’t miss! \nBenefits: There is less impact on your joints during an Aqua Zumba® class so you can really let loose. Water creates natural resistance\, which means every step is more challenging and helps tone your muscles.
URL:https://riverplex.org/event/aqua-zumba/2026-10-19/
LOCATION:Lap & Class Pool
CATEGORIES:Lap & Class Pool
END:VEVENT
BEGIN:VEVENT
DTSTART;TZID=America/Chicago:20261026T161500
DTEND;TZID=America/Chicago:20261026T170000
DTSTAMP:20260425T170921
CREATED:20241126T144125Z
LAST-MODIFIED:20250827T163556Z
UID:22540-1793031300-1793034000@riverplex.org
SUMMARY:Aqua Zumba
DESCRIPTION:Perfect for those looking to make a splash by adding a low-impact\, high-energy aquatic exercise to their fitness routine. \nHow It Works: Aqua Zumba® blends the Zumba® philosophy with water resistance\, for one pool party you shouldn’t miss! \nBenefits: There is less impact on your joints during an Aqua Zumba® class so you can really let loose. Water creates natural resistance\, which means every step is more challenging and helps tone your muscles.
URL:https://riverplex.org/event/aqua-zumba/2026-10-26/
LOCATION:Lap & Class Pool
CATEGORIES:Lap & Class Pool
END:VEVENT
BEGIN:VEVENT
DTSTART;TZID=America/Chicago:20261102T161500
DTEND;TZID=America/Chicago:20261102T170000
DTSTAMP:20260425T170921
CREATED:20241126T144125Z
LAST-MODIFIED:20250827T163556Z
UID:22541-1793636100-1793638800@riverplex.org
SUMMARY:Aqua Zumba
DESCRIPTION:Perfect for those looking to make a splash by adding a low-impact\, high-energy aquatic exercise to their fitness routine. \nHow It Works: Aqua Zumba® blends the Zumba® philosophy with water resistance\, for one pool party you shouldn’t miss! \nBenefits: There is less impact on your joints during an Aqua Zumba® class so you can really let loose. Water creates natural resistance\, which means every step is more challenging and helps tone your muscles.
URL:https://riverplex.org/event/aqua-zumba/2026-11-02/
LOCATION:Lap & Class Pool
CATEGORIES:Lap & Class Pool
END:VEVENT
BEGIN:VEVENT
DTSTART;TZID=America/Chicago:20261109T161500
DTEND;TZID=America/Chicago:20261109T170000
DTSTAMP:20260425T170921
CREATED:20241126T144125Z
LAST-MODIFIED:20250827T163556Z
UID:22542-1794240900-1794243600@riverplex.org
SUMMARY:Aqua Zumba
DESCRIPTION:Perfect for those looking to make a splash by adding a low-impact\, high-energy aquatic exercise to their fitness routine. \nHow It Works: Aqua Zumba® blends the Zumba® philosophy with water resistance\, for one pool party you shouldn’t miss! \nBenefits: There is less impact on your joints during an Aqua Zumba® class so you can really let loose. Water creates natural resistance\, which means every step is more challenging and helps tone your muscles.
URL:https://riverplex.org/event/aqua-zumba/2026-11-09/
LOCATION:Lap & Class Pool
CATEGORIES:Lap & Class Pool
END:VEVENT
BEGIN:VEVENT
DTSTART;TZID=America/Chicago:20261116T161500
DTEND;TZID=America/Chicago:20261116T170000
DTSTAMP:20260425T170921
CREATED:20241126T144125Z
LAST-MODIFIED:20250827T163557Z
UID:22543-1794845700-1794848400@riverplex.org
SUMMARY:Aqua Zumba
DESCRIPTION:Perfect for those looking to make a splash by adding a low-impact\, high-energy aquatic exercise to their fitness routine. \nHow It Works: Aqua Zumba® blends the Zumba® philosophy with water resistance\, for one pool party you shouldn’t miss! \nBenefits: There is less impact on your joints during an Aqua Zumba® class so you can really let loose. Water creates natural resistance\, which means every step is more challenging and helps tone your muscles.
URL:https://riverplex.org/event/aqua-zumba/2026-11-16/
LOCATION:Lap & Class Pool
CATEGORIES:Lap & Class Pool
END:VEVENT
BEGIN:VEVENT
DTSTART;TZID=America/Chicago:20261123T161500
DTEND;TZID=America/Chicago:20261123T170000
DTSTAMP:20260425T170921
CREATED:20241126T144125Z
LAST-MODIFIED:20250827T163557Z
UID:22544-1795450500-1795453200@riverplex.org
SUMMARY:Aqua Zumba
DESCRIPTION:Perfect for those looking to make a splash by adding a low-impact\, high-energy aquatic exercise to their fitness routine. \nHow It Works: Aqua Zumba® blends the Zumba® philosophy with water resistance\, for one pool party you shouldn’t miss! \nBenefits: There is less impact on your joints during an Aqua Zumba® class so you can really let loose. Water creates natural resistance\, which means every step is more challenging and helps tone your muscles.
URL:https://riverplex.org/event/aqua-zumba/2026-11-23/
LOCATION:Lap & Class Pool
CATEGORIES:Lap & Class Pool
END:VEVENT
BEGIN:VEVENT
DTSTART;TZID=America/Chicago:20261130T161500
DTEND;TZID=America/Chicago:20261130T170000
DTSTAMP:20260425T170921
CREATED:20241126T144125Z
LAST-MODIFIED:20250827T163557Z
UID:22545-1796055300-1796058000@riverplex.org
SUMMARY:Aqua Zumba
DESCRIPTION:Perfect for those looking to make a splash by adding a low-impact\, high-energy aquatic exercise to their fitness routine. \nHow It Works: Aqua Zumba® blends the Zumba® philosophy with water resistance\, for one pool party you shouldn’t miss! \nBenefits: There is less impact on your joints during an Aqua Zumba® class so you can really let loose. Water creates natural resistance\, which means every step is more challenging and helps tone your muscles.
URL:https://riverplex.org/event/aqua-zumba/2026-11-30/
LOCATION:Lap & Class Pool
CATEGORIES:Lap & Class Pool
END:VEVENT
BEGIN:VEVENT
DTSTART;TZID=America/Chicago:20261207T161500
DTEND;TZID=America/Chicago:20261207T170000
DTSTAMP:20260425T170921
CREATED:20241126T144125Z
LAST-MODIFIED:20250827T163557Z
UID:8686-1796660100-1796662800@riverplex.org
SUMMARY:Aqua Zumba
DESCRIPTION:Perfect for those looking to make a splash by adding a low-impact\, high-energy aquatic exercise to their fitness routine. \nHow It Works: Aqua Zumba® blends the Zumba® philosophy with water resistance\, for one pool party you shouldn’t miss! \nBenefits: There is less impact on your joints during an Aqua Zumba® class so you can really let loose. Water creates natural resistance\, which means every step is more challenging and helps tone your muscles.
URL:https://riverplex.org/event/aqua-zumba/2026-12-07/
LOCATION:Lap & Class Pool
CATEGORIES:Lap & Class Pool
END:VEVENT
BEGIN:VEVENT
DTSTART;TZID=America/Chicago:20261214T161500
DTEND;TZID=America/Chicago:20261214T170000
DTSTAMP:20260425T170921
CREATED:20241126T144125Z
LAST-MODIFIED:20250827T163557Z
UID:10897-1797264900-1797267600@riverplex.org
SUMMARY:Aqua Zumba
DESCRIPTION:Perfect for those looking to make a splash by adding a low-impact\, high-energy aquatic exercise to their fitness routine. \nHow It Works: Aqua Zumba® blends the Zumba® philosophy with water resistance\, for one pool party you shouldn’t miss! \nBenefits: There is less impact on your joints during an Aqua Zumba® class so you can really let loose. Water creates natural resistance\, which means every step is more challenging and helps tone your muscles.
URL:https://riverplex.org/event/aqua-zumba/2026-12-14/
LOCATION:Lap & Class Pool
CATEGORIES:Lap & Class Pool
END:VEVENT
BEGIN:VEVENT
DTSTART;TZID=America/Chicago:20261221T161500
DTEND;TZID=America/Chicago:20261221T170000
DTSTAMP:20260425T170921
CREATED:20241126T144125Z
LAST-MODIFIED:20250827T163557Z
UID:15965-1797869700-1797872400@riverplex.org
SUMMARY:Aqua Zumba
DESCRIPTION:Perfect for those looking to make a splash by adding a low-impact\, high-energy aquatic exercise to their fitness routine. \nHow It Works: Aqua Zumba® blends the Zumba® philosophy with water resistance\, for one pool party you shouldn’t miss! \nBenefits: There is less impact on your joints during an Aqua Zumba® class so you can really let loose. Water creates natural resistance\, which means every step is more challenging and helps tone your muscles.
URL:https://riverplex.org/event/aqua-zumba/2026-12-21/
LOCATION:Lap & Class Pool
CATEGORIES:Lap & Class Pool
END:VEVENT
BEGIN:VEVENT
DTSTART;TZID=America/Chicago:20261228T161500
DTEND;TZID=America/Chicago:20261228T170000
DTSTAMP:20260425T170921
CREATED:20241126T144125Z
LAST-MODIFIED:20250827T163557Z
UID:16197-1798474500-1798477200@riverplex.org
SUMMARY:Aqua Zumba
DESCRIPTION:Perfect for those looking to make a splash by adding a low-impact\, high-energy aquatic exercise to their fitness routine. \nHow It Works: Aqua Zumba® blends the Zumba® philosophy with water resistance\, for one pool party you shouldn’t miss! \nBenefits: There is less impact on your joints during an Aqua Zumba® class so you can really let loose. Water creates natural resistance\, which means every step is more challenging and helps tone your muscles.
URL:https://riverplex.org/event/aqua-zumba/2026-12-28/
LOCATION:Lap & Class Pool
CATEGORIES:Lap & Class Pool
END:VEVENT
BEGIN:VEVENT
DTSTART;TZID=America/Chicago:20270104T161500
DTEND;TZID=America/Chicago:20270104T170000
DTSTAMP:20260425T170921
CREATED:20241126T144125Z
LAST-MODIFIED:20250827T163557Z
UID:17899-1799079300-1799082000@riverplex.org
SUMMARY:Aqua Zumba
DESCRIPTION:Perfect for those looking to make a splash by adding a low-impact\, high-energy aquatic exercise to their fitness routine. \nHow It Works: Aqua Zumba® blends the Zumba® philosophy with water resistance\, for one pool party you shouldn’t miss! \nBenefits: There is less impact on your joints during an Aqua Zumba® class so you can really let loose. Water creates natural resistance\, which means every step is more challenging and helps tone your muscles.
URL:https://riverplex.org/event/aqua-zumba/2027-01-04/
LOCATION:Lap & Class Pool
CATEGORIES:Lap & Class Pool
END:VEVENT
BEGIN:VEVENT
DTSTART;TZID=America/Chicago:20270111T161500
DTEND;TZID=America/Chicago:20270111T170000
DTSTAMP:20260425T170921
CREATED:20241126T144125Z
LAST-MODIFIED:20250827T163557Z
UID:18004-1799684100-1799686800@riverplex.org
SUMMARY:Aqua Zumba
DESCRIPTION:Perfect for those looking to make a splash by adding a low-impact\, high-energy aquatic exercise to their fitness routine. \nHow It Works: Aqua Zumba® blends the Zumba® philosophy with water resistance\, for one pool party you shouldn’t miss! \nBenefits: There is less impact on your joints during an Aqua Zumba® class so you can really let loose. Water creates natural resistance\, which means every step is more challenging and helps tone your muscles.
URL:https://riverplex.org/event/aqua-zumba/2027-01-11/
LOCATION:Lap & Class Pool
CATEGORIES:Lap & Class Pool
END:VEVENT
BEGIN:VEVENT
DTSTART;TZID=America/Chicago:20270118T161500
DTEND;TZID=America/Chicago:20270118T170000
DTSTAMP:20260425T170921
CREATED:20241126T144125Z
LAST-MODIFIED:20250827T163557Z
UID:18093-1800288900-1800291600@riverplex.org
SUMMARY:Aqua Zumba
DESCRIPTION:Perfect for those looking to make a splash by adding a low-impact\, high-energy aquatic exercise to their fitness routine. \nHow It Works: Aqua Zumba® blends the Zumba® philosophy with water resistance\, for one pool party you shouldn’t miss! \nBenefits: There is less impact on your joints during an Aqua Zumba® class so you can really let loose. Water creates natural resistance\, which means every step is more challenging and helps tone your muscles.
URL:https://riverplex.org/event/aqua-zumba/2027-01-18/
LOCATION:Lap & Class Pool
CATEGORIES:Lap & Class Pool
END:VEVENT
BEGIN:VEVENT
DTSTART;TZID=America/Chicago:20270125T161500
DTEND;TZID=America/Chicago:20270125T170000
DTSTAMP:20260425T170921
CREATED:20241126T144125Z
LAST-MODIFIED:20250827T163558Z
UID:18182-1800893700-1800896400@riverplex.org
SUMMARY:Aqua Zumba
DESCRIPTION:Perfect for those looking to make a splash by adding a low-impact\, high-energy aquatic exercise to their fitness routine. \nHow It Works: Aqua Zumba® blends the Zumba® philosophy with water resistance\, for one pool party you shouldn’t miss! \nBenefits: There is less impact on your joints during an Aqua Zumba® class so you can really let loose. Water creates natural resistance\, which means every step is more challenging and helps tone your muscles.
URL:https://riverplex.org/event/aqua-zumba/2027-01-25/
LOCATION:Lap & Class Pool
CATEGORIES:Lap & Class Pool
END:VEVENT
BEGIN:VEVENT
DTSTART;TZID=America/Chicago:20270201T161500
DTEND;TZID=America/Chicago:20270201T170000
DTSTAMP:20260425T170921
CREATED:20241126T144125Z
LAST-MODIFIED:20250827T163558Z
UID:18270-1801498500-1801501200@riverplex.org
SUMMARY:Aqua Zumba
DESCRIPTION:Perfect for those looking to make a splash by adding a low-impact\, high-energy aquatic exercise to their fitness routine. \nHow It Works: Aqua Zumba® blends the Zumba® philosophy with water resistance\, for one pool party you shouldn’t miss! \nBenefits: There is less impact on your joints during an Aqua Zumba® class so you can really let loose. Water creates natural resistance\, which means every step is more challenging and helps tone your muscles.
URL:https://riverplex.org/event/aqua-zumba/2027-02-01/
LOCATION:Lap & Class Pool
CATEGORIES:Lap & Class Pool
END:VEVENT
BEGIN:VEVENT
DTSTART;TZID=America/Chicago:20270208T161500
DTEND;TZID=America/Chicago:20270208T170000
DTSTAMP:20260425T170921
CREATED:20241126T144125Z
LAST-MODIFIED:20250827T163558Z
UID:18375-1802103300-1802106000@riverplex.org
SUMMARY:Aqua Zumba
DESCRIPTION:Perfect for those looking to make a splash by adding a low-impact\, high-energy aquatic exercise to their fitness routine. \nHow It Works: Aqua Zumba® blends the Zumba® philosophy with water resistance\, for one pool party you shouldn’t miss! \nBenefits: There is less impact on your joints during an Aqua Zumba® class so you can really let loose. Water creates natural resistance\, which means every step is more challenging and helps tone your muscles.
URL:https://riverplex.org/event/aqua-zumba/2027-02-08/
LOCATION:Lap & Class Pool
CATEGORIES:Lap & Class Pool
END:VEVENT
END:VCALENDAR