BEGIN:VCALENDAR
VERSION:2.0
PRODID:-//RiverPlex - ECPv6.15.18//NONSGML v1.0//EN
CALSCALE:GREGORIAN
METHOD:PUBLISH
X-WR-CALNAME:RiverPlex
X-ORIGINAL-URL:https://riverplex.org
X-WR-CALDESC:Events for RiverPlex
REFRESH-INTERVAL;VALUE=DURATION:PT1H
X-Robots-Tag:noindex
X-PUBLISHED-TTL:PT1H
BEGIN:VTIMEZONE
TZID:America/Chicago
BEGIN:DAYLIGHT
TZOFFSETFROM:-0600
TZOFFSETTO:-0500
TZNAME:CDT
DTSTART:20250309T080000
END:DAYLIGHT
BEGIN:STANDARD
TZOFFSETFROM:-0500
TZOFFSETTO:-0600
TZNAME:CST
DTSTART:20251102T070000
END:STANDARD
BEGIN:DAYLIGHT
TZOFFSETFROM:-0600
TZOFFSETTO:-0500
TZNAME:CDT
DTSTART:20260308T080000
END:DAYLIGHT
BEGIN:STANDARD
TZOFFSETFROM:-0500
TZOFFSETTO:-0600
TZNAME:CST
DTSTART:20261101T070000
END:STANDARD
BEGIN:DAYLIGHT
TZOFFSETFROM:-0600
TZOFFSETTO:-0500
TZNAME:CDT
DTSTART:20270314T080000
END:DAYLIGHT
BEGIN:STANDARD
TZOFFSETFROM:-0500
TZOFFSETTO:-0600
TZNAME:CST
DTSTART:20271107T070000
END:STANDARD
END:VTIMEZONE
BEGIN:VEVENT
DTSTART;TZID=America/Chicago:20260427T173000
DTEND;TZID=America/Chicago:20260427T183000
DTSTAMP:20260423T085529
CREATED:20241119T190819Z
LAST-MODIFIED:20260323T200122Z
UID:36487-1777311000-1777314600@riverplex.org
SUMMARY:Les Mills: Body Combat
DESCRIPTION:This is the empowering cardio workout where you are totally unleashed. This fiercely energetic program is inspired by martial arts and draws from a wide array of disciplines such as karate\, boxing\, taekwondo\, tai chi and Muay Thai.
URL:https://riverplex.org/event/les-mills-body-combat/2026-04-27/
LOCATION:Upstairs Studio
CATEGORIES:Land Group Exercise
END:VEVENT
BEGIN:VEVENT
DTSTART;TZID=America/Chicago:20260504T173000
DTEND;TZID=America/Chicago:20260504T183000
DTSTAMP:20260423T085529
CREATED:20241119T190819Z
LAST-MODIFIED:20260323T200123Z
UID:36488-1777915800-1777919400@riverplex.org
SUMMARY:Les Mills: Body Combat
DESCRIPTION:This is the empowering cardio workout where you are totally unleashed. This fiercely energetic program is inspired by martial arts and draws from a wide array of disciplines such as karate\, boxing\, taekwondo\, tai chi and Muay Thai.
URL:https://riverplex.org/event/les-mills-body-combat/2026-05-04/
LOCATION:Upstairs Studio
CATEGORIES:Land Group Exercise
END:VEVENT
BEGIN:VEVENT
DTSTART;TZID=America/Chicago:20260511T173000
DTEND;TZID=America/Chicago:20260511T183000
DTSTAMP:20260423T085529
CREATED:20241119T190819Z
LAST-MODIFIED:20260323T200123Z
UID:36489-1778520600-1778524200@riverplex.org
SUMMARY:Les Mills: Body Combat
DESCRIPTION:This is the empowering cardio workout where you are totally unleashed. This fiercely energetic program is inspired by martial arts and draws from a wide array of disciplines such as karate\, boxing\, taekwondo\, tai chi and Muay Thai.
URL:https://riverplex.org/event/les-mills-body-combat/2026-05-11/
LOCATION:Upstairs Studio
CATEGORIES:Land Group Exercise
END:VEVENT
BEGIN:VEVENT
DTSTART;TZID=America/Chicago:20260518T173000
DTEND;TZID=America/Chicago:20260518T183000
DTSTAMP:20260423T085529
CREATED:20241119T190819Z
LAST-MODIFIED:20260323T200123Z
UID:36490-1779125400-1779129000@riverplex.org
SUMMARY:Les Mills: Body Combat
DESCRIPTION:This is the empowering cardio workout where you are totally unleashed. This fiercely energetic program is inspired by martial arts and draws from a wide array of disciplines such as karate\, boxing\, taekwondo\, tai chi and Muay Thai.
URL:https://riverplex.org/event/les-mills-body-combat/2026-05-18/
LOCATION:Upstairs Studio
CATEGORIES:Land Group Exercise
END:VEVENT
BEGIN:VEVENT
DTSTART;TZID=America/Chicago:20260525T173000
DTEND;TZID=America/Chicago:20260525T183000
DTSTAMP:20260423T085529
CREATED:20241119T190819Z
LAST-MODIFIED:20260323T200123Z
UID:36491-1779730200-1779733800@riverplex.org
SUMMARY:Les Mills: Body Combat
DESCRIPTION:This is the empowering cardio workout where you are totally unleashed. This fiercely energetic program is inspired by martial arts and draws from a wide array of disciplines such as karate\, boxing\, taekwondo\, tai chi and Muay Thai.
URL:https://riverplex.org/event/les-mills-body-combat/2026-05-25/
LOCATION:Upstairs Studio
CATEGORIES:Land Group Exercise
END:VEVENT
BEGIN:VEVENT
DTSTART;TZID=America/Chicago:20260601T173000
DTEND;TZID=America/Chicago:20260601T183000
DTSTAMP:20260423T085529
CREATED:20241119T190819Z
LAST-MODIFIED:20260323T200123Z
UID:36492-1780335000-1780338600@riverplex.org
SUMMARY:Les Mills: Body Combat
DESCRIPTION:This is the empowering cardio workout where you are totally unleashed. This fiercely energetic program is inspired by martial arts and draws from a wide array of disciplines such as karate\, boxing\, taekwondo\, tai chi and Muay Thai.
URL:https://riverplex.org/event/les-mills-body-combat/2026-06-01/
LOCATION:Upstairs Studio
CATEGORIES:Land Group Exercise
END:VEVENT
BEGIN:VEVENT
DTSTART;TZID=America/Chicago:20260608T173000
DTEND;TZID=America/Chicago:20260608T183000
DTSTAMP:20260423T085529
CREATED:20241119T190819Z
LAST-MODIFIED:20260323T200125Z
UID:36493-1780939800-1780943400@riverplex.org
SUMMARY:Les Mills: Body Combat
DESCRIPTION:This is the empowering cardio workout where you are totally unleashed. This fiercely energetic program is inspired by martial arts and draws from a wide array of disciplines such as karate\, boxing\, taekwondo\, tai chi and Muay Thai.
URL:https://riverplex.org/event/les-mills-body-combat/2026-06-08/
LOCATION:Upstairs Studio
CATEGORIES:Land Group Exercise
END:VEVENT
BEGIN:VEVENT
DTSTART;TZID=America/Chicago:20260615T173000
DTEND;TZID=America/Chicago:20260615T183000
DTSTAMP:20260423T085529
CREATED:20241119T190819Z
LAST-MODIFIED:20260323T200125Z
UID:36494-1781544600-1781548200@riverplex.org
SUMMARY:Les Mills: Body Combat
DESCRIPTION:This is the empowering cardio workout where you are totally unleashed. This fiercely energetic program is inspired by martial arts and draws from a wide array of disciplines such as karate\, boxing\, taekwondo\, tai chi and Muay Thai.
URL:https://riverplex.org/event/les-mills-body-combat/2026-06-15/
LOCATION:Upstairs Studio
CATEGORIES:Land Group Exercise
END:VEVENT
BEGIN:VEVENT
DTSTART;TZID=America/Chicago:20260622T173000
DTEND;TZID=America/Chicago:20260622T183000
DTSTAMP:20260423T085529
CREATED:20241119T190819Z
LAST-MODIFIED:20260323T200125Z
UID:36495-1782149400-1782153000@riverplex.org
SUMMARY:Les Mills: Body Combat
DESCRIPTION:This is the empowering cardio workout where you are totally unleashed. This fiercely energetic program is inspired by martial arts and draws from a wide array of disciplines such as karate\, boxing\, taekwondo\, tai chi and Muay Thai.
URL:https://riverplex.org/event/les-mills-body-combat/2026-06-22/
LOCATION:Upstairs Studio
CATEGORIES:Land Group Exercise
END:VEVENT
BEGIN:VEVENT
DTSTART;TZID=America/Chicago:20260629T173000
DTEND;TZID=America/Chicago:20260629T183000
DTSTAMP:20260423T085529
CREATED:20241119T190819Z
LAST-MODIFIED:20260323T200125Z
UID:36496-1782754200-1782757800@riverplex.org
SUMMARY:Les Mills: Body Combat
DESCRIPTION:This is the empowering cardio workout where you are totally unleashed. This fiercely energetic program is inspired by martial arts and draws from a wide array of disciplines such as karate\, boxing\, taekwondo\, tai chi and Muay Thai.
URL:https://riverplex.org/event/les-mills-body-combat/2026-06-29/
LOCATION:Upstairs Studio
CATEGORIES:Land Group Exercise
END:VEVENT
BEGIN:VEVENT
DTSTART;TZID=America/Chicago:20260706T173000
DTEND;TZID=America/Chicago:20260706T183000
DTSTAMP:20260423T085529
CREATED:20241119T190819Z
LAST-MODIFIED:20260323T200126Z
UID:36497-1783359000-1783362600@riverplex.org
SUMMARY:Les Mills: Body Combat
DESCRIPTION:This is the empowering cardio workout where you are totally unleashed. This fiercely energetic program is inspired by martial arts and draws from a wide array of disciplines such as karate\, boxing\, taekwondo\, tai chi and Muay Thai.
URL:https://riverplex.org/event/les-mills-body-combat/2026-07-06/
LOCATION:Upstairs Studio
CATEGORIES:Land Group Exercise
END:VEVENT
BEGIN:VEVENT
DTSTART;TZID=America/Chicago:20260713T173000
DTEND;TZID=America/Chicago:20260713T183000
DTSTAMP:20260423T085529
CREATED:20241119T190819Z
LAST-MODIFIED:20260323T200126Z
UID:36498-1783963800-1783967400@riverplex.org
SUMMARY:Les Mills: Body Combat
DESCRIPTION:This is the empowering cardio workout where you are totally unleashed. This fiercely energetic program is inspired by martial arts and draws from a wide array of disciplines such as karate\, boxing\, taekwondo\, tai chi and Muay Thai.
URL:https://riverplex.org/event/les-mills-body-combat/2026-07-13/
LOCATION:Upstairs Studio
CATEGORIES:Land Group Exercise
END:VEVENT
BEGIN:VEVENT
DTSTART;TZID=America/Chicago:20260720T173000
DTEND;TZID=America/Chicago:20260720T183000
DTSTAMP:20260423T085529
CREATED:20241119T190819Z
LAST-MODIFIED:20260323T200126Z
UID:36499-1784568600-1784572200@riverplex.org
SUMMARY:Les Mills: Body Combat
DESCRIPTION:This is the empowering cardio workout where you are totally unleashed. This fiercely energetic program is inspired by martial arts and draws from a wide array of disciplines such as karate\, boxing\, taekwondo\, tai chi and Muay Thai.
URL:https://riverplex.org/event/les-mills-body-combat/2026-07-20/
LOCATION:Upstairs Studio
CATEGORIES:Land Group Exercise
END:VEVENT
BEGIN:VEVENT
DTSTART;TZID=America/Chicago:20260727T173000
DTEND;TZID=America/Chicago:20260727T183000
DTSTAMP:20260423T085529
CREATED:20241119T190819Z
LAST-MODIFIED:20260323T200126Z
UID:36500-1785173400-1785177000@riverplex.org
SUMMARY:Les Mills: Body Combat
DESCRIPTION:This is the empowering cardio workout where you are totally unleashed. This fiercely energetic program is inspired by martial arts and draws from a wide array of disciplines such as karate\, boxing\, taekwondo\, tai chi and Muay Thai.
URL:https://riverplex.org/event/les-mills-body-combat/2026-07-27/
LOCATION:Upstairs Studio
CATEGORIES:Land Group Exercise
END:VEVENT
BEGIN:VEVENT
DTSTART;TZID=America/Chicago:20260803T173000
DTEND;TZID=America/Chicago:20260803T183000
DTSTAMP:20260423T085529
CREATED:20241119T190819Z
LAST-MODIFIED:20260323T200126Z
UID:36501-1785778200-1785781800@riverplex.org
SUMMARY:Les Mills: Body Combat
DESCRIPTION:This is the empowering cardio workout where you are totally unleashed. This fiercely energetic program is inspired by martial arts and draws from a wide array of disciplines such as karate\, boxing\, taekwondo\, tai chi and Muay Thai.
URL:https://riverplex.org/event/les-mills-body-combat/2026-08-03/
LOCATION:Upstairs Studio
CATEGORIES:Land Group Exercise
END:VEVENT
BEGIN:VEVENT
DTSTART;TZID=America/Chicago:20260810T173000
DTEND;TZID=America/Chicago:20260810T183000
DTSTAMP:20260423T085529
CREATED:20241119T190819Z
LAST-MODIFIED:20260323T200126Z
UID:36502-1786383000-1786386600@riverplex.org
SUMMARY:Les Mills: Body Combat
DESCRIPTION:This is the empowering cardio workout where you are totally unleashed. This fiercely energetic program is inspired by martial arts and draws from a wide array of disciplines such as karate\, boxing\, taekwondo\, tai chi and Muay Thai.
URL:https://riverplex.org/event/les-mills-body-combat/2026-08-10/
LOCATION:Upstairs Studio
CATEGORIES:Land Group Exercise
END:VEVENT
BEGIN:VEVENT
DTSTART;TZID=America/Chicago:20260817T173000
DTEND;TZID=America/Chicago:20260817T183000
DTSTAMP:20260423T085529
CREATED:20241119T190819Z
LAST-MODIFIED:20260323T200127Z
UID:36503-1786987800-1786991400@riverplex.org
SUMMARY:Les Mills: Body Combat
DESCRIPTION:This is the empowering cardio workout where you are totally unleashed. This fiercely energetic program is inspired by martial arts and draws from a wide array of disciplines such as karate\, boxing\, taekwondo\, tai chi and Muay Thai.
URL:https://riverplex.org/event/les-mills-body-combat/2026-08-17/
LOCATION:Upstairs Studio
CATEGORIES:Land Group Exercise
END:VEVENT
BEGIN:VEVENT
DTSTART;TZID=America/Chicago:20260824T173000
DTEND;TZID=America/Chicago:20260824T183000
DTSTAMP:20260423T085529
CREATED:20241119T190819Z
LAST-MODIFIED:20260323T200127Z
UID:36504-1787592600-1787596200@riverplex.org
SUMMARY:Les Mills: Body Combat
DESCRIPTION:This is the empowering cardio workout where you are totally unleashed. This fiercely energetic program is inspired by martial arts and draws from a wide array of disciplines such as karate\, boxing\, taekwondo\, tai chi and Muay Thai.
URL:https://riverplex.org/event/les-mills-body-combat/2026-08-24/
LOCATION:Upstairs Studio
CATEGORIES:Land Group Exercise
END:VEVENT
BEGIN:VEVENT
DTSTART;TZID=America/Chicago:20260831T173000
DTEND;TZID=America/Chicago:20260831T183000
DTSTAMP:20260423T085529
CREATED:20241119T190819Z
LAST-MODIFIED:20260323T200127Z
UID:36505-1788197400-1788201000@riverplex.org
SUMMARY:Les Mills: Body Combat
DESCRIPTION:This is the empowering cardio workout where you are totally unleashed. This fiercely energetic program is inspired by martial arts and draws from a wide array of disciplines such as karate\, boxing\, taekwondo\, tai chi and Muay Thai.
URL:https://riverplex.org/event/les-mills-body-combat/2026-08-31/
LOCATION:Upstairs Studio
CATEGORIES:Land Group Exercise
END:VEVENT
BEGIN:VEVENT
DTSTART;TZID=America/Chicago:20260907T173000
DTEND;TZID=America/Chicago:20260907T183000
DTSTAMP:20260423T085529
CREATED:20241119T190819Z
LAST-MODIFIED:20260323T200127Z
UID:36506-1788802200-1788805800@riverplex.org
SUMMARY:Les Mills: Body Combat
DESCRIPTION:This is the empowering cardio workout where you are totally unleashed. This fiercely energetic program is inspired by martial arts and draws from a wide array of disciplines such as karate\, boxing\, taekwondo\, tai chi and Muay Thai.
URL:https://riverplex.org/event/les-mills-body-combat/2026-09-07/
LOCATION:Upstairs Studio
CATEGORIES:Land Group Exercise
END:VEVENT
BEGIN:VEVENT
DTSTART;TZID=America/Chicago:20260914T173000
DTEND;TZID=America/Chicago:20260914T183000
DTSTAMP:20260423T085529
CREATED:20241119T190819Z
LAST-MODIFIED:20260323T200127Z
UID:36507-1789407000-1789410600@riverplex.org
SUMMARY:Les Mills: Body Combat
DESCRIPTION:This is the empowering cardio workout where you are totally unleashed. This fiercely energetic program is inspired by martial arts and draws from a wide array of disciplines such as karate\, boxing\, taekwondo\, tai chi and Muay Thai.
URL:https://riverplex.org/event/les-mills-body-combat/2026-09-14/
LOCATION:Upstairs Studio
CATEGORIES:Land Group Exercise
END:VEVENT
BEGIN:VEVENT
DTSTART;TZID=America/Chicago:20260921T173000
DTEND;TZID=America/Chicago:20260921T183000
DTSTAMP:20260423T085529
CREATED:20241119T190819Z
LAST-MODIFIED:20260323T200127Z
UID:36508-1790011800-1790015400@riverplex.org
SUMMARY:Les Mills: Body Combat
DESCRIPTION:This is the empowering cardio workout where you are totally unleashed. This fiercely energetic program is inspired by martial arts and draws from a wide array of disciplines such as karate\, boxing\, taekwondo\, tai chi and Muay Thai.
URL:https://riverplex.org/event/les-mills-body-combat/2026-09-21/
LOCATION:Upstairs Studio
CATEGORIES:Land Group Exercise
END:VEVENT
BEGIN:VEVENT
DTSTART;TZID=America/Chicago:20260928T173000
DTEND;TZID=America/Chicago:20260928T183000
DTSTAMP:20260423T085529
CREATED:20241119T190819Z
LAST-MODIFIED:20260323T200127Z
UID:36509-1790616600-1790620200@riverplex.org
SUMMARY:Les Mills: Body Combat
DESCRIPTION:This is the empowering cardio workout where you are totally unleashed. This fiercely energetic program is inspired by martial arts and draws from a wide array of disciplines such as karate\, boxing\, taekwondo\, tai chi and Muay Thai.
URL:https://riverplex.org/event/les-mills-body-combat/2026-09-28/
LOCATION:Upstairs Studio
CATEGORIES:Land Group Exercise
END:VEVENT
BEGIN:VEVENT
DTSTART;TZID=America/Chicago:20261005T173000
DTEND;TZID=America/Chicago:20261005T183000
DTSTAMP:20260423T085529
CREATED:20241119T190819Z
LAST-MODIFIED:20260323T200127Z
UID:36510-1791221400-1791225000@riverplex.org
SUMMARY:Les Mills: Body Combat
DESCRIPTION:This is the empowering cardio workout where you are totally unleashed. This fiercely energetic program is inspired by martial arts and draws from a wide array of disciplines such as karate\, boxing\, taekwondo\, tai chi and Muay Thai.
URL:https://riverplex.org/event/les-mills-body-combat/2026-10-05/
LOCATION:Upstairs Studio
CATEGORIES:Land Group Exercise
END:VEVENT
BEGIN:VEVENT
DTSTART;TZID=America/Chicago:20261012T173000
DTEND;TZID=America/Chicago:20261012T183000
DTSTAMP:20260423T085529
CREATED:20241119T190819Z
LAST-MODIFIED:20260323T200127Z
UID:36511-1791826200-1791829800@riverplex.org
SUMMARY:Les Mills: Body Combat
DESCRIPTION:This is the empowering cardio workout where you are totally unleashed. This fiercely energetic program is inspired by martial arts and draws from a wide array of disciplines such as karate\, boxing\, taekwondo\, tai chi and Muay Thai.
URL:https://riverplex.org/event/les-mills-body-combat/2026-10-12/
LOCATION:Upstairs Studio
CATEGORIES:Land Group Exercise
END:VEVENT
BEGIN:VEVENT
DTSTART;TZID=America/Chicago:20261019T173000
DTEND;TZID=America/Chicago:20261019T183000
DTSTAMP:20260423T085529
CREATED:20241119T190819Z
LAST-MODIFIED:20260323T200127Z
UID:36512-1792431000-1792434600@riverplex.org
SUMMARY:Les Mills: Body Combat
DESCRIPTION:This is the empowering cardio workout where you are totally unleashed. This fiercely energetic program is inspired by martial arts and draws from a wide array of disciplines such as karate\, boxing\, taekwondo\, tai chi and Muay Thai.
URL:https://riverplex.org/event/les-mills-body-combat/2026-10-19/
LOCATION:Upstairs Studio
CATEGORIES:Land Group Exercise
END:VEVENT
BEGIN:VEVENT
DTSTART;TZID=America/Chicago:20261026T173000
DTEND;TZID=America/Chicago:20261026T183000
DTSTAMP:20260423T085529
CREATED:20241119T190819Z
LAST-MODIFIED:20260323T200128Z
UID:36513-1793035800-1793039400@riverplex.org
SUMMARY:Les Mills: Body Combat
DESCRIPTION:This is the empowering cardio workout where you are totally unleashed. This fiercely energetic program is inspired by martial arts and draws from a wide array of disciplines such as karate\, boxing\, taekwondo\, tai chi and Muay Thai.
URL:https://riverplex.org/event/les-mills-body-combat/2026-10-26/
LOCATION:Upstairs Studio
CATEGORIES:Land Group Exercise
END:VEVENT
BEGIN:VEVENT
DTSTART;TZID=America/Chicago:20261102T173000
DTEND;TZID=America/Chicago:20261102T183000
DTSTAMP:20260423T085529
CREATED:20241119T190819Z
LAST-MODIFIED:20260323T200128Z
UID:36514-1793640600-1793644200@riverplex.org
SUMMARY:Les Mills: Body Combat
DESCRIPTION:This is the empowering cardio workout where you are totally unleashed. This fiercely energetic program is inspired by martial arts and draws from a wide array of disciplines such as karate\, boxing\, taekwondo\, tai chi and Muay Thai.
URL:https://riverplex.org/event/les-mills-body-combat/2026-11-02/
LOCATION:Upstairs Studio
CATEGORIES:Land Group Exercise
END:VEVENT
BEGIN:VEVENT
DTSTART;TZID=America/Chicago:20261109T173000
DTEND;TZID=America/Chicago:20261109T183000
DTSTAMP:20260423T085529
CREATED:20241119T190819Z
LAST-MODIFIED:20260323T200128Z
UID:36515-1794245400-1794249000@riverplex.org
SUMMARY:Les Mills: Body Combat
DESCRIPTION:This is the empowering cardio workout where you are totally unleashed. This fiercely energetic program is inspired by martial arts and draws from a wide array of disciplines such as karate\, boxing\, taekwondo\, tai chi and Muay Thai.
URL:https://riverplex.org/event/les-mills-body-combat/2026-11-09/
LOCATION:Upstairs Studio
CATEGORIES:Land Group Exercise
END:VEVENT
BEGIN:VEVENT
DTSTART;TZID=America/Chicago:20261116T173000
DTEND;TZID=America/Chicago:20261116T183000
DTSTAMP:20260423T085529
CREATED:20241119T190819Z
LAST-MODIFIED:20260323T200128Z
UID:36516-1794850200-1794853800@riverplex.org
SUMMARY:Les Mills: Body Combat
DESCRIPTION:This is the empowering cardio workout where you are totally unleashed. This fiercely energetic program is inspired by martial arts and draws from a wide array of disciplines such as karate\, boxing\, taekwondo\, tai chi and Muay Thai.
URL:https://riverplex.org/event/les-mills-body-combat/2026-11-16/
LOCATION:Upstairs Studio
CATEGORIES:Land Group Exercise
END:VEVENT
END:VCALENDAR