BEGIN:VCALENDAR
VERSION:2.0
PRODID:-//RiverPlex - ECPv6.15.18//NONSGML v1.0//EN
CALSCALE:GREGORIAN
METHOD:PUBLISH
X-WR-CALNAME:RiverPlex
X-ORIGINAL-URL:http://riverplex.org
X-WR-CALDESC:Events for RiverPlex
REFRESH-INTERVAL;VALUE=DURATION:PT1H
X-Robots-Tag:noindex
X-PUBLISHED-TTL:PT1H
BEGIN:VTIMEZONE
TZID:America/Chicago
BEGIN:DAYLIGHT
TZOFFSETFROM:-0600
TZOFFSETTO:-0500
TZNAME:CDT
DTSTART:20260308T080000
END:DAYLIGHT
BEGIN:STANDARD
TZOFFSETFROM:-0500
TZOFFSETTO:-0600
TZNAME:CST
DTSTART:20261101T070000
END:STANDARD
BEGIN:DAYLIGHT
TZOFFSETFROM:-0600
TZOFFSETTO:-0500
TZNAME:CDT
DTSTART:20270314T080000
END:DAYLIGHT
BEGIN:STANDARD
TZOFFSETFROM:-0500
TZOFFSETTO:-0600
TZNAME:CST
DTSTART:20271107T070000
END:STANDARD
BEGIN:DAYLIGHT
TZOFFSETFROM:-0600
TZOFFSETTO:-0500
TZNAME:CDT
DTSTART:20280312T080000
END:DAYLIGHT
BEGIN:STANDARD
TZOFFSETFROM:-0500
TZOFFSETTO:-0600
TZNAME:CST
DTSTART:20281105T070000
END:STANDARD
END:VTIMEZONE
BEGIN:VEVENT
DTSTART;TZID=America/Chicago:20271012T052500
DTEND;TZID=America/Chicago:20271012T060000
DTSTAMP:20260425T143417
CREATED:20241119T182748Z
LAST-MODIFIED:20241119T182748Z
UID:32272-1823318700-1823320800@riverplex.org
SUMMARY:HIIT Ride
DESCRIPTION:HIIT Ride is a 30 minute cycling class featuring today’s hit songs. Work is focused on these phases on the bike: power\, strength\, speed\, endurance\, and tabata. You’ll love this short\, fast paced class!
URL:http://riverplex.org/event/hiit-ride/2027-10-12/
LOCATION:Spin Studio
CATEGORIES:Land Group Exercise
END:VEVENT
BEGIN:VEVENT
DTSTART;TZID=America/Chicago:20271012T163000
DTEND;TZID=America/Chicago:20271012T171500
DTSTAMP:20260425T143417
CREATED:20260304T170839Z
LAST-MODIFIED:20260304T170839Z
UID:37572-1823358600-1823361300@riverplex.org
SUMMARY:Les Mills: RPM
DESCRIPTION:This class will take you on the ride of your life and is the ultimate indoor group cycling experience. This simulated bike ride is perfect for all ages and fitness levels. You ride at your own pace\, whether you want a tough ride or want to build endurance.
URL:http://riverplex.org/event/les-mills-rpm-4/2027-10-12/
LOCATION:Spin Studio
CATEGORIES:Land Group Exercise
END:VEVENT
BEGIN:VEVENT
DTSTART;TZID=America/Chicago:20271013T090000
DTEND;TZID=America/Chicago:20271013T095500
DTSTAMP:20260425T143417
CREATED:20241126T134205Z
LAST-MODIFIED:20241126T134205Z
UID:32300-1823418000-1823421300@riverplex.org
SUMMARY:Virtual Les Mills Sprint
DESCRIPTION:This is the same Sprint workout\, but in the virtual format. The TV screen will automatically start playing the class at the scheduled start time.
URL:http://riverplex.org/event/virtual-les-mills-rpm/2027-10-13/
LOCATION:Spin Studio
CATEGORIES:Land Group Exercise
END:VEVENT
BEGIN:VEVENT
DTSTART;TZID=America/Chicago:20271014T170000
DTEND;TZID=America/Chicago:20271014T174500
DTSTAMP:20260425T143417
CREATED:20241120T091836Z
LAST-MODIFIED:20241120T091836Z
UID:37677-1823533200-1823535900@riverplex.org
SUMMARY:Les Mills: RPM
DESCRIPTION:This class will take you on the ride of your life and is the ultimate indoor group cycling experience. This simulated bike ride is perfect for all ages and fitness levels. You ride at your own pace\, whether you want a tough ride or want to build endurance.
URL:http://riverplex.org/event/les-mills-rpm/2027-10-14/
LOCATION:Spin Studio
CATEGORIES:Land Group Exercise
END:VEVENT
BEGIN:VEVENT
DTSTART;TZID=America/Chicago:20271016T071500
DTEND;TZID=America/Chicago:20271016T074500
DTSTAMP:20260425T143417
CREATED:20250806T183417Z
LAST-MODIFIED:20250806T183417Z
UID:32352-1823670900-1823672700@riverplex.org
SUMMARY:HIIT Ride
DESCRIPTION:HIIT Ride is a 30 minute cycling class featuring today’s hit songs. Work is focused on these phases on the bike: power\, strength\, speed\, endurance\, and tabata. You’ll love this short\, fast paced class!
URL:http://riverplex.org/event/hiit-ride-6/2027-10-16/
LOCATION:Spin Studio
CATEGORIES:Land Group Exercise
END:VEVENT
BEGIN:VEVENT
DTSTART;TZID=America/Chicago:20271018T090000
DTEND;TZID=America/Chicago:20271018T093000
DTSTAMP:20260425T143417
CREATED:20241126T134701Z
LAST-MODIFIED:20241126T134701Z
UID:32359-1823850000-1823851800@riverplex.org
SUMMARY:Virtual Les Mills Sprint
DESCRIPTION:This is the same SPRINT workout\, but in the virtual format. The TV screen will automatically start playing the class at the scheduled start time.
URL:http://riverplex.org/event/virtual-les-mills-sprint/2027-10-18/
LOCATION:Spin Studio
CATEGORIES:Land Group Exercise
END:VEVENT
BEGIN:VEVENT
DTSTART;TZID=America/Chicago:20271018T165000
DTEND;TZID=America/Chicago:20271018T172000
DTSTAMP:20260425T143417
CREATED:20241120T081018Z
LAST-MODIFIED:20241120T081018Z
UID:32356-1823878200-1823880000@riverplex.org
SUMMARY:HIIT Ride
DESCRIPTION:HIIT Ride is a 30 minute cycling class featuring today’s hit songs. Work is focused on these phases on the bike: power\, strength\, speed\, endurance\, and tabata. You’ll love this short\, fast paced class!
URL:http://riverplex.org/event/hiit-ride-2/2027-10-18/
LOCATION:Spin Studio
CATEGORIES:Land Group Exercise
END:VEVENT
BEGIN:VEVENT
DTSTART;TZID=America/Chicago:20271019T052500
DTEND;TZID=America/Chicago:20271019T060000
DTSTAMP:20260425T143417
CREATED:20241119T182748Z
LAST-MODIFIED:20241119T182748Z
UID:32368-1823923500-1823925600@riverplex.org
SUMMARY:HIIT Ride
DESCRIPTION:HIIT Ride is a 30 minute cycling class featuring today’s hit songs. Work is focused on these phases on the bike: power\, strength\, speed\, endurance\, and tabata. You’ll love this short\, fast paced class!
URL:http://riverplex.org/event/hiit-ride/2027-10-19/
LOCATION:Spin Studio
CATEGORIES:Land Group Exercise
END:VEVENT
BEGIN:VEVENT
DTSTART;TZID=America/Chicago:20271019T163000
DTEND;TZID=America/Chicago:20271019T171500
DTSTAMP:20260425T143417
CREATED:20260304T170839Z
LAST-MODIFIED:20260304T170839Z
UID:37573-1823963400-1823966100@riverplex.org
SUMMARY:Les Mills: RPM
DESCRIPTION:This class will take you on the ride of your life and is the ultimate indoor group cycling experience. This simulated bike ride is perfect for all ages and fitness levels. You ride at your own pace\, whether you want a tough ride or want to build endurance.
URL:http://riverplex.org/event/les-mills-rpm-4/2027-10-19/
LOCATION:Spin Studio
CATEGORIES:Land Group Exercise
END:VEVENT
BEGIN:VEVENT
DTSTART;TZID=America/Chicago:20271020T090000
DTEND;TZID=America/Chicago:20271020T095500
DTSTAMP:20260425T143417
CREATED:20241126T134205Z
LAST-MODIFIED:20241126T134205Z
UID:32390-1824022800-1824026100@riverplex.org
SUMMARY:Virtual Les Mills Sprint
DESCRIPTION:This is the same Sprint workout\, but in the virtual format. The TV screen will automatically start playing the class at the scheduled start time.
URL:http://riverplex.org/event/virtual-les-mills-rpm/2027-10-20/
LOCATION:Spin Studio
CATEGORIES:Land Group Exercise
END:VEVENT
BEGIN:VEVENT
DTSTART;TZID=America/Chicago:20271021T170000
DTEND;TZID=America/Chicago:20271021T174500
DTSTAMP:20260425T143417
CREATED:20241120T091836Z
LAST-MODIFIED:20241120T091836Z
UID:37678-1824138000-1824140700@riverplex.org
SUMMARY:Les Mills: RPM
DESCRIPTION:This class will take you on the ride of your life and is the ultimate indoor group cycling experience. This simulated bike ride is perfect for all ages and fitness levels. You ride at your own pace\, whether you want a tough ride or want to build endurance.
URL:http://riverplex.org/event/les-mills-rpm/2027-10-21/
LOCATION:Spin Studio
CATEGORIES:Land Group Exercise
END:VEVENT
BEGIN:VEVENT
DTSTART;TZID=America/Chicago:20271023T071500
DTEND;TZID=America/Chicago:20271023T074500
DTSTAMP:20260425T143417
CREATED:20250806T183417Z
LAST-MODIFIED:20250806T183417Z
UID:32680-1824275700-1824277500@riverplex.org
SUMMARY:HIIT Ride
DESCRIPTION:HIIT Ride is a 30 minute cycling class featuring today’s hit songs. Work is focused on these phases on the bike: power\, strength\, speed\, endurance\, and tabata. You’ll love this short\, fast paced class!
URL:http://riverplex.org/event/hiit-ride-6/2027-10-23/
LOCATION:Spin Studio
CATEGORIES:Land Group Exercise
END:VEVENT
BEGIN:VEVENT
DTSTART;TZID=America/Chicago:20271025T090000
DTEND;TZID=America/Chicago:20271025T093000
DTSTAMP:20260425T143417
CREATED:20241126T134701Z
LAST-MODIFIED:20241126T134701Z
UID:32687-1824454800-1824456600@riverplex.org
SUMMARY:Virtual Les Mills Sprint
DESCRIPTION:This is the same SPRINT workout\, but in the virtual format. The TV screen will automatically start playing the class at the scheduled start time.
URL:http://riverplex.org/event/virtual-les-mills-sprint/2027-10-25/
LOCATION:Spin Studio
CATEGORIES:Land Group Exercise
END:VEVENT
BEGIN:VEVENT
DTSTART;TZID=America/Chicago:20271025T165000
DTEND;TZID=America/Chicago:20271025T172000
DTSTAMP:20260425T143417
CREATED:20241120T081018Z
LAST-MODIFIED:20241120T081018Z
UID:32684-1824483000-1824484800@riverplex.org
SUMMARY:HIIT Ride
DESCRIPTION:HIIT Ride is a 30 minute cycling class featuring today’s hit songs. Work is focused on these phases on the bike: power\, strength\, speed\, endurance\, and tabata. You’ll love this short\, fast paced class!
URL:http://riverplex.org/event/hiit-ride-2/2027-10-25/
LOCATION:Spin Studio
CATEGORIES:Land Group Exercise
END:VEVENT
BEGIN:VEVENT
DTSTART;TZID=America/Chicago:20271026T052500
DTEND;TZID=America/Chicago:20271026T060000
DTSTAMP:20260425T143417
CREATED:20241119T182748Z
LAST-MODIFIED:20241119T182748Z
UID:32697-1824528300-1824530400@riverplex.org
SUMMARY:HIIT Ride
DESCRIPTION:HIIT Ride is a 30 minute cycling class featuring today’s hit songs. Work is focused on these phases on the bike: power\, strength\, speed\, endurance\, and tabata. You’ll love this short\, fast paced class!
URL:http://riverplex.org/event/hiit-ride/2027-10-26/
LOCATION:Spin Studio
CATEGORIES:Land Group Exercise
END:VEVENT
BEGIN:VEVENT
DTSTART;TZID=America/Chicago:20271026T163000
DTEND;TZID=America/Chicago:20271026T171500
DTSTAMP:20260425T143417
CREATED:20260304T170839Z
LAST-MODIFIED:20260304T170839Z
UID:37574-1824568200-1824570900@riverplex.org
SUMMARY:Les Mills: RPM
DESCRIPTION:This class will take you on the ride of your life and is the ultimate indoor group cycling experience. This simulated bike ride is perfect for all ages and fitness levels. You ride at your own pace\, whether you want a tough ride or want to build endurance.
URL:http://riverplex.org/event/les-mills-rpm-4/2027-10-26/
LOCATION:Spin Studio
CATEGORIES:Land Group Exercise
END:VEVENT
BEGIN:VEVENT
DTSTART;TZID=America/Chicago:20271027T090000
DTEND;TZID=America/Chicago:20271027T095500
DTSTAMP:20260425T143417
CREATED:20241126T134205Z
LAST-MODIFIED:20241126T134205Z
UID:32720-1824627600-1824630900@riverplex.org
SUMMARY:Virtual Les Mills Sprint
DESCRIPTION:This is the same Sprint workout\, but in the virtual format. The TV screen will automatically start playing the class at the scheduled start time.
URL:http://riverplex.org/event/virtual-les-mills-rpm/2027-10-27/
LOCATION:Spin Studio
CATEGORIES:Land Group Exercise
END:VEVENT
BEGIN:VEVENT
DTSTART;TZID=America/Chicago:20271028T170000
DTEND;TZID=America/Chicago:20271028T174500
DTSTAMP:20260425T143417
CREATED:20241120T091836Z
LAST-MODIFIED:20241120T091836Z
UID:37679-1824742800-1824745500@riverplex.org
SUMMARY:Les Mills: RPM
DESCRIPTION:This class will take you on the ride of your life and is the ultimate indoor group cycling experience. This simulated bike ride is perfect for all ages and fitness levels. You ride at your own pace\, whether you want a tough ride or want to build endurance.
URL:http://riverplex.org/event/les-mills-rpm/2027-10-28/
LOCATION:Spin Studio
CATEGORIES:Land Group Exercise
END:VEVENT
BEGIN:VEVENT
DTSTART;TZID=America/Chicago:20271030T071500
DTEND;TZID=America/Chicago:20271030T074500
DTSTAMP:20260425T143417
CREATED:20250806T183417Z
LAST-MODIFIED:20250806T183417Z
UID:32767-1824880500-1824882300@riverplex.org
SUMMARY:HIIT Ride
DESCRIPTION:HIIT Ride is a 30 minute cycling class featuring today’s hit songs. Work is focused on these phases on the bike: power\, strength\, speed\, endurance\, and tabata. You’ll love this short\, fast paced class!
URL:http://riverplex.org/event/hiit-ride-6/2027-10-30/
LOCATION:Spin Studio
CATEGORIES:Land Group Exercise
END:VEVENT
BEGIN:VEVENT
DTSTART;TZID=America/Chicago:20271101T090000
DTEND;TZID=America/Chicago:20271101T093000
DTSTAMP:20260425T143417
CREATED:20241126T134701Z
LAST-MODIFIED:20241126T134701Z
UID:32774-1825059600-1825061400@riverplex.org
SUMMARY:Virtual Les Mills Sprint
DESCRIPTION:This is the same SPRINT workout\, but in the virtual format. The TV screen will automatically start playing the class at the scheduled start time.
URL:http://riverplex.org/event/virtual-les-mills-sprint/2027-11-01/
LOCATION:Spin Studio
CATEGORIES:Land Group Exercise
END:VEVENT
BEGIN:VEVENT
DTSTART;TZID=America/Chicago:20271101T165000
DTEND;TZID=America/Chicago:20271101T172000
DTSTAMP:20260425T143417
CREATED:20241120T081018Z
LAST-MODIFIED:20241120T081018Z
UID:32771-1825087800-1825089600@riverplex.org
SUMMARY:HIIT Ride
DESCRIPTION:HIIT Ride is a 30 minute cycling class featuring today’s hit songs. Work is focused on these phases on the bike: power\, strength\, speed\, endurance\, and tabata. You’ll love this short\, fast paced class!
URL:http://riverplex.org/event/hiit-ride-2/2027-11-01/
LOCATION:Spin Studio
CATEGORIES:Land Group Exercise
END:VEVENT
BEGIN:VEVENT
DTSTART;TZID=America/Chicago:20271102T052500
DTEND;TZID=America/Chicago:20271102T060000
DTSTAMP:20260425T143417
CREATED:20241119T182748Z
LAST-MODIFIED:20241119T182748Z
UID:32784-1825133100-1825135200@riverplex.org
SUMMARY:HIIT Ride
DESCRIPTION:HIIT Ride is a 30 minute cycling class featuring today’s hit songs. Work is focused on these phases on the bike: power\, strength\, speed\, endurance\, and tabata. You’ll love this short\, fast paced class!
URL:http://riverplex.org/event/hiit-ride/2027-11-02/
LOCATION:Spin Studio
CATEGORIES:Land Group Exercise
END:VEVENT
BEGIN:VEVENT
DTSTART;TZID=America/Chicago:20271102T163000
DTEND;TZID=America/Chicago:20271102T171500
DTSTAMP:20260425T143417
CREATED:20260304T170839Z
LAST-MODIFIED:20260304T170839Z
UID:37575-1825173000-1825175700@riverplex.org
SUMMARY:Les Mills: RPM
DESCRIPTION:This class will take you on the ride of your life and is the ultimate indoor group cycling experience. This simulated bike ride is perfect for all ages and fitness levels. You ride at your own pace\, whether you want a tough ride or want to build endurance.
URL:http://riverplex.org/event/les-mills-rpm-4/2027-11-02/
LOCATION:Spin Studio
CATEGORIES:Land Group Exercise
END:VEVENT
BEGIN:VEVENT
DTSTART;TZID=America/Chicago:20271103T090000
DTEND;TZID=America/Chicago:20271103T095500
DTSTAMP:20260425T143417
CREATED:20241126T134205Z
LAST-MODIFIED:20241126T134205Z
UID:32824-1825232400-1825235700@riverplex.org
SUMMARY:Virtual Les Mills Sprint
DESCRIPTION:This is the same Sprint workout\, but in the virtual format. The TV screen will automatically start playing the class at the scheduled start time.
URL:http://riverplex.org/event/virtual-les-mills-rpm/2027-11-03/
LOCATION:Spin Studio
CATEGORIES:Land Group Exercise
END:VEVENT
BEGIN:VEVENT
DTSTART;TZID=America/Chicago:20271104T170000
DTEND;TZID=America/Chicago:20271104T174500
DTSTAMP:20260425T143417
CREATED:20241120T091836Z
LAST-MODIFIED:20241120T091836Z
UID:37680-1825347600-1825350300@riverplex.org
SUMMARY:Les Mills: RPM
DESCRIPTION:This class will take you on the ride of your life and is the ultimate indoor group cycling experience. This simulated bike ride is perfect for all ages and fitness levels. You ride at your own pace\, whether you want a tough ride or want to build endurance.
URL:http://riverplex.org/event/les-mills-rpm/2027-11-04/
LOCATION:Spin Studio
CATEGORIES:Land Group Exercise
END:VEVENT
BEGIN:VEVENT
DTSTART;TZID=America/Chicago:20271106T071500
DTEND;TZID=America/Chicago:20271106T074500
DTSTAMP:20260425T143417
CREATED:20250806T183417Z
LAST-MODIFIED:20250806T183417Z
UID:32873-1825485300-1825487100@riverplex.org
SUMMARY:HIIT Ride
DESCRIPTION:HIIT Ride is a 30 minute cycling class featuring today’s hit songs. Work is focused on these phases on the bike: power\, strength\, speed\, endurance\, and tabata. You’ll love this short\, fast paced class!
URL:http://riverplex.org/event/hiit-ride-6/2027-11-06/
LOCATION:Spin Studio
CATEGORIES:Land Group Exercise
END:VEVENT
BEGIN:VEVENT
DTSTART;TZID=America/Chicago:20271108T090000
DTEND;TZID=America/Chicago:20271108T093000
DTSTAMP:20260425T143417
CREATED:20241126T134701Z
LAST-MODIFIED:20241126T134701Z
UID:32880-1825664400-1825666200@riverplex.org
SUMMARY:Virtual Les Mills Sprint
DESCRIPTION:This is the same SPRINT workout\, but in the virtual format. The TV screen will automatically start playing the class at the scheduled start time.
URL:http://riverplex.org/event/virtual-les-mills-sprint/2027-11-08/
LOCATION:Spin Studio
CATEGORIES:Land Group Exercise
END:VEVENT
BEGIN:VEVENT
DTSTART;TZID=America/Chicago:20271108T165000
DTEND;TZID=America/Chicago:20271108T172000
DTSTAMP:20260425T143417
CREATED:20241120T081018Z
LAST-MODIFIED:20241120T081018Z
UID:32877-1825692600-1825694400@riverplex.org
SUMMARY:HIIT Ride
DESCRIPTION:HIIT Ride is a 30 minute cycling class featuring today’s hit songs. Work is focused on these phases on the bike: power\, strength\, speed\, endurance\, and tabata. You’ll love this short\, fast paced class!
URL:http://riverplex.org/event/hiit-ride-2/2027-11-08/
LOCATION:Spin Studio
CATEGORIES:Land Group Exercise
END:VEVENT
BEGIN:VEVENT
DTSTART;TZID=America/Chicago:20271109T052500
DTEND;TZID=America/Chicago:20271109T060000
DTSTAMP:20260425T143417
CREATED:20241119T182748Z
LAST-MODIFIED:20241119T182748Z
UID:32890-1825737900-1825740000@riverplex.org
SUMMARY:HIIT Ride
DESCRIPTION:HIIT Ride is a 30 minute cycling class featuring today’s hit songs. Work is focused on these phases on the bike: power\, strength\, speed\, endurance\, and tabata. You’ll love this short\, fast paced class!
URL:http://riverplex.org/event/hiit-ride/2027-11-09/
LOCATION:Spin Studio
CATEGORIES:Land Group Exercise
END:VEVENT
BEGIN:VEVENT
DTSTART;TZID=America/Chicago:20271109T163000
DTEND;TZID=America/Chicago:20271109T171500
DTSTAMP:20260425T143417
CREATED:20260304T170839Z
LAST-MODIFIED:20260304T170839Z
UID:37576-1825777800-1825780500@riverplex.org
SUMMARY:Les Mills: RPM
DESCRIPTION:This class will take you on the ride of your life and is the ultimate indoor group cycling experience. This simulated bike ride is perfect for all ages and fitness levels. You ride at your own pace\, whether you want a tough ride or want to build endurance.
URL:http://riverplex.org/event/les-mills-rpm-4/2027-11-09/
LOCATION:Spin Studio
CATEGORIES:Land Group Exercise
END:VEVENT
END:VCALENDAR