BEGIN:VCALENDAR
VERSION:2.0
PRODID:-//RiverPlex - ECPv6.15.18//NONSGML v1.0//EN
CALSCALE:GREGORIAN
METHOD:PUBLISH
X-WR-CALNAME:RiverPlex
X-ORIGINAL-URL:http://riverplex.org
X-WR-CALDESC:Events for RiverPlex
REFRESH-INTERVAL;VALUE=DURATION:PT1H
X-Robots-Tag:noindex
X-PUBLISHED-TTL:PT1H
BEGIN:VTIMEZONE
TZID:America/Chicago
BEGIN:DAYLIGHT
TZOFFSETFROM:-0600
TZOFFSETTO:-0500
TZNAME:CDT
DTSTART:20260308T080000
END:DAYLIGHT
BEGIN:STANDARD
TZOFFSETFROM:-0500
TZOFFSETTO:-0600
TZNAME:CST
DTSTART:20261101T070000
END:STANDARD
BEGIN:DAYLIGHT
TZOFFSETFROM:-0600
TZOFFSETTO:-0500
TZNAME:CDT
DTSTART:20270314T080000
END:DAYLIGHT
BEGIN:STANDARD
TZOFFSETFROM:-0500
TZOFFSETTO:-0600
TZNAME:CST
DTSTART:20271107T070000
END:STANDARD
BEGIN:DAYLIGHT
TZOFFSETFROM:-0600
TZOFFSETTO:-0500
TZNAME:CDT
DTSTART:20280312T080000
END:DAYLIGHT
BEGIN:STANDARD
TZOFFSETFROM:-0500
TZOFFSETTO:-0600
TZNAME:CST
DTSTART:20281105T070000
END:STANDARD
END:VTIMEZONE
BEGIN:VEVENT
DTSTART;TZID=America/Chicago:20270915T090000
DTEND;TZID=America/Chicago:20270915T095500
DTSTAMP:20260425T113311
CREATED:20241126T134205Z
LAST-MODIFIED:20251010T114605Z
UID:31613-1820998800-1821002100@riverplex.org
SUMMARY:Virtual Les Mills Sprint
DESCRIPTION:This is the same Sprint workout\, but in the virtual format. The TV screen will automatically start playing the class at the scheduled start time.
URL:http://riverplex.org/event/virtual-les-mills-rpm/2027-09-15/
LOCATION:Spin Studio
CATEGORIES:Land Group Exercise
END:VEVENT
BEGIN:VEVENT
DTSTART;TZID=America/Chicago:20270916T170000
DTEND;TZID=America/Chicago:20270916T174500
DTSTAMP:20260425T113311
CREATED:20241120T091836Z
LAST-MODIFIED:20241120T091836Z
UID:37673-1821114000-1821116700@riverplex.org
SUMMARY:Les Mills: RPM
DESCRIPTION:This class will take you on the ride of your life and is the ultimate indoor group cycling experience. This simulated bike ride is perfect for all ages and fitness levels. You ride at your own pace\, whether you want a tough ride or want to build endurance.
URL:http://riverplex.org/event/les-mills-rpm/2027-09-16/
LOCATION:Spin Studio
CATEGORIES:Land Group Exercise
END:VEVENT
BEGIN:VEVENT
DTSTART;TZID=America/Chicago:20270918T071500
DTEND;TZID=America/Chicago:20270918T074500
DTSTAMP:20260425T113311
CREATED:20250806T183417Z
LAST-MODIFIED:20250806T183417Z
UID:30873-1821251700-1821253500@riverplex.org
SUMMARY:HIIT Ride
DESCRIPTION:HIIT Ride is a 30 minute cycling class featuring today’s hit songs. Work is focused on these phases on the bike: power\, strength\, speed\, endurance\, and tabata. You’ll love this short\, fast paced class!
URL:http://riverplex.org/event/hiit-ride-6/2027-09-18/
LOCATION:Spin Studio
CATEGORIES:Land Group Exercise
END:VEVENT
BEGIN:VEVENT
DTSTART;TZID=America/Chicago:20270920T090000
DTEND;TZID=America/Chicago:20270920T093000
DTSTAMP:20260425T113311
CREATED:20241126T134701Z
LAST-MODIFIED:20241126T134701Z
UID:30880-1821430800-1821432600@riverplex.org
SUMMARY:Virtual Les Mills Sprint
DESCRIPTION:This is the same SPRINT workout\, but in the virtual format. The TV screen will automatically start playing the class at the scheduled start time.
URL:http://riverplex.org/event/virtual-les-mills-sprint/2027-09-20/
LOCATION:Spin Studio
CATEGORIES:Land Group Exercise
END:VEVENT
BEGIN:VEVENT
DTSTART;TZID=America/Chicago:20270920T165000
DTEND;TZID=America/Chicago:20270920T172000
DTSTAMP:20260425T113311
CREATED:20241120T081018Z
LAST-MODIFIED:20241120T081018Z
UID:30877-1821459000-1821460800@riverplex.org
SUMMARY:HIIT Ride
DESCRIPTION:HIIT Ride is a 30 minute cycling class featuring today’s hit songs. Work is focused on these phases on the bike: power\, strength\, speed\, endurance\, and tabata. You’ll love this short\, fast paced class!
URL:http://riverplex.org/event/hiit-ride-2/2027-09-20/
LOCATION:Spin Studio
CATEGORIES:Land Group Exercise
END:VEVENT
BEGIN:VEVENT
DTSTART;TZID=America/Chicago:20270921T052500
DTEND;TZID=America/Chicago:20270921T060000
DTSTAMP:20260425T113311
CREATED:20241119T182748Z
LAST-MODIFIED:20241119T182748Z
UID:30890-1821504300-1821506400@riverplex.org
SUMMARY:HIIT Ride
DESCRIPTION:HIIT Ride is a 30 minute cycling class featuring today’s hit songs. Work is focused on these phases on the bike: power\, strength\, speed\, endurance\, and tabata. You’ll love this short\, fast paced class!
URL:http://riverplex.org/event/hiit-ride/2027-09-21/
LOCATION:Spin Studio
CATEGORIES:Land Group Exercise
END:VEVENT
BEGIN:VEVENT
DTSTART;TZID=America/Chicago:20270921T163000
DTEND;TZID=America/Chicago:20270921T171500
DTSTAMP:20260425T113311
CREATED:20260304T170839Z
LAST-MODIFIED:20260304T170839Z
UID:37569-1821544200-1821546900@riverplex.org
SUMMARY:Les Mills: RPM
DESCRIPTION:This class will take you on the ride of your life and is the ultimate indoor group cycling experience. This simulated bike ride is perfect for all ages and fitness levels. You ride at your own pace\, whether you want a tough ride or want to build endurance.
URL:http://riverplex.org/event/les-mills-rpm-4/2027-09-21/
LOCATION:Spin Studio
CATEGORIES:Land Group Exercise
END:VEVENT
BEGIN:VEVENT
DTSTART;TZID=America/Chicago:20270922T090000
DTEND;TZID=America/Chicago:20270922T095500
DTSTAMP:20260425T113311
CREATED:20241126T134205Z
LAST-MODIFIED:20251010T114605Z
UID:31614-1821603600-1821606900@riverplex.org
SUMMARY:Virtual Les Mills Sprint
DESCRIPTION:This is the same Sprint workout\, but in the virtual format. The TV screen will automatically start playing the class at the scheduled start time.
URL:http://riverplex.org/event/virtual-les-mills-rpm/2027-09-22/
LOCATION:Spin Studio
CATEGORIES:Land Group Exercise
END:VEVENT
BEGIN:VEVENT
DTSTART;TZID=America/Chicago:20270923T170000
DTEND;TZID=America/Chicago:20270923T174500
DTSTAMP:20260425T113311
CREATED:20241120T091836Z
LAST-MODIFIED:20241120T091836Z
UID:37674-1821718800-1821721500@riverplex.org
SUMMARY:Les Mills: RPM
DESCRIPTION:This class will take you on the ride of your life and is the ultimate indoor group cycling experience. This simulated bike ride is perfect for all ages and fitness levels. You ride at your own pace\, whether you want a tough ride or want to build endurance.
URL:http://riverplex.org/event/les-mills-rpm/2027-09-23/
LOCATION:Spin Studio
CATEGORIES:Land Group Exercise
END:VEVENT
BEGIN:VEVENT
DTSTART;TZID=America/Chicago:20270925T071500
DTEND;TZID=America/Chicago:20270925T074500
DTSTAMP:20260425T113311
CREATED:20250806T183417Z
LAST-MODIFIED:20250806T183417Z
UID:30965-1821856500-1821858300@riverplex.org
SUMMARY:HIIT Ride
DESCRIPTION:HIIT Ride is a 30 minute cycling class featuring today’s hit songs. Work is focused on these phases on the bike: power\, strength\, speed\, endurance\, and tabata. You’ll love this short\, fast paced class!
URL:http://riverplex.org/event/hiit-ride-6/2027-09-25/
LOCATION:Spin Studio
CATEGORIES:Land Group Exercise
END:VEVENT
BEGIN:VEVENT
DTSTART;TZID=America/Chicago:20270927T090000
DTEND;TZID=America/Chicago:20270927T093000
DTSTAMP:20260425T113311
CREATED:20241126T134701Z
LAST-MODIFIED:20241126T134701Z
UID:30972-1822035600-1822037400@riverplex.org
SUMMARY:Virtual Les Mills Sprint
DESCRIPTION:This is the same SPRINT workout\, but in the virtual format. The TV screen will automatically start playing the class at the scheduled start time.
URL:http://riverplex.org/event/virtual-les-mills-sprint/2027-09-27/
LOCATION:Spin Studio
CATEGORIES:Land Group Exercise
END:VEVENT
BEGIN:VEVENT
DTSTART;TZID=America/Chicago:20270927T165000
DTEND;TZID=America/Chicago:20270927T172000
DTSTAMP:20260425T113311
CREATED:20241120T081018Z
LAST-MODIFIED:20241120T081018Z
UID:30969-1822063800-1822065600@riverplex.org
SUMMARY:HIIT Ride
DESCRIPTION:HIIT Ride is a 30 minute cycling class featuring today’s hit songs. Work is focused on these phases on the bike: power\, strength\, speed\, endurance\, and tabata. You’ll love this short\, fast paced class!
URL:http://riverplex.org/event/hiit-ride-2/2027-09-27/
LOCATION:Spin Studio
CATEGORIES:Land Group Exercise
END:VEVENT
BEGIN:VEVENT
DTSTART;TZID=America/Chicago:20270928T052500
DTEND;TZID=America/Chicago:20270928T060000
DTSTAMP:20260425T113311
CREATED:20241119T182748Z
LAST-MODIFIED:20241119T182748Z
UID:30981-1822109100-1822111200@riverplex.org
SUMMARY:HIIT Ride
DESCRIPTION:HIIT Ride is a 30 minute cycling class featuring today’s hit songs. Work is focused on these phases on the bike: power\, strength\, speed\, endurance\, and tabata. You’ll love this short\, fast paced class!
URL:http://riverplex.org/event/hiit-ride/2027-09-28/
LOCATION:Spin Studio
CATEGORIES:Land Group Exercise
END:VEVENT
BEGIN:VEVENT
DTSTART;TZID=America/Chicago:20270928T163000
DTEND;TZID=America/Chicago:20270928T171500
DTSTAMP:20260425T113311
CREATED:20260304T170839Z
LAST-MODIFIED:20260304T170839Z
UID:37570-1822149000-1822151700@riverplex.org
SUMMARY:Les Mills: RPM
DESCRIPTION:This class will take you on the ride of your life and is the ultimate indoor group cycling experience. This simulated bike ride is perfect for all ages and fitness levels. You ride at your own pace\, whether you want a tough ride or want to build endurance.
URL:http://riverplex.org/event/les-mills-rpm-4/2027-09-28/
LOCATION:Spin Studio
CATEGORIES:Land Group Exercise
END:VEVENT
BEGIN:VEVENT
DTSTART;TZID=America/Chicago:20270929T090000
DTEND;TZID=America/Chicago:20270929T095500
DTSTAMP:20260425T113311
CREATED:20241126T134205Z
LAST-MODIFIED:20251010T114606Z
UID:31615-1822208400-1822211700@riverplex.org
SUMMARY:Virtual Les Mills Sprint
DESCRIPTION:This is the same Sprint workout\, but in the virtual format. The TV screen will automatically start playing the class at the scheduled start time.
URL:http://riverplex.org/event/virtual-les-mills-rpm/2027-09-29/
LOCATION:Spin Studio
CATEGORIES:Land Group Exercise
END:VEVENT
BEGIN:VEVENT
DTSTART;TZID=America/Chicago:20270930T170000
DTEND;TZID=America/Chicago:20270930T174500
DTSTAMP:20260425T113311
CREATED:20241120T091836Z
LAST-MODIFIED:20241120T091836Z
UID:37675-1822323600-1822326300@riverplex.org
SUMMARY:Les Mills: RPM
DESCRIPTION:This class will take you on the ride of your life and is the ultimate indoor group cycling experience. This simulated bike ride is perfect for all ages and fitness levels. You ride at your own pace\, whether you want a tough ride or want to build endurance.
URL:http://riverplex.org/event/les-mills-rpm/2027-09-30/
LOCATION:Spin Studio
CATEGORIES:Land Group Exercise
END:VEVENT
BEGIN:VEVENT
DTSTART;TZID=America/Chicago:20271002T071500
DTEND;TZID=America/Chicago:20271002T074500
DTSTAMP:20260425T113311
CREATED:20250806T183417Z
LAST-MODIFIED:20250806T183417Z
UID:31150-1822461300-1822463100@riverplex.org
SUMMARY:HIIT Ride
DESCRIPTION:HIIT Ride is a 30 minute cycling class featuring today’s hit songs. Work is focused on these phases on the bike: power\, strength\, speed\, endurance\, and tabata. You’ll love this short\, fast paced class!
URL:http://riverplex.org/event/hiit-ride-6/2027-10-02/
LOCATION:Spin Studio
CATEGORIES:Land Group Exercise
END:VEVENT
BEGIN:VEVENT
DTSTART;TZID=America/Chicago:20271004T090000
DTEND;TZID=America/Chicago:20271004T093000
DTSTAMP:20260425T113311
CREATED:20241126T134701Z
LAST-MODIFIED:20241126T134701Z
UID:31172-1822640400-1822642200@riverplex.org
SUMMARY:Virtual Les Mills Sprint
DESCRIPTION:This is the same SPRINT workout\, but in the virtual format. The TV screen will automatically start playing the class at the scheduled start time.
URL:http://riverplex.org/event/virtual-les-mills-sprint/2027-10-04/
LOCATION:Spin Studio
CATEGORIES:Land Group Exercise
END:VEVENT
BEGIN:VEVENT
DTSTART;TZID=America/Chicago:20271004T165000
DTEND;TZID=America/Chicago:20271004T172000
DTSTAMP:20260425T113311
CREATED:20241120T081018Z
LAST-MODIFIED:20241120T081018Z
UID:31169-1822668600-1822670400@riverplex.org
SUMMARY:HIIT Ride
DESCRIPTION:HIIT Ride is a 30 minute cycling class featuring today’s hit songs. Work is focused on these phases on the bike: power\, strength\, speed\, endurance\, and tabata. You’ll love this short\, fast paced class!
URL:http://riverplex.org/event/hiit-ride-2/2027-10-04/
LOCATION:Spin Studio
CATEGORIES:Land Group Exercise
END:VEVENT
BEGIN:VEVENT
DTSTART;TZID=America/Chicago:20271005T052500
DTEND;TZID=America/Chicago:20271005T060000
DTSTAMP:20260425T113311
CREATED:20241119T182748Z
LAST-MODIFIED:20241119T182748Z
UID:31181-1822713900-1822716000@riverplex.org
SUMMARY:HIIT Ride
DESCRIPTION:HIIT Ride is a 30 minute cycling class featuring today’s hit songs. Work is focused on these phases on the bike: power\, strength\, speed\, endurance\, and tabata. You’ll love this short\, fast paced class!
URL:http://riverplex.org/event/hiit-ride/2027-10-05/
LOCATION:Spin Studio
CATEGORIES:Land Group Exercise
END:VEVENT
BEGIN:VEVENT
DTSTART;TZID=America/Chicago:20271005T163000
DTEND;TZID=America/Chicago:20271005T171500
DTSTAMP:20260425T113311
CREATED:20260304T170839Z
LAST-MODIFIED:20260304T170839Z
UID:37571-1822753800-1822756500@riverplex.org
SUMMARY:Les Mills: RPM
DESCRIPTION:This class will take you on the ride of your life and is the ultimate indoor group cycling experience. This simulated bike ride is perfect for all ages and fitness levels. You ride at your own pace\, whether you want a tough ride or want to build endurance.
URL:http://riverplex.org/event/les-mills-rpm-4/2027-10-05/
LOCATION:Spin Studio
CATEGORIES:Land Group Exercise
END:VEVENT
BEGIN:VEVENT
DTSTART;TZID=America/Chicago:20271006T090000
DTEND;TZID=America/Chicago:20271006T095500
DTSTAMP:20260425T113311
CREATED:20241126T134205Z
LAST-MODIFIED:20251010T114606Z
UID:31616-1822813200-1822816500@riverplex.org
SUMMARY:Virtual Les Mills Sprint
DESCRIPTION:This is the same Sprint workout\, but in the virtual format. The TV screen will automatically start playing the class at the scheduled start time.
URL:http://riverplex.org/event/virtual-les-mills-rpm/2027-10-06/
LOCATION:Spin Studio
CATEGORIES:Land Group Exercise
END:VEVENT
BEGIN:VEVENT
DTSTART;TZID=America/Chicago:20271007T170000
DTEND;TZID=America/Chicago:20271007T174500
DTSTAMP:20260425T113311
CREATED:20241120T091836Z
LAST-MODIFIED:20241120T091836Z
UID:37676-1822928400-1822931100@riverplex.org
SUMMARY:Les Mills: RPM
DESCRIPTION:This class will take you on the ride of your life and is the ultimate indoor group cycling experience. This simulated bike ride is perfect for all ages and fitness levels. You ride at your own pace\, whether you want a tough ride or want to build endurance.
URL:http://riverplex.org/event/les-mills-rpm/2027-10-07/
LOCATION:Spin Studio
CATEGORIES:Land Group Exercise
END:VEVENT
BEGIN:VEVENT
DTSTART;TZID=America/Chicago:20271009T071500
DTEND;TZID=America/Chicago:20271009T074500
DTSTAMP:20260425T113311
CREATED:20250806T183417Z
LAST-MODIFIED:20250806T183417Z
UID:31355-1823066100-1823067900@riverplex.org
SUMMARY:HIIT Ride
DESCRIPTION:HIIT Ride is a 30 minute cycling class featuring today’s hit songs. Work is focused on these phases on the bike: power\, strength\, speed\, endurance\, and tabata. You’ll love this short\, fast paced class!
URL:http://riverplex.org/event/hiit-ride-6/2027-10-09/
LOCATION:Spin Studio
CATEGORIES:Land Group Exercise
END:VEVENT
BEGIN:VEVENT
DTSTART;TZID=America/Chicago:20271011T090000
DTEND;TZID=America/Chicago:20271011T093000
DTSTAMP:20260425T113311
CREATED:20241126T134701Z
LAST-MODIFIED:20241126T134701Z
UID:32263-1823245200-1823247000@riverplex.org
SUMMARY:Virtual Les Mills Sprint
DESCRIPTION:This is the same SPRINT workout\, but in the virtual format. The TV screen will automatically start playing the class at the scheduled start time.
URL:http://riverplex.org/event/virtual-les-mills-sprint/2027-10-11/
LOCATION:Spin Studio
CATEGORIES:Land Group Exercise
END:VEVENT
BEGIN:VEVENT
DTSTART;TZID=America/Chicago:20271011T165000
DTEND;TZID=America/Chicago:20271011T172000
DTSTAMP:20260425T113311
CREATED:20241120T081018Z
LAST-MODIFIED:20241120T081018Z
UID:32260-1823273400-1823275200@riverplex.org
SUMMARY:HIIT Ride
DESCRIPTION:HIIT Ride is a 30 minute cycling class featuring today’s hit songs. Work is focused on these phases on the bike: power\, strength\, speed\, endurance\, and tabata. You’ll love this short\, fast paced class!
URL:http://riverplex.org/event/hiit-ride-2/2027-10-11/
LOCATION:Spin Studio
CATEGORIES:Land Group Exercise
END:VEVENT
BEGIN:VEVENT
DTSTART;TZID=America/Chicago:20271012T052500
DTEND;TZID=America/Chicago:20271012T060000
DTSTAMP:20260425T113311
CREATED:20241119T182748Z
LAST-MODIFIED:20241119T182748Z
UID:32272-1823318700-1823320800@riverplex.org
SUMMARY:HIIT Ride
DESCRIPTION:HIIT Ride is a 30 minute cycling class featuring today’s hit songs. Work is focused on these phases on the bike: power\, strength\, speed\, endurance\, and tabata. You’ll love this short\, fast paced class!
URL:http://riverplex.org/event/hiit-ride/2027-10-12/
LOCATION:Spin Studio
CATEGORIES:Land Group Exercise
END:VEVENT
BEGIN:VEVENT
DTSTART;TZID=America/Chicago:20271012T163000
DTEND;TZID=America/Chicago:20271012T171500
DTSTAMP:20260425T113311
CREATED:20260304T170839Z
LAST-MODIFIED:20260304T170839Z
UID:37572-1823358600-1823361300@riverplex.org
SUMMARY:Les Mills: RPM
DESCRIPTION:This class will take you on the ride of your life and is the ultimate indoor group cycling experience. This simulated bike ride is perfect for all ages and fitness levels. You ride at your own pace\, whether you want a tough ride or want to build endurance.
URL:http://riverplex.org/event/les-mills-rpm-4/2027-10-12/
LOCATION:Spin Studio
CATEGORIES:Land Group Exercise
END:VEVENT
BEGIN:VEVENT
DTSTART;TZID=America/Chicago:20271013T090000
DTEND;TZID=America/Chicago:20271013T095500
DTSTAMP:20260425T113311
CREATED:20241126T134205Z
LAST-MODIFIED:20241126T134205Z
UID:32300-1823418000-1823421300@riverplex.org
SUMMARY:Virtual Les Mills Sprint
DESCRIPTION:This is the same Sprint workout\, but in the virtual format. The TV screen will automatically start playing the class at the scheduled start time.
URL:http://riverplex.org/event/virtual-les-mills-rpm/2027-10-13/
LOCATION:Spin Studio
CATEGORIES:Land Group Exercise
END:VEVENT
BEGIN:VEVENT
DTSTART;TZID=America/Chicago:20271014T170000
DTEND;TZID=America/Chicago:20271014T174500
DTSTAMP:20260425T113311
CREATED:20241120T091836Z
LAST-MODIFIED:20241120T091836Z
UID:37677-1823533200-1823535900@riverplex.org
SUMMARY:Les Mills: RPM
DESCRIPTION:This class will take you on the ride of your life and is the ultimate indoor group cycling experience. This simulated bike ride is perfect for all ages and fitness levels. You ride at your own pace\, whether you want a tough ride or want to build endurance.
URL:http://riverplex.org/event/les-mills-rpm/2027-10-14/
LOCATION:Spin Studio
CATEGORIES:Land Group Exercise
END:VEVENT
END:VCALENDAR