BEGIN:VCALENDAR
VERSION:2.0
PRODID:-//RiverPlex - ECPv6.15.18//NONSGML v1.0//EN
CALSCALE:GREGORIAN
METHOD:PUBLISH
X-WR-CALNAME:RiverPlex
X-ORIGINAL-URL:http://riverplex.org
X-WR-CALDESC:Events for RiverPlex
REFRESH-INTERVAL;VALUE=DURATION:PT1H
X-Robots-Tag:noindex
X-PUBLISHED-TTL:PT1H
BEGIN:VTIMEZONE
TZID:America/Chicago
BEGIN:DAYLIGHT
TZOFFSETFROM:-0600
TZOFFSETTO:-0500
TZNAME:CDT
DTSTART:20260308T080000
END:DAYLIGHT
BEGIN:STANDARD
TZOFFSETFROM:-0500
TZOFFSETTO:-0600
TZNAME:CST
DTSTART:20261101T070000
END:STANDARD
BEGIN:DAYLIGHT
TZOFFSETFROM:-0600
TZOFFSETTO:-0500
TZNAME:CDT
DTSTART:20270314T080000
END:DAYLIGHT
BEGIN:STANDARD
TZOFFSETFROM:-0500
TZOFFSETTO:-0600
TZNAME:CST
DTSTART:20271107T070000
END:STANDARD
BEGIN:DAYLIGHT
TZOFFSETFROM:-0600
TZOFFSETTO:-0500
TZNAME:CDT
DTSTART:20280312T080000
END:DAYLIGHT
BEGIN:STANDARD
TZOFFSETFROM:-0500
TZOFFSETTO:-0600
TZNAME:CST
DTSTART:20281105T070000
END:STANDARD
END:VTIMEZONE
BEGIN:VEVENT
DTSTART;TZID=America/Chicago:20270426T090000
DTEND;TZID=America/Chicago:20270426T093000
DTSTAMP:20260424T161751
CREATED:20241126T134701Z
LAST-MODIFIED:20241126T134701Z
UID:22187-1808730000-1808731800@riverplex.org
SUMMARY:Virtual Les Mills Sprint
DESCRIPTION:This is the same SPRINT workout\, but in the virtual format. The TV screen will automatically start playing the class at the scheduled start time.
URL:http://riverplex.org/event/virtual-les-mills-sprint/2027-04-26/
LOCATION:Spin Studio
CATEGORIES:Land Group Exercise
END:VEVENT
BEGIN:VEVENT
DTSTART;TZID=America/Chicago:20270426T165000
DTEND;TZID=America/Chicago:20270426T172000
DTSTAMP:20260424T161751
CREATED:20241120T081018Z
LAST-MODIFIED:20250827T162618Z
UID:22185-1808758200-1808760000@riverplex.org
SUMMARY:HIIT Ride
DESCRIPTION:HIIT Ride is a 30 minute cycling class featuring today’s hit songs. Work is focused on these phases on the bike: power\, strength\, speed\, endurance\, and tabata. You’ll love this short\, fast paced class!
URL:http://riverplex.org/event/hiit-ride-2/2027-04-26/
LOCATION:Spin Studio
CATEGORIES:Land Group Exercise
END:VEVENT
BEGIN:VEVENT
DTSTART;TZID=America/Chicago:20270427T052500
DTEND;TZID=America/Chicago:20270427T060000
DTSTAMP:20260424T161751
CREATED:20241119T182748Z
LAST-MODIFIED:20241119T182748Z
UID:22198-1808803500-1808805600@riverplex.org
SUMMARY:HIIT Ride
DESCRIPTION:HIIT Ride is a 30 minute cycling class featuring today’s hit songs. Work is focused on these phases on the bike: power\, strength\, speed\, endurance\, and tabata. You’ll love this short\, fast paced class!
URL:http://riverplex.org/event/hiit-ride/2027-04-27/
LOCATION:Spin Studio
CATEGORIES:Land Group Exercise
END:VEVENT
BEGIN:VEVENT
DTSTART;TZID=America/Chicago:20270427T163000
DTEND;TZID=America/Chicago:20270427T171500
DTSTAMP:20260424T161751
CREATED:20260304T170839Z
LAST-MODIFIED:20260304T170839Z
UID:37548-1808843400-1808846100@riverplex.org
SUMMARY:Les Mills: RPM
DESCRIPTION:This class will take you on the ride of your life and is the ultimate indoor group cycling experience. This simulated bike ride is perfect for all ages and fitness levels. You ride at your own pace\, whether you want a tough ride or want to build endurance.
URL:http://riverplex.org/event/les-mills-rpm-4/2027-04-27/
LOCATION:Spin Studio
CATEGORIES:Land Group Exercise
END:VEVENT
BEGIN:VEVENT
DTSTART;TZID=America/Chicago:20270428T090000
DTEND;TZID=America/Chicago:20270428T095500
DTSTAMP:20260424T161751
CREATED:20241126T134205Z
LAST-MODIFIED:20251010T114602Z
UID:31593-1808902800-1808906100@riverplex.org
SUMMARY:Virtual Les Mills Sprint
DESCRIPTION:This is the same Sprint workout\, but in the virtual format. The TV screen will automatically start playing the class at the scheduled start time.
URL:http://riverplex.org/event/virtual-les-mills-rpm/2027-04-28/
LOCATION:Spin Studio
CATEGORIES:Land Group Exercise
END:VEVENT
BEGIN:VEVENT
DTSTART;TZID=America/Chicago:20270429T170000
DTEND;TZID=America/Chicago:20270429T174500
DTSTAMP:20260424T161751
CREATED:20241120T091836Z
LAST-MODIFIED:20241120T091836Z
UID:37653-1809018000-1809020700@riverplex.org
SUMMARY:Les Mills: RPM
DESCRIPTION:This class will take you on the ride of your life and is the ultimate indoor group cycling experience. This simulated bike ride is perfect for all ages and fitness levels. You ride at your own pace\, whether you want a tough ride or want to build endurance.
URL:http://riverplex.org/event/les-mills-rpm/2027-04-29/
LOCATION:Spin Studio
CATEGORIES:Land Group Exercise
END:VEVENT
BEGIN:VEVENT
DTSTART;TZID=America/Chicago:20270501T071500
DTEND;TZID=America/Chicago:20270501T074500
DTSTAMP:20260424T161751
CREATED:20250806T183417Z
LAST-MODIFIED:20250806T183417Z
UID:29384-1809155700-1809157500@riverplex.org
SUMMARY:HIIT Ride
DESCRIPTION:HIIT Ride is a 30 minute cycling class featuring today’s hit songs. Work is focused on these phases on the bike: power\, strength\, speed\, endurance\, and tabata. You’ll love this short\, fast paced class!
URL:http://riverplex.org/event/hiit-ride-6/2027-05-01/
LOCATION:Spin Studio
CATEGORIES:Land Group Exercise
END:VEVENT
BEGIN:VEVENT
DTSTART;TZID=America/Chicago:20270503T090000
DTEND;TZID=America/Chicago:20270503T093000
DTSTAMP:20260424T161751
CREATED:20241126T134701Z
LAST-MODIFIED:20241126T134701Z
UID:22268-1809334800-1809336600@riverplex.org
SUMMARY:Virtual Les Mills Sprint
DESCRIPTION:This is the same SPRINT workout\, but in the virtual format. The TV screen will automatically start playing the class at the scheduled start time.
URL:http://riverplex.org/event/virtual-les-mills-sprint/2027-05-03/
LOCATION:Spin Studio
CATEGORIES:Land Group Exercise
END:VEVENT
BEGIN:VEVENT
DTSTART;TZID=America/Chicago:20270503T165000
DTEND;TZID=America/Chicago:20270503T172000
DTSTAMP:20260424T161751
CREATED:20241120T081018Z
LAST-MODIFIED:20250827T162618Z
UID:22266-1809363000-1809364800@riverplex.org
SUMMARY:HIIT Ride
DESCRIPTION:HIIT Ride is a 30 minute cycling class featuring today’s hit songs. Work is focused on these phases on the bike: power\, strength\, speed\, endurance\, and tabata. You’ll love this short\, fast paced class!
URL:http://riverplex.org/event/hiit-ride-2/2027-05-03/
LOCATION:Spin Studio
CATEGORIES:Land Group Exercise
END:VEVENT
BEGIN:VEVENT
DTSTART;TZID=America/Chicago:20270504T052500
DTEND;TZID=America/Chicago:20270504T060000
DTSTAMP:20260424T161751
CREATED:20241119T182748Z
LAST-MODIFIED:20241119T182748Z
UID:22279-1809408300-1809410400@riverplex.org
SUMMARY:HIIT Ride
DESCRIPTION:HIIT Ride is a 30 minute cycling class featuring today’s hit songs. Work is focused on these phases on the bike: power\, strength\, speed\, endurance\, and tabata. You’ll love this short\, fast paced class!
URL:http://riverplex.org/event/hiit-ride/2027-05-04/
LOCATION:Spin Studio
CATEGORIES:Land Group Exercise
END:VEVENT
BEGIN:VEVENT
DTSTART;TZID=America/Chicago:20270504T163000
DTEND;TZID=America/Chicago:20270504T171500
DTSTAMP:20260424T161751
CREATED:20260304T170839Z
LAST-MODIFIED:20260304T170839Z
UID:37549-1809448200-1809450900@riverplex.org
SUMMARY:Les Mills: RPM
DESCRIPTION:This class will take you on the ride of your life and is the ultimate indoor group cycling experience. This simulated bike ride is perfect for all ages and fitness levels. You ride at your own pace\, whether you want a tough ride or want to build endurance.
URL:http://riverplex.org/event/les-mills-rpm-4/2027-05-04/
LOCATION:Spin Studio
CATEGORIES:Land Group Exercise
END:VEVENT
BEGIN:VEVENT
DTSTART;TZID=America/Chicago:20270505T090000
DTEND;TZID=America/Chicago:20270505T095500
DTSTAMP:20260424T161751
CREATED:20241126T134205Z
LAST-MODIFIED:20251010T114602Z
UID:31594-1809507600-1809510900@riverplex.org
SUMMARY:Virtual Les Mills Sprint
DESCRIPTION:This is the same Sprint workout\, but in the virtual format. The TV screen will automatically start playing the class at the scheduled start time.
URL:http://riverplex.org/event/virtual-les-mills-rpm/2027-05-05/
LOCATION:Spin Studio
CATEGORIES:Land Group Exercise
END:VEVENT
BEGIN:VEVENT
DTSTART;TZID=America/Chicago:20270506T170000
DTEND;TZID=America/Chicago:20270506T174500
DTSTAMP:20260424T161751
CREATED:20241120T091836Z
LAST-MODIFIED:20241120T091836Z
UID:37654-1809622800-1809625500@riverplex.org
SUMMARY:Les Mills: RPM
DESCRIPTION:This class will take you on the ride of your life and is the ultimate indoor group cycling experience. This simulated bike ride is perfect for all ages and fitness levels. You ride at your own pace\, whether you want a tough ride or want to build endurance.
URL:http://riverplex.org/event/les-mills-rpm/2027-05-06/
LOCATION:Spin Studio
CATEGORIES:Land Group Exercise
END:VEVENT
BEGIN:VEVENT
DTSTART;TZID=America/Chicago:20270508T071500
DTEND;TZID=America/Chicago:20270508T074500
DTSTAMP:20260424T161751
CREATED:20250806T183417Z
LAST-MODIFIED:20250806T183417Z
UID:29385-1809760500-1809762300@riverplex.org
SUMMARY:HIIT Ride
DESCRIPTION:HIIT Ride is a 30 minute cycling class featuring today’s hit songs. Work is focused on these phases on the bike: power\, strength\, speed\, endurance\, and tabata. You’ll love this short\, fast paced class!
URL:http://riverplex.org/event/hiit-ride-6/2027-05-08/
LOCATION:Spin Studio
CATEGORIES:Land Group Exercise
END:VEVENT
BEGIN:VEVENT
DTSTART;TZID=America/Chicago:20270510T090000
DTEND;TZID=America/Chicago:20270510T093000
DTSTAMP:20260424T161751
CREATED:20241126T134701Z
LAST-MODIFIED:20241126T134701Z
UID:22402-1809939600-1809941400@riverplex.org
SUMMARY:Virtual Les Mills Sprint
DESCRIPTION:This is the same SPRINT workout\, but in the virtual format. The TV screen will automatically start playing the class at the scheduled start time.
URL:http://riverplex.org/event/virtual-les-mills-sprint/2027-05-10/
LOCATION:Spin Studio
CATEGORIES:Land Group Exercise
END:VEVENT
BEGIN:VEVENT
DTSTART;TZID=America/Chicago:20270510T165000
DTEND;TZID=America/Chicago:20270510T172000
DTSTAMP:20260424T161751
CREATED:20241120T081018Z
LAST-MODIFIED:20250827T162618Z
UID:22400-1809967800-1809969600@riverplex.org
SUMMARY:HIIT Ride
DESCRIPTION:HIIT Ride is a 30 minute cycling class featuring today’s hit songs. Work is focused on these phases on the bike: power\, strength\, speed\, endurance\, and tabata. You’ll love this short\, fast paced class!
URL:http://riverplex.org/event/hiit-ride-2/2027-05-10/
LOCATION:Spin Studio
CATEGORIES:Land Group Exercise
END:VEVENT
BEGIN:VEVENT
DTSTART;TZID=America/Chicago:20270511T052500
DTEND;TZID=America/Chicago:20270511T060000
DTSTAMP:20260424T161751
CREATED:20241119T182748Z
LAST-MODIFIED:20241119T182748Z
UID:22413-1810013100-1810015200@riverplex.org
SUMMARY:HIIT Ride
DESCRIPTION:HIIT Ride is a 30 minute cycling class featuring today’s hit songs. Work is focused on these phases on the bike: power\, strength\, speed\, endurance\, and tabata. You’ll love this short\, fast paced class!
URL:http://riverplex.org/event/hiit-ride/2027-05-11/
LOCATION:Spin Studio
CATEGORIES:Land Group Exercise
END:VEVENT
BEGIN:VEVENT
DTSTART;TZID=America/Chicago:20270511T163000
DTEND;TZID=America/Chicago:20270511T171500
DTSTAMP:20260424T161751
CREATED:20260304T170839Z
LAST-MODIFIED:20260304T170839Z
UID:37550-1810053000-1810055700@riverplex.org
SUMMARY:Les Mills: RPM
DESCRIPTION:This class will take you on the ride of your life and is the ultimate indoor group cycling experience. This simulated bike ride is perfect for all ages and fitness levels. You ride at your own pace\, whether you want a tough ride or want to build endurance.
URL:http://riverplex.org/event/les-mills-rpm-4/2027-05-11/
LOCATION:Spin Studio
CATEGORIES:Land Group Exercise
END:VEVENT
BEGIN:VEVENT
DTSTART;TZID=America/Chicago:20270512T090000
DTEND;TZID=America/Chicago:20270512T095500
DTSTAMP:20260424T161751
CREATED:20241126T134205Z
LAST-MODIFIED:20251010T114602Z
UID:31595-1810112400-1810115700@riverplex.org
SUMMARY:Virtual Les Mills Sprint
DESCRIPTION:This is the same Sprint workout\, but in the virtual format. The TV screen will automatically start playing the class at the scheduled start time.
URL:http://riverplex.org/event/virtual-les-mills-rpm/2027-05-12/
LOCATION:Spin Studio
CATEGORIES:Land Group Exercise
END:VEVENT
BEGIN:VEVENT
DTSTART;TZID=America/Chicago:20270513T170000
DTEND;TZID=America/Chicago:20270513T174500
DTSTAMP:20260424T161751
CREATED:20241120T091836Z
LAST-MODIFIED:20241120T091836Z
UID:37655-1810227600-1810230300@riverplex.org
SUMMARY:Les Mills: RPM
DESCRIPTION:This class will take you on the ride of your life and is the ultimate indoor group cycling experience. This simulated bike ride is perfect for all ages and fitness levels. You ride at your own pace\, whether you want a tough ride or want to build endurance.
URL:http://riverplex.org/event/les-mills-rpm/2027-05-13/
LOCATION:Spin Studio
CATEGORIES:Land Group Exercise
END:VEVENT
BEGIN:VEVENT
DTSTART;TZID=America/Chicago:20270515T071500
DTEND;TZID=America/Chicago:20270515T074500
DTSTAMP:20260424T161751
CREATED:20250806T183417Z
LAST-MODIFIED:20250806T183417Z
UID:29386-1810365300-1810367100@riverplex.org
SUMMARY:HIIT Ride
DESCRIPTION:HIIT Ride is a 30 minute cycling class featuring today’s hit songs. Work is focused on these phases on the bike: power\, strength\, speed\, endurance\, and tabata. You’ll love this short\, fast paced class!
URL:http://riverplex.org/event/hiit-ride-6/2027-05-15/
LOCATION:Spin Studio
CATEGORIES:Land Group Exercise
END:VEVENT
BEGIN:VEVENT
DTSTART;TZID=America/Chicago:20270517T090000
DTEND;TZID=America/Chicago:20270517T093000
DTSTAMP:20260424T161751
CREATED:20241126T134701Z
LAST-MODIFIED:20241126T134701Z
UID:24003-1810544400-1810546200@riverplex.org
SUMMARY:Virtual Les Mills Sprint
DESCRIPTION:This is the same SPRINT workout\, but in the virtual format. The TV screen will automatically start playing the class at the scheduled start time.
URL:http://riverplex.org/event/virtual-les-mills-sprint/2027-05-17/
LOCATION:Spin Studio
CATEGORIES:Land Group Exercise
END:VEVENT
BEGIN:VEVENT
DTSTART;TZID=America/Chicago:20270517T165000
DTEND;TZID=America/Chicago:20270517T172000
DTSTAMP:20260424T161751
CREATED:20241120T081018Z
LAST-MODIFIED:20250827T162619Z
UID:24001-1810572600-1810574400@riverplex.org
SUMMARY:HIIT Ride
DESCRIPTION:HIIT Ride is a 30 minute cycling class featuring today’s hit songs. Work is focused on these phases on the bike: power\, strength\, speed\, endurance\, and tabata. You’ll love this short\, fast paced class!
URL:http://riverplex.org/event/hiit-ride-2/2027-05-17/
LOCATION:Spin Studio
CATEGORIES:Land Group Exercise
END:VEVENT
BEGIN:VEVENT
DTSTART;TZID=America/Chicago:20270518T052500
DTEND;TZID=America/Chicago:20270518T060000
DTSTAMP:20260424T161751
CREATED:20241119T182748Z
LAST-MODIFIED:20241119T182748Z
UID:24012-1810617900-1810620000@riverplex.org
SUMMARY:HIIT Ride
DESCRIPTION:HIIT Ride is a 30 minute cycling class featuring today’s hit songs. Work is focused on these phases on the bike: power\, strength\, speed\, endurance\, and tabata. You’ll love this short\, fast paced class!
URL:http://riverplex.org/event/hiit-ride/2027-05-18/
LOCATION:Spin Studio
CATEGORIES:Land Group Exercise
END:VEVENT
BEGIN:VEVENT
DTSTART;TZID=America/Chicago:20270518T163000
DTEND;TZID=America/Chicago:20270518T171500
DTSTAMP:20260424T161751
CREATED:20260304T170839Z
LAST-MODIFIED:20260304T170839Z
UID:37551-1810657800-1810660500@riverplex.org
SUMMARY:Les Mills: RPM
DESCRIPTION:This class will take you on the ride of your life and is the ultimate indoor group cycling experience. This simulated bike ride is perfect for all ages and fitness levels. You ride at your own pace\, whether you want a tough ride or want to build endurance.
URL:http://riverplex.org/event/les-mills-rpm-4/2027-05-18/
LOCATION:Spin Studio
CATEGORIES:Land Group Exercise
END:VEVENT
BEGIN:VEVENT
DTSTART;TZID=America/Chicago:20270519T090000
DTEND;TZID=America/Chicago:20270519T095500
DTSTAMP:20260424T161751
CREATED:20241126T134205Z
LAST-MODIFIED:20251010T114602Z
UID:31596-1810717200-1810720500@riverplex.org
SUMMARY:Virtual Les Mills Sprint
DESCRIPTION:This is the same Sprint workout\, but in the virtual format. The TV screen will automatically start playing the class at the scheduled start time.
URL:http://riverplex.org/event/virtual-les-mills-rpm/2027-05-19/
LOCATION:Spin Studio
CATEGORIES:Land Group Exercise
END:VEVENT
BEGIN:VEVENT
DTSTART;TZID=America/Chicago:20270520T170000
DTEND;TZID=America/Chicago:20270520T174500
DTSTAMP:20260424T161751
CREATED:20241120T091836Z
LAST-MODIFIED:20241120T091836Z
UID:37656-1810832400-1810835100@riverplex.org
SUMMARY:Les Mills: RPM
DESCRIPTION:This class will take you on the ride of your life and is the ultimate indoor group cycling experience. This simulated bike ride is perfect for all ages and fitness levels. You ride at your own pace\, whether you want a tough ride or want to build endurance.
URL:http://riverplex.org/event/les-mills-rpm/2027-05-20/
LOCATION:Spin Studio
CATEGORIES:Land Group Exercise
END:VEVENT
BEGIN:VEVENT
DTSTART;TZID=America/Chicago:20270522T071500
DTEND;TZID=America/Chicago:20270522T074500
DTSTAMP:20260424T161751
CREATED:20250806T183417Z
LAST-MODIFIED:20250806T183417Z
UID:29387-1810970100-1810971900@riverplex.org
SUMMARY:HIIT Ride
DESCRIPTION:HIIT Ride is a 30 minute cycling class featuring today’s hit songs. Work is focused on these phases on the bike: power\, strength\, speed\, endurance\, and tabata. You’ll love this short\, fast paced class!
URL:http://riverplex.org/event/hiit-ride-6/2027-05-22/
LOCATION:Spin Studio
CATEGORIES:Land Group Exercise
END:VEVENT
BEGIN:VEVENT
DTSTART;TZID=America/Chicago:20270524T090000
DTEND;TZID=America/Chicago:20270524T093000
DTSTAMP:20260424T161751
CREATED:20241126T134701Z
LAST-MODIFIED:20241126T134701Z
UID:24076-1811149200-1811151000@riverplex.org
SUMMARY:Virtual Les Mills Sprint
DESCRIPTION:This is the same SPRINT workout\, but in the virtual format. The TV screen will automatically start playing the class at the scheduled start time.
URL:http://riverplex.org/event/virtual-les-mills-sprint/2027-05-24/
LOCATION:Spin Studio
CATEGORIES:Land Group Exercise
END:VEVENT
BEGIN:VEVENT
DTSTART;TZID=America/Chicago:20270524T165000
DTEND;TZID=America/Chicago:20270524T172000
DTSTAMP:20260424T161751
CREATED:20241120T081018Z
LAST-MODIFIED:20250827T162619Z
UID:24074-1811177400-1811179200@riverplex.org
SUMMARY:HIIT Ride
DESCRIPTION:HIIT Ride is a 30 minute cycling class featuring today’s hit songs. Work is focused on these phases on the bike: power\, strength\, speed\, endurance\, and tabata. You’ll love this short\, fast paced class!
URL:http://riverplex.org/event/hiit-ride-2/2027-05-24/
LOCATION:Spin Studio
CATEGORIES:Land Group Exercise
END:VEVENT
END:VCALENDAR