BEGIN:VCALENDAR
VERSION:2.0
PRODID:-//RiverPlex - ECPv6.15.18//NONSGML v1.0//EN
CALSCALE:GREGORIAN
METHOD:PUBLISH
X-WR-CALNAME:RiverPlex
X-ORIGINAL-URL:http://riverplex.org
X-WR-CALDESC:Events for RiverPlex
REFRESH-INTERVAL;VALUE=DURATION:PT1H
X-Robots-Tag:noindex
X-PUBLISHED-TTL:PT1H
BEGIN:VTIMEZONE
TZID:America/Chicago
BEGIN:DAYLIGHT
TZOFFSETFROM:-0600
TZOFFSETTO:-0500
TZNAME:CDT
DTSTART:20260308T080000
END:DAYLIGHT
BEGIN:STANDARD
TZOFFSETFROM:-0500
TZOFFSETTO:-0600
TZNAME:CST
DTSTART:20261101T070000
END:STANDARD
BEGIN:DAYLIGHT
TZOFFSETFROM:-0600
TZOFFSETTO:-0500
TZNAME:CDT
DTSTART:20270314T080000
END:DAYLIGHT
BEGIN:STANDARD
TZOFFSETFROM:-0500
TZOFFSETTO:-0600
TZNAME:CST
DTSTART:20271107T070000
END:STANDARD
BEGIN:DAYLIGHT
TZOFFSETFROM:-0600
TZOFFSETTO:-0500
TZNAME:CDT
DTSTART:20280312T080000
END:DAYLIGHT
BEGIN:STANDARD
TZOFFSETFROM:-0500
TZOFFSETTO:-0600
TZNAME:CST
DTSTART:20281105T070000
END:STANDARD
END:VTIMEZONE
BEGIN:VEVENT
DTSTART;TZID=America/Chicago:20270323T052500
DTEND;TZID=America/Chicago:20270323T060000
DTSTAMP:20260424T114306
CREATED:20241119T182748Z
LAST-MODIFIED:20241119T182748Z
UID:21566-1805779500-1805781600@riverplex.org
SUMMARY:HIIT Ride
DESCRIPTION:HIIT Ride is a 30 minute cycling class featuring today’s hit songs. Work is focused on these phases on the bike: power\, strength\, speed\, endurance\, and tabata. You’ll love this short\, fast paced class!
URL:http://riverplex.org/event/hiit-ride/2027-03-23/
LOCATION:Spin Studio
CATEGORIES:Land Group Exercise
END:VEVENT
BEGIN:VEVENT
DTSTART;TZID=America/Chicago:20270323T163000
DTEND;TZID=America/Chicago:20270323T171500
DTSTAMP:20260424T114306
CREATED:20260304T170839Z
LAST-MODIFIED:20260304T170839Z
UID:37543-1805819400-1805822100@riverplex.org
SUMMARY:Les Mills: RPM
DESCRIPTION:This class will take you on the ride of your life and is the ultimate indoor group cycling experience. This simulated bike ride is perfect for all ages and fitness levels. You ride at your own pace\, whether you want a tough ride or want to build endurance.
URL:http://riverplex.org/event/les-mills-rpm-4/2027-03-23/
LOCATION:Spin Studio
CATEGORIES:Land Group Exercise
END:VEVENT
BEGIN:VEVENT
DTSTART;TZID=America/Chicago:20270324T090000
DTEND;TZID=America/Chicago:20270324T095500
DTSTAMP:20260424T114306
CREATED:20241126T134205Z
LAST-MODIFIED:20251010T114601Z
UID:31588-1805878800-1805882100@riverplex.org
SUMMARY:Virtual Les Mills Sprint
DESCRIPTION:This is the same Sprint workout\, but in the virtual format. The TV screen will automatically start playing the class at the scheduled start time.
URL:http://riverplex.org/event/virtual-les-mills-rpm/2027-03-24/
LOCATION:Spin Studio
CATEGORIES:Land Group Exercise
END:VEVENT
BEGIN:VEVENT
DTSTART;TZID=America/Chicago:20270325T170000
DTEND;TZID=America/Chicago:20270325T174500
DTSTAMP:20260424T114306
CREATED:20241120T091836Z
LAST-MODIFIED:20241120T091836Z
UID:37648-1805994000-1805996700@riverplex.org
SUMMARY:Les Mills: RPM
DESCRIPTION:This class will take you on the ride of your life and is the ultimate indoor group cycling experience. This simulated bike ride is perfect for all ages and fitness levels. You ride at your own pace\, whether you want a tough ride or want to build endurance.
URL:http://riverplex.org/event/les-mills-rpm/2027-03-25/
LOCATION:Spin Studio
CATEGORIES:Land Group Exercise
END:VEVENT
BEGIN:VEVENT
DTSTART;TZID=America/Chicago:20270327T071500
DTEND;TZID=America/Chicago:20270327T074500
DTSTAMP:20260424T114306
CREATED:20241120T081145Z
LAST-MODIFIED:20241120T081145Z
UID:21631-1806131700-1806133500@riverplex.org
SUMMARY:HIIT Ride
DESCRIPTION:HIIT Ride is a 30 minute cycling class featuring today’s hit songs. Work is focused on these phases on the bike: power\, strength\, speed\, endurance\, and tabata. You’ll love this short\, fast paced class!
URL:http://riverplex.org/event/hiit-ride-3/2027-03-27/
LOCATION:Spin Studio
CATEGORIES:Land Group Exercise
END:VEVENT
BEGIN:VEVENT
DTSTART;TZID=America/Chicago:20270327T071500
DTEND;TZID=America/Chicago:20270327T074500
DTSTAMP:20260424T114306
CREATED:20250806T183417Z
LAST-MODIFIED:20250806T183417Z
UID:29379-1806131700-1806133500@riverplex.org
SUMMARY:HIIT Ride
DESCRIPTION:HIIT Ride is a 30 minute cycling class featuring today’s hit songs. Work is focused on these phases on the bike: power\, strength\, speed\, endurance\, and tabata. You’ll love this short\, fast paced class!
URL:http://riverplex.org/event/hiit-ride-6/2027-03-27/
LOCATION:Spin Studio
CATEGORIES:Land Group Exercise
END:VEVENT
BEGIN:VEVENT
DTSTART;TZID=America/Chicago:20270329T090000
DTEND;TZID=America/Chicago:20270329T093000
DTSTAMP:20260424T114306
CREATED:20241126T134701Z
LAST-MODIFIED:20241126T134701Z
UID:21670-1806310800-1806312600@riverplex.org
SUMMARY:Virtual Les Mills Sprint
DESCRIPTION:This is the same SPRINT workout\, but in the virtual format. The TV screen will automatically start playing the class at the scheduled start time.
URL:http://riverplex.org/event/virtual-les-mills-sprint/2027-03-29/
LOCATION:Spin Studio
CATEGORIES:Land Group Exercise
END:VEVENT
BEGIN:VEVENT
DTSTART;TZID=America/Chicago:20270329T165000
DTEND;TZID=America/Chicago:20270329T172000
DTSTAMP:20260424T114306
CREATED:20241120T081018Z
LAST-MODIFIED:20250827T162617Z
UID:21668-1806339000-1806340800@riverplex.org
SUMMARY:HIIT Ride
DESCRIPTION:HIIT Ride is a 30 minute cycling class featuring today’s hit songs. Work is focused on these phases on the bike: power\, strength\, speed\, endurance\, and tabata. You’ll love this short\, fast paced class!
URL:http://riverplex.org/event/hiit-ride-2/2027-03-29/
LOCATION:Spin Studio
CATEGORIES:Land Group Exercise
END:VEVENT
BEGIN:VEVENT
DTSTART;TZID=America/Chicago:20270330T052500
DTEND;TZID=America/Chicago:20270330T060000
DTSTAMP:20260424T114306
CREATED:20241119T182748Z
LAST-MODIFIED:20241119T182748Z
UID:21681-1806384300-1806386400@riverplex.org
SUMMARY:HIIT Ride
DESCRIPTION:HIIT Ride is a 30 minute cycling class featuring today’s hit songs. Work is focused on these phases on the bike: power\, strength\, speed\, endurance\, and tabata. You’ll love this short\, fast paced class!
URL:http://riverplex.org/event/hiit-ride/2027-03-30/
LOCATION:Spin Studio
CATEGORIES:Land Group Exercise
END:VEVENT
BEGIN:VEVENT
DTSTART;TZID=America/Chicago:20270330T163000
DTEND;TZID=America/Chicago:20270330T171500
DTSTAMP:20260424T114306
CREATED:20260304T170839Z
LAST-MODIFIED:20260304T170839Z
UID:37544-1806424200-1806426900@riverplex.org
SUMMARY:Les Mills: RPM
DESCRIPTION:This class will take you on the ride of your life and is the ultimate indoor group cycling experience. This simulated bike ride is perfect for all ages and fitness levels. You ride at your own pace\, whether you want a tough ride or want to build endurance.
URL:http://riverplex.org/event/les-mills-rpm-4/2027-03-30/
LOCATION:Spin Studio
CATEGORIES:Land Group Exercise
END:VEVENT
BEGIN:VEVENT
DTSTART;TZID=America/Chicago:20270331T090000
DTEND;TZID=America/Chicago:20270331T095500
DTSTAMP:20260424T114306
CREATED:20241126T134205Z
LAST-MODIFIED:20251010T114601Z
UID:31589-1806483600-1806486900@riverplex.org
SUMMARY:Virtual Les Mills Sprint
DESCRIPTION:This is the same Sprint workout\, but in the virtual format. The TV screen will automatically start playing the class at the scheduled start time.
URL:http://riverplex.org/event/virtual-les-mills-rpm/2027-03-31/
LOCATION:Spin Studio
CATEGORIES:Land Group Exercise
END:VEVENT
BEGIN:VEVENT
DTSTART;TZID=America/Chicago:20270401T170000
DTEND;TZID=America/Chicago:20270401T174500
DTSTAMP:20260424T114306
CREATED:20241120T091836Z
LAST-MODIFIED:20241120T091836Z
UID:37649-1806598800-1806601500@riverplex.org
SUMMARY:Les Mills: RPM
DESCRIPTION:This class will take you on the ride of your life and is the ultimate indoor group cycling experience. This simulated bike ride is perfect for all ages and fitness levels. You ride at your own pace\, whether you want a tough ride or want to build endurance.
URL:http://riverplex.org/event/les-mills-rpm/2027-04-01/
LOCATION:Spin Studio
CATEGORIES:Land Group Exercise
END:VEVENT
BEGIN:VEVENT
DTSTART;TZID=America/Chicago:20270403T071500
DTEND;TZID=America/Chicago:20270403T074500
DTSTAMP:20260424T114306
CREATED:20241120T081145Z
LAST-MODIFIED:20241120T081145Z
UID:21754-1806736500-1806738300@riverplex.org
SUMMARY:HIIT Ride
DESCRIPTION:HIIT Ride is a 30 minute cycling class featuring today’s hit songs. Work is focused on these phases on the bike: power\, strength\, speed\, endurance\, and tabata. You’ll love this short\, fast paced class!
URL:http://riverplex.org/event/hiit-ride-3/2027-04-03/
LOCATION:Spin Studio
CATEGORIES:Land Group Exercise
END:VEVENT
BEGIN:VEVENT
DTSTART;TZID=America/Chicago:20270403T071500
DTEND;TZID=America/Chicago:20270403T074500
DTSTAMP:20260424T114306
CREATED:20250806T183417Z
LAST-MODIFIED:20250806T183417Z
UID:29380-1806736500-1806738300@riverplex.org
SUMMARY:HIIT Ride
DESCRIPTION:HIIT Ride is a 30 minute cycling class featuring today’s hit songs. Work is focused on these phases on the bike: power\, strength\, speed\, endurance\, and tabata. You’ll love this short\, fast paced class!
URL:http://riverplex.org/event/hiit-ride-6/2027-04-03/
LOCATION:Spin Studio
CATEGORIES:Land Group Exercise
END:VEVENT
BEGIN:VEVENT
DTSTART;TZID=America/Chicago:20270405T090000
DTEND;TZID=America/Chicago:20270405T093000
DTSTAMP:20260424T114306
CREATED:20241126T134701Z
LAST-MODIFIED:20241126T134701Z
UID:21763-1806915600-1806917400@riverplex.org
SUMMARY:Virtual Les Mills Sprint
DESCRIPTION:This is the same SPRINT workout\, but in the virtual format. The TV screen will automatically start playing the class at the scheduled start time.
URL:http://riverplex.org/event/virtual-les-mills-sprint/2027-04-05/
LOCATION:Spin Studio
CATEGORIES:Land Group Exercise
END:VEVENT
BEGIN:VEVENT
DTSTART;TZID=America/Chicago:20270405T165000
DTEND;TZID=America/Chicago:20270405T172000
DTSTAMP:20260424T114306
CREATED:20241120T081018Z
LAST-MODIFIED:20250827T162618Z
UID:21761-1806943800-1806945600@riverplex.org
SUMMARY:HIIT Ride
DESCRIPTION:HIIT Ride is a 30 minute cycling class featuring today’s hit songs. Work is focused on these phases on the bike: power\, strength\, speed\, endurance\, and tabata. You’ll love this short\, fast paced class!
URL:http://riverplex.org/event/hiit-ride-2/2027-04-05/
LOCATION:Spin Studio
CATEGORIES:Land Group Exercise
END:VEVENT
BEGIN:VEVENT
DTSTART;TZID=America/Chicago:20270406T052500
DTEND;TZID=America/Chicago:20270406T060000
DTSTAMP:20260424T114306
CREATED:20241119T182748Z
LAST-MODIFIED:20241119T182748Z
UID:21774-1806989100-1806991200@riverplex.org
SUMMARY:HIIT Ride
DESCRIPTION:HIIT Ride is a 30 minute cycling class featuring today’s hit songs. Work is focused on these phases on the bike: power\, strength\, speed\, endurance\, and tabata. You’ll love this short\, fast paced class!
URL:http://riverplex.org/event/hiit-ride/2027-04-06/
LOCATION:Spin Studio
CATEGORIES:Land Group Exercise
END:VEVENT
BEGIN:VEVENT
DTSTART;TZID=America/Chicago:20270406T163000
DTEND;TZID=America/Chicago:20270406T171500
DTSTAMP:20260424T114306
CREATED:20260304T170839Z
LAST-MODIFIED:20260304T170839Z
UID:37545-1807029000-1807031700@riverplex.org
SUMMARY:Les Mills: RPM
DESCRIPTION:This class will take you on the ride of your life and is the ultimate indoor group cycling experience. This simulated bike ride is perfect for all ages and fitness levels. You ride at your own pace\, whether you want a tough ride or want to build endurance.
URL:http://riverplex.org/event/les-mills-rpm-4/2027-04-06/
LOCATION:Spin Studio
CATEGORIES:Land Group Exercise
END:VEVENT
BEGIN:VEVENT
DTSTART;TZID=America/Chicago:20270407T090000
DTEND;TZID=America/Chicago:20270407T095500
DTSTAMP:20260424T114306
CREATED:20241126T134205Z
LAST-MODIFIED:20251010T114601Z
UID:31590-1807088400-1807091700@riverplex.org
SUMMARY:Virtual Les Mills Sprint
DESCRIPTION:This is the same Sprint workout\, but in the virtual format. The TV screen will automatically start playing the class at the scheduled start time.
URL:http://riverplex.org/event/virtual-les-mills-rpm/2027-04-07/
LOCATION:Spin Studio
CATEGORIES:Land Group Exercise
END:VEVENT
BEGIN:VEVENT
DTSTART;TZID=America/Chicago:20270408T170000
DTEND;TZID=America/Chicago:20270408T174500
DTSTAMP:20260424T114306
CREATED:20241120T091836Z
LAST-MODIFIED:20241120T091836Z
UID:37650-1807203600-1807206300@riverplex.org
SUMMARY:Les Mills: RPM
DESCRIPTION:This class will take you on the ride of your life and is the ultimate indoor group cycling experience. This simulated bike ride is perfect for all ages and fitness levels. You ride at your own pace\, whether you want a tough ride or want to build endurance.
URL:http://riverplex.org/event/les-mills-rpm/2027-04-08/
LOCATION:Spin Studio
CATEGORIES:Land Group Exercise
END:VEVENT
BEGIN:VEVENT
DTSTART;TZID=America/Chicago:20270410T071500
DTEND;TZID=America/Chicago:20270410T074500
DTSTAMP:20260424T114306
CREATED:20241120T081145Z
LAST-MODIFIED:20241120T081145Z
UID:21840-1807341300-1807343100@riverplex.org
SUMMARY:HIIT Ride
DESCRIPTION:HIIT Ride is a 30 minute cycling class featuring today’s hit songs. Work is focused on these phases on the bike: power\, strength\, speed\, endurance\, and tabata. You’ll love this short\, fast paced class!
URL:http://riverplex.org/event/hiit-ride-3/2027-04-10/
LOCATION:Spin Studio
CATEGORIES:Land Group Exercise
END:VEVENT
BEGIN:VEVENT
DTSTART;TZID=America/Chicago:20270410T071500
DTEND;TZID=America/Chicago:20270410T074500
DTSTAMP:20260424T114306
CREATED:20250806T183417Z
LAST-MODIFIED:20250806T183417Z
UID:29381-1807341300-1807343100@riverplex.org
SUMMARY:HIIT Ride
DESCRIPTION:HIIT Ride is a 30 minute cycling class featuring today’s hit songs. Work is focused on these phases on the bike: power\, strength\, speed\, endurance\, and tabata. You’ll love this short\, fast paced class!
URL:http://riverplex.org/event/hiit-ride-6/2027-04-10/
LOCATION:Spin Studio
CATEGORIES:Land Group Exercise
END:VEVENT
BEGIN:VEVENT
DTSTART;TZID=America/Chicago:20270412T090000
DTEND;TZID=America/Chicago:20270412T093000
DTSTAMP:20260424T114306
CREATED:20241126T134701Z
LAST-MODIFIED:20241126T134701Z
UID:21863-1807520400-1807522200@riverplex.org
SUMMARY:Virtual Les Mills Sprint
DESCRIPTION:This is the same SPRINT workout\, but in the virtual format. The TV screen will automatically start playing the class at the scheduled start time.
URL:http://riverplex.org/event/virtual-les-mills-sprint/2027-04-12/
LOCATION:Spin Studio
CATEGORIES:Land Group Exercise
END:VEVENT
BEGIN:VEVENT
DTSTART;TZID=America/Chicago:20270412T165000
DTEND;TZID=America/Chicago:20270412T172000
DTSTAMP:20260424T114306
CREATED:20241120T081018Z
LAST-MODIFIED:20250827T162618Z
UID:21861-1807548600-1807550400@riverplex.org
SUMMARY:HIIT Ride
DESCRIPTION:HIIT Ride is a 30 minute cycling class featuring today’s hit songs. Work is focused on these phases on the bike: power\, strength\, speed\, endurance\, and tabata. You’ll love this short\, fast paced class!
URL:http://riverplex.org/event/hiit-ride-2/2027-04-12/
LOCATION:Spin Studio
CATEGORIES:Land Group Exercise
END:VEVENT
BEGIN:VEVENT
DTSTART;TZID=America/Chicago:20270413T052500
DTEND;TZID=America/Chicago:20270413T060000
DTSTAMP:20260424T114306
CREATED:20241119T182748Z
LAST-MODIFIED:20241119T182748Z
UID:21874-1807593900-1807596000@riverplex.org
SUMMARY:HIIT Ride
DESCRIPTION:HIIT Ride is a 30 minute cycling class featuring today’s hit songs. Work is focused on these phases on the bike: power\, strength\, speed\, endurance\, and tabata. You’ll love this short\, fast paced class!
URL:http://riverplex.org/event/hiit-ride/2027-04-13/
LOCATION:Spin Studio
CATEGORIES:Land Group Exercise
END:VEVENT
BEGIN:VEVENT
DTSTART;TZID=America/Chicago:20270413T163000
DTEND;TZID=America/Chicago:20270413T171500
DTSTAMP:20260424T114306
CREATED:20260304T170839Z
LAST-MODIFIED:20260304T170839Z
UID:37546-1807633800-1807636500@riverplex.org
SUMMARY:Les Mills: RPM
DESCRIPTION:This class will take you on the ride of your life and is the ultimate indoor group cycling experience. This simulated bike ride is perfect for all ages and fitness levels. You ride at your own pace\, whether you want a tough ride or want to build endurance.
URL:http://riverplex.org/event/les-mills-rpm-4/2027-04-13/
LOCATION:Spin Studio
CATEGORIES:Land Group Exercise
END:VEVENT
BEGIN:VEVENT
DTSTART;TZID=America/Chicago:20270414T090000
DTEND;TZID=America/Chicago:20270414T095500
DTSTAMP:20260424T114306
CREATED:20241126T134205Z
LAST-MODIFIED:20251010T114601Z
UID:31591-1807693200-1807696500@riverplex.org
SUMMARY:Virtual Les Mills Sprint
DESCRIPTION:This is the same Sprint workout\, but in the virtual format. The TV screen will automatically start playing the class at the scheduled start time.
URL:http://riverplex.org/event/virtual-les-mills-rpm/2027-04-14/
LOCATION:Spin Studio
CATEGORIES:Land Group Exercise
END:VEVENT
BEGIN:VEVENT
DTSTART;TZID=America/Chicago:20270415T170000
DTEND;TZID=America/Chicago:20270415T174500
DTSTAMP:20260424T114306
CREATED:20241120T091836Z
LAST-MODIFIED:20241120T091836Z
UID:37651-1807808400-1807811100@riverplex.org
SUMMARY:Les Mills: RPM
DESCRIPTION:This class will take you on the ride of your life and is the ultimate indoor group cycling experience. This simulated bike ride is perfect for all ages and fitness levels. You ride at your own pace\, whether you want a tough ride or want to build endurance.
URL:http://riverplex.org/event/les-mills-rpm/2027-04-15/
LOCATION:Spin Studio
CATEGORIES:Land Group Exercise
END:VEVENT
BEGIN:VEVENT
DTSTART;TZID=America/Chicago:20270417T071500
DTEND;TZID=America/Chicago:20270417T074500
DTSTAMP:20260424T114306
CREATED:20250806T183417Z
LAST-MODIFIED:20250806T183417Z
UID:29382-1807946100-1807947900@riverplex.org
SUMMARY:HIIT Ride
DESCRIPTION:HIIT Ride is a 30 minute cycling class featuring today’s hit songs. Work is focused on these phases on the bike: power\, strength\, speed\, endurance\, and tabata. You’ll love this short\, fast paced class!
URL:http://riverplex.org/event/hiit-ride-6/2027-04-17/
LOCATION:Spin Studio
CATEGORIES:Land Group Exercise
END:VEVENT
BEGIN:VEVENT
DTSTART;TZID=America/Chicago:20270419T090000
DTEND;TZID=America/Chicago:20270419T093000
DTSTAMP:20260424T114306
CREATED:20241126T134701Z
LAST-MODIFIED:20241126T134701Z
UID:21945-1808125200-1808127000@riverplex.org
SUMMARY:Virtual Les Mills Sprint
DESCRIPTION:This is the same SPRINT workout\, but in the virtual format. The TV screen will automatically start playing the class at the scheduled start time.
URL:http://riverplex.org/event/virtual-les-mills-sprint/2027-04-19/
LOCATION:Spin Studio
CATEGORIES:Land Group Exercise
END:VEVENT
END:VCALENDAR