BEGIN:VCALENDAR
VERSION:2.0
PRODID:-//RiverPlex - ECPv6.15.18//NONSGML v1.0//EN
CALSCALE:GREGORIAN
METHOD:PUBLISH
X-ORIGINAL-URL:http://riverplex.org
X-WR-CALDESC:Events for RiverPlex
REFRESH-INTERVAL;VALUE=DURATION:PT1H
X-Robots-Tag:noindex
X-PUBLISHED-TTL:PT1H
BEGIN:VTIMEZONE
TZID:America/Chicago
BEGIN:DAYLIGHT
TZOFFSETFROM:-0600
TZOFFSETTO:-0500
TZNAME:CDT
DTSTART:20260308T080000
END:DAYLIGHT
BEGIN:STANDARD
TZOFFSETFROM:-0500
TZOFFSETTO:-0600
TZNAME:CST
DTSTART:20261101T070000
END:STANDARD
BEGIN:DAYLIGHT
TZOFFSETFROM:-0600
TZOFFSETTO:-0500
TZNAME:CDT
DTSTART:20270314T080000
END:DAYLIGHT
BEGIN:STANDARD
TZOFFSETFROM:-0500
TZOFFSETTO:-0600
TZNAME:CST
DTSTART:20271107T070000
END:STANDARD
BEGIN:DAYLIGHT
TZOFFSETFROM:-0600
TZOFFSETTO:-0500
TZNAME:CDT
DTSTART:20280312T080000
END:DAYLIGHT
BEGIN:STANDARD
TZOFFSETFROM:-0500
TZOFFSETTO:-0600
TZNAME:CST
DTSTART:20281105T070000
END:STANDARD
END:VTIMEZONE
BEGIN:VEVENT
DTSTART;TZID=America/Chicago:20270323T163000
DTEND;TZID=America/Chicago:20270323T190000
DTSTAMP:20260426T001951
CREATED:20241126T145751Z
LAST-MODIFIED:20241126T145751Z
UID:21575-1805819400-1805828400@riverplex.org
SUMMARY:Swim Lessons
DESCRIPTION:
URL:http://riverplex.org/event/swim-lessons-2/2027-03-23/
LOCATION:Lap & Class Pool
CATEGORIES:Lap & Class Pool,Warm Water Pool
END:VEVENT
BEGIN:VEVENT
DTSTART;TZID=America/Chicago:20270324T100000
DTEND;TZID=America/Chicago:20270324T104500
DTSTAMP:20260426T001951
CREATED:20241126T152850Z
LAST-MODIFIED:20241126T152850Z
UID:21592-1805882400-1805885100@riverplex.org
SUMMARY:OSF Arthritis
DESCRIPTION:Exercises are performed in the warm water pool. Entrance to the pool is by steps with handrails or a chair lift. Participants do not need to know how to swim. A Physician Consent form is required. Call 282-1605 to register. Pricing available for 6 week class punch cards. This class is offered several times daily.
URL:http://riverplex.org/event/osf-arthritis-2/2027-03-24/
LOCATION:Warm Water
CATEGORIES:Warm Water Pool
END:VEVENT
BEGIN:VEVENT
DTSTART;TZID=America/Chicago:20270324T130000
DTEND;TZID=America/Chicago:20270324T163000
DTSTAMP:20260426T001951
CREATED:20241126T153252Z
LAST-MODIFIED:20241126T153252Z
UID:21593-1805893200-1805905800@riverplex.org
SUMMARY:OSF Physical Therapy
DESCRIPTION:
URL:http://riverplex.org/event/osf-physical-therapy/2027-03-24/
LOCATION:Warm Water
CATEGORIES:Warm Water Pool
END:VEVENT
BEGIN:VEVENT
DTSTART;TZID=America/Chicago:20270325T100000
DTEND;TZID=America/Chicago:20270325T104500
DTSTAMP:20260426T001951
CREATED:20241126T152850Z
LAST-MODIFIED:20241126T152850Z
UID:21607-1805968800-1805971500@riverplex.org
SUMMARY:OSF Arthritis
DESCRIPTION:Exercises are performed in the warm water pool. Entrance to the pool is by steps with handrails or a chair lift. Participants do not need to know how to swim. A Physician Consent form is required. Call 282-1605 to register. Pricing available for 6 week class punch cards. This class is offered several times daily.
URL:http://riverplex.org/event/osf-arthritis-2/2027-03-25/
LOCATION:Warm Water
CATEGORIES:Warm Water Pool
END:VEVENT
BEGIN:VEVENT
DTSTART;TZID=America/Chicago:20270325T163000
DTEND;TZID=America/Chicago:20270325T190000
DTSTAMP:20260426T001951
CREATED:20241126T145751Z
LAST-MODIFIED:20241126T145751Z
UID:21604-1805992200-1806001200@riverplex.org
SUMMARY:Swim Lessons
DESCRIPTION:
URL:http://riverplex.org/event/swim-lessons-2/2027-03-25/
LOCATION:Lap & Class Pool
CATEGORIES:Lap & Class Pool,Warm Water Pool
END:VEVENT
BEGIN:VEVENT
DTSTART;TZID=America/Chicago:20270326T100000
DTEND;TZID=America/Chicago:20270326T104500
DTSTAMP:20260426T001951
CREATED:20241126T152850Z
LAST-MODIFIED:20241126T152850Z
UID:21620-1806055200-1806057900@riverplex.org
SUMMARY:OSF Arthritis
DESCRIPTION:Exercises are performed in the warm water pool. Entrance to the pool is by steps with handrails or a chair lift. Participants do not need to know how to swim. A Physician Consent form is required. Call 282-1605 to register. Pricing available for 6 week class punch cards. This class is offered several times daily.
URL:http://riverplex.org/event/osf-arthritis-2/2027-03-26/
LOCATION:Warm Water
CATEGORIES:Warm Water Pool
END:VEVENT
BEGIN:VEVENT
DTSTART;TZID=America/Chicago:20270326T130000
DTEND;TZID=America/Chicago:20270326T163000
DTSTAMP:20260426T001951
CREATED:20241126T153252Z
LAST-MODIFIED:20241126T153252Z
UID:21621-1806066000-1806078600@riverplex.org
SUMMARY:OSF Physical Therapy
DESCRIPTION:
URL:http://riverplex.org/event/osf-physical-therapy/2027-03-26/
LOCATION:Warm Water
CATEGORIES:Warm Water Pool
END:VEVENT
BEGIN:VEVENT
DTSTART;TZID=America/Chicago:20270327T090000
DTEND;TZID=America/Chicago:20270327T110000
DTSTAMP:20260426T001951
CREATED:20241126T145622Z
LAST-MODIFIED:20241126T145622Z
UID:21634-1806138000-1806145200@riverplex.org
SUMMARY:Swim Lessons
DESCRIPTION:
URL:http://riverplex.org/event/swim-lessons/2027-03-27/
LOCATION:Lap & Class Pool
CATEGORIES:Lap & Class Pool,Warm Water Pool
END:VEVENT
BEGIN:VEVENT
DTSTART;TZID=America/Chicago:20270329T100000
DTEND;TZID=America/Chicago:20270329T104500
DTSTAMP:20260426T001951
CREATED:20241126T152850Z
LAST-MODIFIED:20241126T152850Z
UID:21676-1806314400-1806317100@riverplex.org
SUMMARY:OSF Arthritis
DESCRIPTION:Exercises are performed in the warm water pool. Entrance to the pool is by steps with handrails or a chair lift. Participants do not need to know how to swim. A Physician Consent form is required. Call 282-1605 to register. Pricing available for 6 week class punch cards. This class is offered several times daily.
URL:http://riverplex.org/event/osf-arthritis-2/2027-03-29/
LOCATION:Warm Water
CATEGORIES:Warm Water Pool
END:VEVENT
BEGIN:VEVENT
DTSTART;TZID=America/Chicago:20270330T100000
DTEND;TZID=America/Chicago:20270330T104500
DTSTAMP:20260426T001951
CREATED:20241126T152850Z
LAST-MODIFIED:20241126T152850Z
UID:21693-1806400800-1806403500@riverplex.org
SUMMARY:OSF Arthritis
DESCRIPTION:Exercises are performed in the warm water pool. Entrance to the pool is by steps with handrails or a chair lift. Participants do not need to know how to swim. A Physician Consent form is required. Call 282-1605 to register. Pricing available for 6 week class punch cards. This class is offered several times daily.
URL:http://riverplex.org/event/osf-arthritis-2/2027-03-30/
LOCATION:Warm Water
CATEGORIES:Warm Water Pool
END:VEVENT
BEGIN:VEVENT
DTSTART;TZID=America/Chicago:20270330T163000
DTEND;TZID=America/Chicago:20270330T190000
DTSTAMP:20260426T001951
CREATED:20241126T145751Z
LAST-MODIFIED:20241126T145751Z
UID:21690-1806424200-1806433200@riverplex.org
SUMMARY:Swim Lessons
DESCRIPTION:
URL:http://riverplex.org/event/swim-lessons-2/2027-03-30/
LOCATION:Lap & Class Pool
CATEGORIES:Lap & Class Pool,Warm Water Pool
END:VEVENT
BEGIN:VEVENT
DTSTART;TZID=America/Chicago:20270331T100000
DTEND;TZID=America/Chicago:20270331T104500
DTSTAMP:20260426T001951
CREATED:20241126T152850Z
LAST-MODIFIED:20241126T152850Z
UID:21710-1806487200-1806489900@riverplex.org
SUMMARY:OSF Arthritis
DESCRIPTION:Exercises are performed in the warm water pool. Entrance to the pool is by steps with handrails or a chair lift. Participants do not need to know how to swim. A Physician Consent form is required. Call 282-1605 to register. Pricing available for 6 week class punch cards. This class is offered several times daily.
URL:http://riverplex.org/event/osf-arthritis-2/2027-03-31/
LOCATION:Warm Water
CATEGORIES:Warm Water Pool
END:VEVENT
BEGIN:VEVENT
DTSTART;TZID=America/Chicago:20270331T130000
DTEND;TZID=America/Chicago:20270331T163000
DTSTAMP:20260426T001951
CREATED:20241126T153252Z
LAST-MODIFIED:20241126T153252Z
UID:21711-1806498000-1806510600@riverplex.org
SUMMARY:OSF Physical Therapy
DESCRIPTION:
URL:http://riverplex.org/event/osf-physical-therapy/2027-03-31/
LOCATION:Warm Water
CATEGORIES:Warm Water Pool
END:VEVENT
BEGIN:VEVENT
DTSTART;TZID=America/Chicago:20270401T100000
DTEND;TZID=America/Chicago:20270401T104500
DTSTAMP:20260426T001951
CREATED:20241126T152850Z
LAST-MODIFIED:20241126T152850Z
UID:21724-1806573600-1806576300@riverplex.org
SUMMARY:OSF Arthritis
DESCRIPTION:Exercises are performed in the warm water pool. Entrance to the pool is by steps with handrails or a chair lift. Participants do not need to know how to swim. A Physician Consent form is required. Call 282-1605 to register. Pricing available for 6 week class punch cards. This class is offered several times daily.
URL:http://riverplex.org/event/osf-arthritis-2/2027-04-01/
LOCATION:Warm Water
CATEGORIES:Warm Water Pool
END:VEVENT
BEGIN:VEVENT
DTSTART;TZID=America/Chicago:20270401T163000
DTEND;TZID=America/Chicago:20270401T190000
DTSTAMP:20260426T001951
CREATED:20241126T145751Z
LAST-MODIFIED:20241126T145751Z
UID:21721-1806597000-1806606000@riverplex.org
SUMMARY:Swim Lessons
DESCRIPTION:
URL:http://riverplex.org/event/swim-lessons-2/2027-04-01/
LOCATION:Lap & Class Pool
CATEGORIES:Lap & Class Pool,Warm Water Pool
END:VEVENT
BEGIN:VEVENT
DTSTART;TZID=America/Chicago:20270402T100000
DTEND;TZID=America/Chicago:20270402T104500
DTSTAMP:20260426T001951
CREATED:20241126T152850Z
LAST-MODIFIED:20241126T152850Z
UID:21743-1806660000-1806662700@riverplex.org
SUMMARY:OSF Arthritis
DESCRIPTION:Exercises are performed in the warm water pool. Entrance to the pool is by steps with handrails or a chair lift. Participants do not need to know how to swim. A Physician Consent form is required. Call 282-1605 to register. Pricing available for 6 week class punch cards. This class is offered several times daily.
URL:http://riverplex.org/event/osf-arthritis-2/2027-04-02/
LOCATION:Warm Water
CATEGORIES:Warm Water Pool
END:VEVENT
BEGIN:VEVENT
DTSTART;TZID=America/Chicago:20270402T130000
DTEND;TZID=America/Chicago:20270402T163000
DTSTAMP:20260426T001951
CREATED:20241126T153252Z
LAST-MODIFIED:20241126T153252Z
UID:21744-1806670800-1806683400@riverplex.org
SUMMARY:OSF Physical Therapy
DESCRIPTION:
URL:http://riverplex.org/event/osf-physical-therapy/2027-04-02/
LOCATION:Warm Water
CATEGORIES:Warm Water Pool
END:VEVENT
BEGIN:VEVENT
DTSTART;TZID=America/Chicago:20270403T090000
DTEND;TZID=America/Chicago:20270403T110000
DTSTAMP:20260426T001951
CREATED:20241126T145622Z
LAST-MODIFIED:20241126T145622Z
UID:21757-1806742800-1806750000@riverplex.org
SUMMARY:Swim Lessons
DESCRIPTION:
URL:http://riverplex.org/event/swim-lessons/2027-04-03/
LOCATION:Lap & Class Pool
CATEGORIES:Lap & Class Pool,Warm Water Pool
END:VEVENT
BEGIN:VEVENT
DTSTART;TZID=America/Chicago:20270405T100000
DTEND;TZID=America/Chicago:20270405T104500
DTSTAMP:20260426T001951
CREATED:20241126T152850Z
LAST-MODIFIED:20241126T152850Z
UID:21769-1806919200-1806921900@riverplex.org
SUMMARY:OSF Arthritis
DESCRIPTION:Exercises are performed in the warm water pool. Entrance to the pool is by steps with handrails or a chair lift. Participants do not need to know how to swim. A Physician Consent form is required. Call 282-1605 to register. Pricing available for 6 week class punch cards. This class is offered several times daily.
URL:http://riverplex.org/event/osf-arthritis-2/2027-04-05/
LOCATION:Warm Water
CATEGORIES:Warm Water Pool
END:VEVENT
BEGIN:VEVENT
DTSTART;TZID=America/Chicago:20270406T100000
DTEND;TZID=America/Chicago:20270406T104500
DTSTAMP:20260426T001951
CREATED:20241126T152850Z
LAST-MODIFIED:20241126T152850Z
UID:21786-1807005600-1807008300@riverplex.org
SUMMARY:OSF Arthritis
DESCRIPTION:Exercises are performed in the warm water pool. Entrance to the pool is by steps with handrails or a chair lift. Participants do not need to know how to swim. A Physician Consent form is required. Call 282-1605 to register. Pricing available for 6 week class punch cards. This class is offered several times daily.
URL:http://riverplex.org/event/osf-arthritis-2/2027-04-06/
LOCATION:Warm Water
CATEGORIES:Warm Water Pool
END:VEVENT
BEGIN:VEVENT
DTSTART;TZID=America/Chicago:20270406T163000
DTEND;TZID=America/Chicago:20270406T190000
DTSTAMP:20260426T001951
CREATED:20241126T145751Z
LAST-MODIFIED:20241126T145751Z
UID:21783-1807029000-1807038000@riverplex.org
SUMMARY:Swim Lessons
DESCRIPTION:
URL:http://riverplex.org/event/swim-lessons-2/2027-04-06/
LOCATION:Lap & Class Pool
CATEGORIES:Lap & Class Pool,Warm Water Pool
END:VEVENT
BEGIN:VEVENT
DTSTART;TZID=America/Chicago:20270407T100000
DTEND;TZID=America/Chicago:20270407T104500
DTSTAMP:20260426T001951
CREATED:20241126T152850Z
LAST-MODIFIED:20241126T152850Z
UID:21802-1807092000-1807094700@riverplex.org
SUMMARY:OSF Arthritis
DESCRIPTION:Exercises are performed in the warm water pool. Entrance to the pool is by steps with handrails or a chair lift. Participants do not need to know how to swim. A Physician Consent form is required. Call 282-1605 to register. Pricing available for 6 week class punch cards. This class is offered several times daily.
URL:http://riverplex.org/event/osf-arthritis-2/2027-04-07/
LOCATION:Warm Water
CATEGORIES:Warm Water Pool
END:VEVENT
BEGIN:VEVENT
DTSTART;TZID=America/Chicago:20270407T130000
DTEND;TZID=America/Chicago:20270407T163000
DTSTAMP:20260426T001951
CREATED:20241126T153252Z
LAST-MODIFIED:20241126T153252Z
UID:21803-1807102800-1807115400@riverplex.org
SUMMARY:OSF Physical Therapy
DESCRIPTION:
URL:http://riverplex.org/event/osf-physical-therapy/2027-04-07/
LOCATION:Warm Water
CATEGORIES:Warm Water Pool
END:VEVENT
BEGIN:VEVENT
DTSTART;TZID=America/Chicago:20270408T100000
DTEND;TZID=America/Chicago:20270408T104500
DTSTAMP:20260426T001951
CREATED:20241126T152850Z
LAST-MODIFIED:20241126T152850Z
UID:21816-1807178400-1807181100@riverplex.org
SUMMARY:OSF Arthritis
DESCRIPTION:Exercises are performed in the warm water pool. Entrance to the pool is by steps with handrails or a chair lift. Participants do not need to know how to swim. A Physician Consent form is required. Call 282-1605 to register. Pricing available for 6 week class punch cards. This class is offered several times daily.
URL:http://riverplex.org/event/osf-arthritis-2/2027-04-08/
LOCATION:Warm Water
CATEGORIES:Warm Water Pool
END:VEVENT
BEGIN:VEVENT
DTSTART;TZID=America/Chicago:20270408T163000
DTEND;TZID=America/Chicago:20270408T190000
DTSTAMP:20260426T001951
CREATED:20241126T145751Z
LAST-MODIFIED:20241126T145751Z
UID:21813-1807201800-1807210800@riverplex.org
SUMMARY:Swim Lessons
DESCRIPTION:
URL:http://riverplex.org/event/swim-lessons-2/2027-04-08/
LOCATION:Lap & Class Pool
CATEGORIES:Lap & Class Pool,Warm Water Pool
END:VEVENT
BEGIN:VEVENT
DTSTART;TZID=America/Chicago:20270409T100000
DTEND;TZID=America/Chicago:20270409T104500
DTSTAMP:20260426T001951
CREATED:20241126T152850Z
LAST-MODIFIED:20241126T152850Z
UID:21829-1807264800-1807267500@riverplex.org
SUMMARY:OSF Arthritis
DESCRIPTION:Exercises are performed in the warm water pool. Entrance to the pool is by steps with handrails or a chair lift. Participants do not need to know how to swim. A Physician Consent form is required. Call 282-1605 to register. Pricing available for 6 week class punch cards. This class is offered several times daily.
URL:http://riverplex.org/event/osf-arthritis-2/2027-04-09/
LOCATION:Warm Water
CATEGORIES:Warm Water Pool
END:VEVENT
BEGIN:VEVENT
DTSTART;TZID=America/Chicago:20270409T130000
DTEND;TZID=America/Chicago:20270409T163000
DTSTAMP:20260426T001951
CREATED:20241126T153252Z
LAST-MODIFIED:20241126T153252Z
UID:21830-1807275600-1807288200@riverplex.org
SUMMARY:OSF Physical Therapy
DESCRIPTION:
URL:http://riverplex.org/event/osf-physical-therapy/2027-04-09/
LOCATION:Warm Water
CATEGORIES:Warm Water Pool
END:VEVENT
BEGIN:VEVENT
DTSTART;TZID=America/Chicago:20270410T090000
DTEND;TZID=America/Chicago:20270410T110000
DTSTAMP:20260426T001951
CREATED:20241126T145622Z
LAST-MODIFIED:20241126T145622Z
UID:21843-1807347600-1807354800@riverplex.org
SUMMARY:Swim Lessons
DESCRIPTION:
URL:http://riverplex.org/event/swim-lessons/2027-04-10/
LOCATION:Lap & Class Pool
CATEGORIES:Lap & Class Pool,Warm Water Pool
END:VEVENT
BEGIN:VEVENT
DTSTART;TZID=America/Chicago:20270412T100000
DTEND;TZID=America/Chicago:20270412T104500
DTSTAMP:20260426T001951
CREATED:20241126T152850Z
LAST-MODIFIED:20241126T152850Z
UID:21869-1807524000-1807526700@riverplex.org
SUMMARY:OSF Arthritis
DESCRIPTION:Exercises are performed in the warm water pool. Entrance to the pool is by steps with handrails or a chair lift. Participants do not need to know how to swim. A Physician Consent form is required. Call 282-1605 to register. Pricing available for 6 week class punch cards. This class is offered several times daily.
URL:http://riverplex.org/event/osf-arthritis-2/2027-04-12/
LOCATION:Warm Water
CATEGORIES:Warm Water Pool
END:VEVENT
BEGIN:VEVENT
DTSTART;TZID=America/Chicago:20270413T100000
DTEND;TZID=America/Chicago:20270413T104500
DTSTAMP:20260426T001951
CREATED:20241126T152850Z
LAST-MODIFIED:20241126T152850Z
UID:21886-1807610400-1807613100@riverplex.org
SUMMARY:OSF Arthritis
DESCRIPTION:Exercises are performed in the warm water pool. Entrance to the pool is by steps with handrails or a chair lift. Participants do not need to know how to swim. A Physician Consent form is required. Call 282-1605 to register. Pricing available for 6 week class punch cards. This class is offered several times daily.
URL:http://riverplex.org/event/osf-arthritis-2/2027-04-13/
LOCATION:Warm Water
CATEGORIES:Warm Water Pool
END:VEVENT
END:VCALENDAR