BEGIN:VCALENDAR
VERSION:2.0
PRODID:-//RiverPlex - ECPv6.15.18//NONSGML v1.0//EN
CALSCALE:GREGORIAN
METHOD:PUBLISH
X-ORIGINAL-URL:http://riverplex.org
X-WR-CALDESC:Events for RiverPlex
REFRESH-INTERVAL;VALUE=DURATION:PT1H
X-Robots-Tag:noindex
X-PUBLISHED-TTL:PT1H
BEGIN:VTIMEZONE
TZID:America/Chicago
BEGIN:DAYLIGHT
TZOFFSETFROM:-0600
TZOFFSETTO:-0500
TZNAME:CDT
DTSTART:20260308T080000
END:DAYLIGHT
BEGIN:STANDARD
TZOFFSETFROM:-0500
TZOFFSETTO:-0600
TZNAME:CST
DTSTART:20261101T070000
END:STANDARD
BEGIN:DAYLIGHT
TZOFFSETFROM:-0600
TZOFFSETTO:-0500
TZNAME:CDT
DTSTART:20270314T080000
END:DAYLIGHT
BEGIN:STANDARD
TZOFFSETFROM:-0500
TZOFFSETTO:-0600
TZNAME:CST
DTSTART:20271107T070000
END:STANDARD
BEGIN:DAYLIGHT
TZOFFSETFROM:-0600
TZOFFSETTO:-0500
TZNAME:CDT
DTSTART:20280312T080000
END:DAYLIGHT
BEGIN:STANDARD
TZOFFSETFROM:-0500
TZOFFSETTO:-0600
TZNAME:CST
DTSTART:20281105T070000
END:STANDARD
END:VTIMEZONE
BEGIN:VEVENT
DTSTART;TZID=America/Chicago:20270303T100000
DTEND;TZID=America/Chicago:20270303T104500
DTSTAMP:20260425T192721
CREATED:20241126T152850Z
LAST-MODIFIED:20241126T152850Z
UID:20205-1804068000-1804070700@riverplex.org
SUMMARY:OSF Arthritis
DESCRIPTION:Exercises are performed in the warm water pool. Entrance to the pool is by steps with handrails or a chair lift. Participants do not need to know how to swim. A Physician Consent form is required. Call 282-1605 to register. Pricing available for 6 week class punch cards. This class is offered several times daily.
URL:http://riverplex.org/event/osf-arthritis-2/2027-03-03/
LOCATION:Warm Water
CATEGORIES:Warm Water Pool
END:VEVENT
BEGIN:VEVENT
DTSTART;TZID=America/Chicago:20270303T130000
DTEND;TZID=America/Chicago:20270303T163000
DTSTAMP:20260425T192721
CREATED:20241126T153252Z
LAST-MODIFIED:20241126T153252Z
UID:20206-1804078800-1804091400@riverplex.org
SUMMARY:OSF Physical Therapy
DESCRIPTION:
URL:http://riverplex.org/event/osf-physical-therapy/2027-03-03/
LOCATION:Warm Water
CATEGORIES:Warm Water Pool
END:VEVENT
BEGIN:VEVENT
DTSTART;TZID=America/Chicago:20270304T090000
DTEND;TZID=America/Chicago:20270304T094500
DTSTAMP:20260425T192721
CREATED:20241126T152618Z
LAST-MODIFIED:20250515T162803Z
UID:20217-1804150800-1804153500@riverplex.org
SUMMARY:OSF Arthritis
DESCRIPTION:Exercises are performed in the warm water pool. Entrance to the pool is by steps with handrails or a chair lift. Participants do not need to know how to swim. A Physician Consent form is required. Call 282-1605 to register. Pricing available for 6 week class punch cards. This class is offered several times daily.
URL:http://riverplex.org/event/osf-arthritis/2027-03-04/
LOCATION:Warm Water
CATEGORIES:Warm Water Pool
END:VEVENT
BEGIN:VEVENT
DTSTART;TZID=America/Chicago:20270304T100000
DTEND;TZID=America/Chicago:20270304T104500
DTSTAMP:20260425T192721
CREATED:20241126T152850Z
LAST-MODIFIED:20241126T152850Z
UID:20218-1804154400-1804157100@riverplex.org
SUMMARY:OSF Arthritis
DESCRIPTION:Exercises are performed in the warm water pool. Entrance to the pool is by steps with handrails or a chair lift. Participants do not need to know how to swim. A Physician Consent form is required. Call 282-1605 to register. Pricing available for 6 week class punch cards. This class is offered several times daily.
URL:http://riverplex.org/event/osf-arthritis-2/2027-03-04/
LOCATION:Warm Water
CATEGORIES:Warm Water Pool
END:VEVENT
BEGIN:VEVENT
DTSTART;TZID=America/Chicago:20270304T163000
DTEND;TZID=America/Chicago:20270304T190000
DTSTAMP:20260425T192721
CREATED:20241126T145751Z
LAST-MODIFIED:20241126T145751Z
UID:20215-1804177800-1804186800@riverplex.org
SUMMARY:Swim Lessons
DESCRIPTION:
URL:http://riverplex.org/event/swim-lessons-2/2027-03-04/
LOCATION:Lap & Class Pool
CATEGORIES:Lap & Class Pool,Warm Water Pool
END:VEVENT
BEGIN:VEVENT
DTSTART;TZID=America/Chicago:20270305T090000
DTEND;TZID=America/Chicago:20270305T094500
DTSTAMP:20260425T192721
CREATED:20241126T152618Z
LAST-MODIFIED:20250515T162804Z
UID:20229-1804237200-1804239900@riverplex.org
SUMMARY:OSF Arthritis
DESCRIPTION:Exercises are performed in the warm water pool. Entrance to the pool is by steps with handrails or a chair lift. Participants do not need to know how to swim. A Physician Consent form is required. Call 282-1605 to register. Pricing available for 6 week class punch cards. This class is offered several times daily.
URL:http://riverplex.org/event/osf-arthritis/2027-03-05/
LOCATION:Warm Water
CATEGORIES:Warm Water Pool
END:VEVENT
BEGIN:VEVENT
DTSTART;TZID=America/Chicago:20270305T100000
DTEND;TZID=America/Chicago:20270305T104500
DTSTAMP:20260425T192721
CREATED:20241126T152850Z
LAST-MODIFIED:20241126T152850Z
UID:20230-1804240800-1804243500@riverplex.org
SUMMARY:OSF Arthritis
DESCRIPTION:Exercises are performed in the warm water pool. Entrance to the pool is by steps with handrails or a chair lift. Participants do not need to know how to swim. A Physician Consent form is required. Call 282-1605 to register. Pricing available for 6 week class punch cards. This class is offered several times daily.
URL:http://riverplex.org/event/osf-arthritis-2/2027-03-05/
LOCATION:Warm Water
CATEGORIES:Warm Water Pool
END:VEVENT
BEGIN:VEVENT
DTSTART;TZID=America/Chicago:20270305T130000
DTEND;TZID=America/Chicago:20270305T163000
DTSTAMP:20260425T192721
CREATED:20241126T153252Z
LAST-MODIFIED:20241126T153252Z
UID:20231-1804251600-1804264200@riverplex.org
SUMMARY:OSF Physical Therapy
DESCRIPTION:
URL:http://riverplex.org/event/osf-physical-therapy/2027-03-05/
LOCATION:Warm Water
CATEGORIES:Warm Water Pool
END:VEVENT
BEGIN:VEVENT
DTSTART;TZID=America/Chicago:20270306T090000
DTEND;TZID=America/Chicago:20270306T110000
DTSTAMP:20260425T192721
CREATED:20241126T145622Z
LAST-MODIFIED:20241126T145622Z
UID:20243-1804323600-1804330800@riverplex.org
SUMMARY:Swim Lessons
DESCRIPTION:
URL:http://riverplex.org/event/swim-lessons/2027-03-06/
LOCATION:Lap & Class Pool
CATEGORIES:Lap & Class Pool,Warm Water Pool
END:VEVENT
BEGIN:VEVENT
DTSTART;TZID=America/Chicago:20270308T090000
DTEND;TZID=America/Chicago:20270308T094500
DTSTAMP:20260425T192721
CREATED:20241126T152618Z
LAST-MODIFIED:20250515T162804Z
UID:21071-1804496400-1804499100@riverplex.org
SUMMARY:OSF Arthritis
DESCRIPTION:Exercises are performed in the warm water pool. Entrance to the pool is by steps with handrails or a chair lift. Participants do not need to know how to swim. A Physician Consent form is required. Call 282-1605 to register. Pricing available for 6 week class punch cards. This class is offered several times daily.
URL:http://riverplex.org/event/osf-arthritis/2027-03-08/
LOCATION:Warm Water
CATEGORIES:Warm Water Pool
END:VEVENT
BEGIN:VEVENT
DTSTART;TZID=America/Chicago:20270308T100000
DTEND;TZID=America/Chicago:20270308T104500
DTSTAMP:20260425T192721
CREATED:20241126T152850Z
LAST-MODIFIED:20241126T152850Z
UID:21072-1804500000-1804502700@riverplex.org
SUMMARY:OSF Arthritis
DESCRIPTION:Exercises are performed in the warm water pool. Entrance to the pool is by steps with handrails or a chair lift. Participants do not need to know how to swim. A Physician Consent form is required. Call 282-1605 to register. Pricing available for 6 week class punch cards. This class is offered several times daily.
URL:http://riverplex.org/event/osf-arthritis-2/2027-03-08/
LOCATION:Warm Water
CATEGORIES:Warm Water Pool
END:VEVENT
BEGIN:VEVENT
DTSTART;TZID=America/Chicago:20270309T090000
DTEND;TZID=America/Chicago:20270309T094500
DTSTAMP:20260425T192721
CREATED:20241126T152618Z
LAST-MODIFIED:20250515T162804Z
UID:21088-1804582800-1804585500@riverplex.org
SUMMARY:OSF Arthritis
DESCRIPTION:Exercises are performed in the warm water pool. Entrance to the pool is by steps with handrails or a chair lift. Participants do not need to know how to swim. A Physician Consent form is required. Call 282-1605 to register. Pricing available for 6 week class punch cards. This class is offered several times daily.
URL:http://riverplex.org/event/osf-arthritis/2027-03-09/
LOCATION:Warm Water
CATEGORIES:Warm Water Pool
END:VEVENT
BEGIN:VEVENT
DTSTART;TZID=America/Chicago:20270309T100000
DTEND;TZID=America/Chicago:20270309T104500
DTSTAMP:20260425T192721
CREATED:20241126T152850Z
LAST-MODIFIED:20241126T152850Z
UID:21089-1804586400-1804589100@riverplex.org
SUMMARY:OSF Arthritis
DESCRIPTION:Exercises are performed in the warm water pool. Entrance to the pool is by steps with handrails or a chair lift. Participants do not need to know how to swim. A Physician Consent form is required. Call 282-1605 to register. Pricing available for 6 week class punch cards. This class is offered several times daily.
URL:http://riverplex.org/event/osf-arthritis-2/2027-03-09/
LOCATION:Warm Water
CATEGORIES:Warm Water Pool
END:VEVENT
BEGIN:VEVENT
DTSTART;TZID=America/Chicago:20270309T163000
DTEND;TZID=America/Chicago:20270309T190000
DTSTAMP:20260425T192721
CREATED:20241126T145751Z
LAST-MODIFIED:20241126T145751Z
UID:21086-1804609800-1804618800@riverplex.org
SUMMARY:Swim Lessons
DESCRIPTION:
URL:http://riverplex.org/event/swim-lessons-2/2027-03-09/
LOCATION:Lap & Class Pool
CATEGORIES:Lap & Class Pool,Warm Water Pool
END:VEVENT
BEGIN:VEVENT
DTSTART;TZID=America/Chicago:20270310T090000
DTEND;TZID=America/Chicago:20270310T094500
DTSTAMP:20260425T192721
CREATED:20241126T152618Z
LAST-MODIFIED:20250515T162804Z
UID:21212-1804669200-1804671900@riverplex.org
SUMMARY:OSF Arthritis
DESCRIPTION:Exercises are performed in the warm water pool. Entrance to the pool is by steps with handrails or a chair lift. Participants do not need to know how to swim. A Physician Consent form is required. Call 282-1605 to register. Pricing available for 6 week class punch cards. This class is offered several times daily.
URL:http://riverplex.org/event/osf-arthritis/2027-03-10/
LOCATION:Warm Water
CATEGORIES:Warm Water Pool
END:VEVENT
BEGIN:VEVENT
DTSTART;TZID=America/Chicago:20270310T100000
DTEND;TZID=America/Chicago:20270310T104500
DTSTAMP:20260425T192721
CREATED:20241126T152850Z
LAST-MODIFIED:20241126T152850Z
UID:21213-1804672800-1804675500@riverplex.org
SUMMARY:OSF Arthritis
DESCRIPTION:Exercises are performed in the warm water pool. Entrance to the pool is by steps with handrails or a chair lift. Participants do not need to know how to swim. A Physician Consent form is required. Call 282-1605 to register. Pricing available for 6 week class punch cards. This class is offered several times daily.
URL:http://riverplex.org/event/osf-arthritis-2/2027-03-10/
LOCATION:Warm Water
CATEGORIES:Warm Water Pool
END:VEVENT
BEGIN:VEVENT
DTSTART;TZID=America/Chicago:20270310T130000
DTEND;TZID=America/Chicago:20270310T163000
DTSTAMP:20260425T192721
CREATED:20241126T153252Z
LAST-MODIFIED:20241126T153252Z
UID:21214-1804683600-1804696200@riverplex.org
SUMMARY:OSF Physical Therapy
DESCRIPTION:
URL:http://riverplex.org/event/osf-physical-therapy/2027-03-10/
LOCATION:Warm Water
CATEGORIES:Warm Water Pool
END:VEVENT
BEGIN:VEVENT
DTSTART;TZID=America/Chicago:20270311T090000
DTEND;TZID=America/Chicago:20270311T094500
DTSTAMP:20260425T192721
CREATED:20241126T152618Z
LAST-MODIFIED:20250515T162804Z
UID:21225-1804755600-1804758300@riverplex.org
SUMMARY:OSF Arthritis
DESCRIPTION:Exercises are performed in the warm water pool. Entrance to the pool is by steps with handrails or a chair lift. Participants do not need to know how to swim. A Physician Consent form is required. Call 282-1605 to register. Pricing available for 6 week class punch cards. This class is offered several times daily.
URL:http://riverplex.org/event/osf-arthritis/2027-03-11/
LOCATION:Warm Water
CATEGORIES:Warm Water Pool
END:VEVENT
BEGIN:VEVENT
DTSTART;TZID=America/Chicago:20270311T100000
DTEND;TZID=America/Chicago:20270311T104500
DTSTAMP:20260425T192721
CREATED:20241126T152850Z
LAST-MODIFIED:20241126T152850Z
UID:21226-1804759200-1804761900@riverplex.org
SUMMARY:OSF Arthritis
DESCRIPTION:Exercises are performed in the warm water pool. Entrance to the pool is by steps with handrails or a chair lift. Participants do not need to know how to swim. A Physician Consent form is required. Call 282-1605 to register. Pricing available for 6 week class punch cards. This class is offered several times daily.
URL:http://riverplex.org/event/osf-arthritis-2/2027-03-11/
LOCATION:Warm Water
CATEGORIES:Warm Water Pool
END:VEVENT
BEGIN:VEVENT
DTSTART;TZID=America/Chicago:20270311T163000
DTEND;TZID=America/Chicago:20270311T190000
DTSTAMP:20260425T192721
CREATED:20241126T145751Z
LAST-MODIFIED:20241126T145751Z
UID:21223-1804782600-1804791600@riverplex.org
SUMMARY:Swim Lessons
DESCRIPTION:
URL:http://riverplex.org/event/swim-lessons-2/2027-03-11/
LOCATION:Lap & Class Pool
CATEGORIES:Lap & Class Pool,Warm Water Pool
END:VEVENT
BEGIN:VEVENT
DTSTART;TZID=America/Chicago:20270312T090000
DTEND;TZID=America/Chicago:20270312T094500
DTSTAMP:20260425T192721
CREATED:20241126T152618Z
LAST-MODIFIED:20250515T162804Z
UID:21238-1804842000-1804844700@riverplex.org
SUMMARY:OSF Arthritis
DESCRIPTION:Exercises are performed in the warm water pool. Entrance to the pool is by steps with handrails or a chair lift. Participants do not need to know how to swim. A Physician Consent form is required. Call 282-1605 to register. Pricing available for 6 week class punch cards. This class is offered several times daily.
URL:http://riverplex.org/event/osf-arthritis/2027-03-12/
LOCATION:Warm Water
CATEGORIES:Warm Water Pool
END:VEVENT
BEGIN:VEVENT
DTSTART;TZID=America/Chicago:20270312T100000
DTEND;TZID=America/Chicago:20270312T104500
DTSTAMP:20260425T192721
CREATED:20241126T152850Z
LAST-MODIFIED:20241126T152850Z
UID:21239-1804845600-1804848300@riverplex.org
SUMMARY:OSF Arthritis
DESCRIPTION:Exercises are performed in the warm water pool. Entrance to the pool is by steps with handrails or a chair lift. Participants do not need to know how to swim. A Physician Consent form is required. Call 282-1605 to register. Pricing available for 6 week class punch cards. This class is offered several times daily.
URL:http://riverplex.org/event/osf-arthritis-2/2027-03-12/
LOCATION:Warm Water
CATEGORIES:Warm Water Pool
END:VEVENT
BEGIN:VEVENT
DTSTART;TZID=America/Chicago:20270312T130000
DTEND;TZID=America/Chicago:20270312T163000
DTSTAMP:20260425T192721
CREATED:20241126T153252Z
LAST-MODIFIED:20241126T153252Z
UID:21240-1804856400-1804869000@riverplex.org
SUMMARY:OSF Physical Therapy
DESCRIPTION:
URL:http://riverplex.org/event/osf-physical-therapy/2027-03-12/
LOCATION:Warm Water
CATEGORIES:Warm Water Pool
END:VEVENT
BEGIN:VEVENT
DTSTART;TZID=America/Chicago:20270313T090000
DTEND;TZID=America/Chicago:20270313T110000
DTSTAMP:20260425T192721
CREATED:20241126T145622Z
LAST-MODIFIED:20241126T145622Z
UID:21462-1804928400-1804935600@riverplex.org
SUMMARY:Swim Lessons
DESCRIPTION:
URL:http://riverplex.org/event/swim-lessons/2027-03-13/
LOCATION:Lap & Class Pool
CATEGORIES:Lap & Class Pool,Warm Water Pool
END:VEVENT
BEGIN:VEVENT
DTSTART;TZID=America/Chicago:20270315T100000
DTEND;TZID=America/Chicago:20270315T104500
DTSTAMP:20260425T192721
CREATED:20241126T152850Z
LAST-MODIFIED:20241126T152850Z
UID:21477-1805104800-1805107500@riverplex.org
SUMMARY:OSF Arthritis
DESCRIPTION:Exercises are performed in the warm water pool. Entrance to the pool is by steps with handrails or a chair lift. Participants do not need to know how to swim. A Physician Consent form is required. Call 282-1605 to register. Pricing available for 6 week class punch cards. This class is offered several times daily.
URL:http://riverplex.org/event/osf-arthritis-2/2027-03-15/
LOCATION:Warm Water
CATEGORIES:Warm Water Pool
END:VEVENT
BEGIN:VEVENT
DTSTART;TZID=America/Chicago:20270316T100000
DTEND;TZID=America/Chicago:20270316T104500
DTSTAMP:20260425T192721
CREATED:20241126T152850Z
LAST-MODIFIED:20241126T152850Z
UID:21494-1805191200-1805193900@riverplex.org
SUMMARY:OSF Arthritis
DESCRIPTION:Exercises are performed in the warm water pool. Entrance to the pool is by steps with handrails or a chair lift. Participants do not need to know how to swim. A Physician Consent form is required. Call 282-1605 to register. Pricing available for 6 week class punch cards. This class is offered several times daily.
URL:http://riverplex.org/event/osf-arthritis-2/2027-03-16/
LOCATION:Warm Water
CATEGORIES:Warm Water Pool
END:VEVENT
BEGIN:VEVENT
DTSTART;TZID=America/Chicago:20270316T163000
DTEND;TZID=America/Chicago:20270316T190000
DTSTAMP:20260425T192721
CREATED:20241126T145751Z
LAST-MODIFIED:20241126T145751Z
UID:21491-1805214600-1805223600@riverplex.org
SUMMARY:Swim Lessons
DESCRIPTION:
URL:http://riverplex.org/event/swim-lessons-2/2027-03-16/
LOCATION:Lap & Class Pool
CATEGORIES:Lap & Class Pool,Warm Water Pool
END:VEVENT
BEGIN:VEVENT
DTSTART;TZID=America/Chicago:20270317T100000
DTEND;TZID=America/Chicago:20270317T104500
DTSTAMP:20260425T192721
CREATED:20241126T152850Z
LAST-MODIFIED:20241126T152850Z
UID:21508-1805277600-1805280300@riverplex.org
SUMMARY:OSF Arthritis
DESCRIPTION:Exercises are performed in the warm water pool. Entrance to the pool is by steps with handrails or a chair lift. Participants do not need to know how to swim. A Physician Consent form is required. Call 282-1605 to register. Pricing available for 6 week class punch cards. This class is offered several times daily.
URL:http://riverplex.org/event/osf-arthritis-2/2027-03-17/
LOCATION:Warm Water
CATEGORIES:Warm Water Pool
END:VEVENT
BEGIN:VEVENT
DTSTART;TZID=America/Chicago:20270317T130000
DTEND;TZID=America/Chicago:20270317T163000
DTSTAMP:20260425T192721
CREATED:20241126T153252Z
LAST-MODIFIED:20241126T153252Z
UID:21509-1805288400-1805301000@riverplex.org
SUMMARY:OSF Physical Therapy
DESCRIPTION:
URL:http://riverplex.org/event/osf-physical-therapy/2027-03-17/
LOCATION:Warm Water
CATEGORIES:Warm Water Pool
END:VEVENT
BEGIN:VEVENT
DTSTART;TZID=America/Chicago:20270318T100000
DTEND;TZID=America/Chicago:20270318T104500
DTSTAMP:20260425T192721
CREATED:20241126T152850Z
LAST-MODIFIED:20241126T152850Z
UID:21522-1805364000-1805366700@riverplex.org
SUMMARY:OSF Arthritis
DESCRIPTION:Exercises are performed in the warm water pool. Entrance to the pool is by steps with handrails or a chair lift. Participants do not need to know how to swim. A Physician Consent form is required. Call 282-1605 to register. Pricing available for 6 week class punch cards. This class is offered several times daily.
URL:http://riverplex.org/event/osf-arthritis-2/2027-03-18/
LOCATION:Warm Water
CATEGORIES:Warm Water Pool
END:VEVENT
END:VCALENDAR