BEGIN:VCALENDAR
VERSION:2.0
PRODID:-//RiverPlex - ECPv6.15.18//NONSGML v1.0//EN
CALSCALE:GREGORIAN
METHOD:PUBLISH
X-WR-CALNAME:RiverPlex
X-ORIGINAL-URL:http://riverplex.org
X-WR-CALDESC:Events for RiverPlex
REFRESH-INTERVAL;VALUE=DURATION:PT1H
X-Robots-Tag:noindex
X-PUBLISHED-TTL:PT1H
BEGIN:VTIMEZONE
TZID:America/Chicago
BEGIN:DAYLIGHT
TZOFFSETFROM:-0600
TZOFFSETTO:-0500
TZNAME:CDT
DTSTART:20250309T080000
END:DAYLIGHT
BEGIN:STANDARD
TZOFFSETFROM:-0500
TZOFFSETTO:-0600
TZNAME:CST
DTSTART:20251102T070000
END:STANDARD
BEGIN:DAYLIGHT
TZOFFSETFROM:-0600
TZOFFSETTO:-0500
TZNAME:CDT
DTSTART:20260308T080000
END:DAYLIGHT
BEGIN:STANDARD
TZOFFSETFROM:-0500
TZOFFSETTO:-0600
TZNAME:CST
DTSTART:20261101T070000
END:STANDARD
BEGIN:DAYLIGHT
TZOFFSETFROM:-0600
TZOFFSETTO:-0500
TZNAME:CDT
DTSTART:20270314T080000
END:DAYLIGHT
BEGIN:STANDARD
TZOFFSETFROM:-0500
TZOFFSETTO:-0600
TZNAME:CST
DTSTART:20271107T070000
END:STANDARD
BEGIN:DAYLIGHT
TZOFFSETFROM:-0600
TZOFFSETTO:-0500
TZNAME:CDT
DTSTART:20280312T080000
END:DAYLIGHT
BEGIN:STANDARD
TZOFFSETFROM:-0500
TZOFFSETTO:-0600
TZNAME:CST
DTSTART:20281105T070000
END:STANDARD
END:VTIMEZONE
BEGIN:VEVENT
DTSTART;TZID=America/Chicago:20261231T100000
DTEND;TZID=America/Chicago:20261231T104500
DTSTAMP:20260425T023208
CREATED:20241126T152850Z
LAST-MODIFIED:20241126T152850Z
UID:16250-1798711200-1798713900@riverplex.org
SUMMARY:OSF Arthritis
DESCRIPTION:Exercises are performed in the warm water pool. Entrance to the pool is by steps with handrails or a chair lift. Participants do not need to know how to swim. A Physician Consent form is required. Call 282-1605 to register. Pricing available for 6 week class punch cards. This class is offered several times daily.
URL:http://riverplex.org/event/osf-arthritis-2/2026-12-31/
LOCATION:Warm Water
CATEGORIES:Warm Water Pool
END:VEVENT
BEGIN:VEVENT
DTSTART;TZID=America/Chicago:20261231T163000
DTEND;TZID=America/Chicago:20261231T190000
DTSTAMP:20260425T023208
CREATED:20241126T145751Z
LAST-MODIFIED:20241126T145751Z
UID:16247-1798734600-1798743600@riverplex.org
SUMMARY:Swim Lessons
DESCRIPTION:
URL:http://riverplex.org/event/swim-lessons-2/2026-12-31/
LOCATION:Lap & Class Pool
CATEGORIES:Lap & Class Pool,Warm Water Pool
END:VEVENT
BEGIN:VEVENT
DTSTART;TZID=America/Chicago:20270101T090000
DTEND;TZID=America/Chicago:20270101T094500
DTSTAMP:20260425T023208
CREATED:20241126T152618Z
LAST-MODIFIED:20250515T162741Z
UID:16261-1798794000-1798796700@riverplex.org
SUMMARY:OSF Arthritis
DESCRIPTION:Exercises are performed in the warm water pool. Entrance to the pool is by steps with handrails or a chair lift. Participants do not need to know how to swim. A Physician Consent form is required. Call 282-1605 to register. Pricing available for 6 week class punch cards. This class is offered several times daily.
URL:http://riverplex.org/event/osf-arthritis/2027-01-01/
LOCATION:Warm Water
CATEGORIES:Warm Water Pool
END:VEVENT
BEGIN:VEVENT
DTSTART;TZID=America/Chicago:20270101T100000
DTEND;TZID=America/Chicago:20270101T104500
DTSTAMP:20260425T023208
CREATED:20241126T152850Z
LAST-MODIFIED:20241126T152850Z
UID:16262-1798797600-1798800300@riverplex.org
SUMMARY:OSF Arthritis
DESCRIPTION:Exercises are performed in the warm water pool. Entrance to the pool is by steps with handrails or a chair lift. Participants do not need to know how to swim. A Physician Consent form is required. Call 282-1605 to register. Pricing available for 6 week class punch cards. This class is offered several times daily.
URL:http://riverplex.org/event/osf-arthritis-2/2027-01-01/
LOCATION:Warm Water
CATEGORIES:Warm Water Pool
END:VEVENT
BEGIN:VEVENT
DTSTART;TZID=America/Chicago:20270101T130000
DTEND;TZID=America/Chicago:20270101T163000
DTSTAMP:20260425T023208
CREATED:20241126T153252Z
LAST-MODIFIED:20241126T153252Z
UID:16263-1798808400-1798821000@riverplex.org
SUMMARY:OSF Physical Therapy
DESCRIPTION:
URL:http://riverplex.org/event/osf-physical-therapy/2027-01-01/
LOCATION:Warm Water
CATEGORIES:Warm Water Pool
END:VEVENT
BEGIN:VEVENT
DTSTART;TZID=America/Chicago:20270102T090000
DTEND;TZID=America/Chicago:20270102T110000
DTSTAMP:20260425T023208
CREATED:20241126T145622Z
LAST-MODIFIED:20241126T145622Z
UID:16277-1798880400-1798887600@riverplex.org
SUMMARY:Swim Lessons
DESCRIPTION:
URL:http://riverplex.org/event/swim-lessons/2027-01-02/
LOCATION:Lap & Class Pool
CATEGORIES:Lap & Class Pool,Warm Water Pool
END:VEVENT
BEGIN:VEVENT
DTSTART;TZID=America/Chicago:20270104T090000
DTEND;TZID=America/Chicago:20270104T094500
DTSTAMP:20260425T023208
CREATED:20241126T152618Z
LAST-MODIFIED:20250515T162745Z
UID:17901-1799053200-1799055900@riverplex.org
SUMMARY:OSF Arthritis
DESCRIPTION:Exercises are performed in the warm water pool. Entrance to the pool is by steps with handrails or a chair lift. Participants do not need to know how to swim. A Physician Consent form is required. Call 282-1605 to register. Pricing available for 6 week class punch cards. This class is offered several times daily.
URL:http://riverplex.org/event/osf-arthritis/2027-01-04/
LOCATION:Warm Water
CATEGORIES:Warm Water Pool
END:VEVENT
BEGIN:VEVENT
DTSTART;TZID=America/Chicago:20270104T100000
DTEND;TZID=America/Chicago:20270104T104500
DTSTAMP:20260425T023208
CREATED:20241126T152850Z
LAST-MODIFIED:20241126T152850Z
UID:17902-1799056800-1799059500@riverplex.org
SUMMARY:OSF Arthritis
DESCRIPTION:Exercises are performed in the warm water pool. Entrance to the pool is by steps with handrails or a chair lift. Participants do not need to know how to swim. A Physician Consent form is required. Call 282-1605 to register. Pricing available for 6 week class punch cards. This class is offered several times daily.
URL:http://riverplex.org/event/osf-arthritis-2/2027-01-04/
LOCATION:Warm Water
CATEGORIES:Warm Water Pool
END:VEVENT
BEGIN:VEVENT
DTSTART;TZID=America/Chicago:20270105T090000
DTEND;TZID=America/Chicago:20270105T094500
DTSTAMP:20260425T023208
CREATED:20241126T152618Z
LAST-MODIFIED:20250515T162745Z
UID:17920-1799139600-1799142300@riverplex.org
SUMMARY:OSF Arthritis
DESCRIPTION:Exercises are performed in the warm water pool. Entrance to the pool is by steps with handrails or a chair lift. Participants do not need to know how to swim. A Physician Consent form is required. Call 282-1605 to register. Pricing available for 6 week class punch cards. This class is offered several times daily.
URL:http://riverplex.org/event/osf-arthritis/2027-01-05/
LOCATION:Warm Water
CATEGORIES:Warm Water Pool
END:VEVENT
BEGIN:VEVENT
DTSTART;TZID=America/Chicago:20270105T100000
DTEND;TZID=America/Chicago:20270105T104500
DTSTAMP:20260425T023208
CREATED:20241126T152850Z
LAST-MODIFIED:20241126T152850Z
UID:17921-1799143200-1799145900@riverplex.org
SUMMARY:OSF Arthritis
DESCRIPTION:Exercises are performed in the warm water pool. Entrance to the pool is by steps with handrails or a chair lift. Participants do not need to know how to swim. A Physician Consent form is required. Call 282-1605 to register. Pricing available for 6 week class punch cards. This class is offered several times daily.
URL:http://riverplex.org/event/osf-arthritis-2/2027-01-05/
LOCATION:Warm Water
CATEGORIES:Warm Water Pool
END:VEVENT
BEGIN:VEVENT
DTSTART;TZID=America/Chicago:20270105T163000
DTEND;TZID=America/Chicago:20270105T190000
DTSTAMP:20260425T023208
CREATED:20241126T145751Z
LAST-MODIFIED:20241126T145751Z
UID:17918-1799166600-1799175600@riverplex.org
SUMMARY:Swim Lessons
DESCRIPTION:
URL:http://riverplex.org/event/swim-lessons-2/2027-01-05/
LOCATION:Lap & Class Pool
CATEGORIES:Lap & Class Pool,Warm Water Pool
END:VEVENT
BEGIN:VEVENT
DTSTART;TZID=America/Chicago:20270106T090000
DTEND;TZID=America/Chicago:20270106T094500
DTSTAMP:20260425T023208
CREATED:20241126T152618Z
LAST-MODIFIED:20250515T162745Z
UID:17949-1799226000-1799228700@riverplex.org
SUMMARY:OSF Arthritis
DESCRIPTION:Exercises are performed in the warm water pool. Entrance to the pool is by steps with handrails or a chair lift. Participants do not need to know how to swim. A Physician Consent form is required. Call 282-1605 to register. Pricing available for 6 week class punch cards. This class is offered several times daily.
URL:http://riverplex.org/event/osf-arthritis/2027-01-06/
LOCATION:Warm Water
CATEGORIES:Warm Water Pool
END:VEVENT
BEGIN:VEVENT
DTSTART;TZID=America/Chicago:20270106T100000
DTEND;TZID=America/Chicago:20270106T104500
DTSTAMP:20260425T023208
CREATED:20241126T152850Z
LAST-MODIFIED:20241126T152850Z
UID:17950-1799229600-1799232300@riverplex.org
SUMMARY:OSF Arthritis
DESCRIPTION:Exercises are performed in the warm water pool. Entrance to the pool is by steps with handrails or a chair lift. Participants do not need to know how to swim. A Physician Consent form is required. Call 282-1605 to register. Pricing available for 6 week class punch cards. This class is offered several times daily.
URL:http://riverplex.org/event/osf-arthritis-2/2027-01-06/
LOCATION:Warm Water
CATEGORIES:Warm Water Pool
END:VEVENT
BEGIN:VEVENT
DTSTART;TZID=America/Chicago:20270106T130000
DTEND;TZID=America/Chicago:20270106T163000
DTSTAMP:20260425T023208
CREATED:20241126T153252Z
LAST-MODIFIED:20241126T153252Z
UID:17951-1799240400-1799253000@riverplex.org
SUMMARY:OSF Physical Therapy
DESCRIPTION:
URL:http://riverplex.org/event/osf-physical-therapy/2027-01-06/
LOCATION:Warm Water
CATEGORIES:Warm Water Pool
END:VEVENT
BEGIN:VEVENT
DTSTART;TZID=America/Chicago:20270107T090000
DTEND;TZID=America/Chicago:20270107T094500
DTSTAMP:20260425T023208
CREATED:20241126T152618Z
LAST-MODIFIED:20250515T162745Z
UID:17966-1799312400-1799315100@riverplex.org
SUMMARY:OSF Arthritis
DESCRIPTION:Exercises are performed in the warm water pool. Entrance to the pool is by steps with handrails or a chair lift. Participants do not need to know how to swim. A Physician Consent form is required. Call 282-1605 to register. Pricing available for 6 week class punch cards. This class is offered several times daily.
URL:http://riverplex.org/event/osf-arthritis/2027-01-07/
LOCATION:Warm Water
CATEGORIES:Warm Water Pool
END:VEVENT
BEGIN:VEVENT
DTSTART;TZID=America/Chicago:20270107T100000
DTEND;TZID=America/Chicago:20270107T104500
DTSTAMP:20260425T023208
CREATED:20241126T152850Z
LAST-MODIFIED:20241126T152850Z
UID:17967-1799316000-1799318700@riverplex.org
SUMMARY:OSF Arthritis
DESCRIPTION:Exercises are performed in the warm water pool. Entrance to the pool is by steps with handrails or a chair lift. Participants do not need to know how to swim. A Physician Consent form is required. Call 282-1605 to register. Pricing available for 6 week class punch cards. This class is offered several times daily.
URL:http://riverplex.org/event/osf-arthritis-2/2027-01-07/
LOCATION:Warm Water
CATEGORIES:Warm Water Pool
END:VEVENT
BEGIN:VEVENT
DTSTART;TZID=America/Chicago:20270107T163000
DTEND;TZID=America/Chicago:20270107T190000
DTSTAMP:20260425T023208
CREATED:20241126T145751Z
LAST-MODIFIED:20241126T145751Z
UID:17964-1799339400-1799348400@riverplex.org
SUMMARY:Swim Lessons
DESCRIPTION:
URL:http://riverplex.org/event/swim-lessons-2/2027-01-07/
LOCATION:Lap & Class Pool
CATEGORIES:Lap & Class Pool,Warm Water Pool
END:VEVENT
BEGIN:VEVENT
DTSTART;TZID=America/Chicago:20270108T090000
DTEND;TZID=America/Chicago:20270108T094500
DTSTAMP:20260425T023208
CREATED:20241126T152618Z
LAST-MODIFIED:20250515T162745Z
UID:17980-1799398800-1799401500@riverplex.org
SUMMARY:OSF Arthritis
DESCRIPTION:Exercises are performed in the warm water pool. Entrance to the pool is by steps with handrails or a chair lift. Participants do not need to know how to swim. A Physician Consent form is required. Call 282-1605 to register. Pricing available for 6 week class punch cards. This class is offered several times daily.
URL:http://riverplex.org/event/osf-arthritis/2027-01-08/
LOCATION:Warm Water
CATEGORIES:Warm Water Pool
END:VEVENT
BEGIN:VEVENT
DTSTART;TZID=America/Chicago:20270108T100000
DTEND;TZID=America/Chicago:20270108T104500
DTSTAMP:20260425T023208
CREATED:20241126T152850Z
LAST-MODIFIED:20241126T152850Z
UID:17981-1799402400-1799405100@riverplex.org
SUMMARY:OSF Arthritis
DESCRIPTION:Exercises are performed in the warm water pool. Entrance to the pool is by steps with handrails or a chair lift. Participants do not need to know how to swim. A Physician Consent form is required. Call 282-1605 to register. Pricing available for 6 week class punch cards. This class is offered several times daily.
URL:http://riverplex.org/event/osf-arthritis-2/2027-01-08/
LOCATION:Warm Water
CATEGORIES:Warm Water Pool
END:VEVENT
BEGIN:VEVENT
DTSTART;TZID=America/Chicago:20270108T130000
DTEND;TZID=America/Chicago:20270108T163000
DTSTAMP:20260425T023208
CREATED:20241126T153252Z
LAST-MODIFIED:20241126T153252Z
UID:17982-1799413200-1799425800@riverplex.org
SUMMARY:OSF Physical Therapy
DESCRIPTION:
URL:http://riverplex.org/event/osf-physical-therapy/2027-01-08/
LOCATION:Warm Water
CATEGORIES:Warm Water Pool
END:VEVENT
BEGIN:VEVENT
DTSTART;TZID=America/Chicago:20270109T090000
DTEND;TZID=America/Chicago:20270109T110000
DTSTAMP:20260425T023208
CREATED:20241126T145622Z
LAST-MODIFIED:20241126T145622Z
UID:17996-1799485200-1799492400@riverplex.org
SUMMARY:Swim Lessons
DESCRIPTION:
URL:http://riverplex.org/event/swim-lessons/2027-01-09/
LOCATION:Lap & Class Pool
CATEGORIES:Lap & Class Pool,Warm Water Pool
END:VEVENT
BEGIN:VEVENT
DTSTART;TZID=America/Chicago:20270111T090000
DTEND;TZID=America/Chicago:20270111T094500
DTSTAMP:20260425T023208
CREATED:20241126T152618Z
LAST-MODIFIED:20250515T162745Z
UID:18006-1799658000-1799660700@riverplex.org
SUMMARY:OSF Arthritis
DESCRIPTION:Exercises are performed in the warm water pool. Entrance to the pool is by steps with handrails or a chair lift. Participants do not need to know how to swim. A Physician Consent form is required. Call 282-1605 to register. Pricing available for 6 week class punch cards. This class is offered several times daily.
URL:http://riverplex.org/event/osf-arthritis/2027-01-11/
LOCATION:Warm Water
CATEGORIES:Warm Water Pool
END:VEVENT
BEGIN:VEVENT
DTSTART;TZID=America/Chicago:20270111T100000
DTEND;TZID=America/Chicago:20270111T104500
DTSTAMP:20260425T023208
CREATED:20241126T152850Z
LAST-MODIFIED:20241126T152850Z
UID:18007-1799661600-1799664300@riverplex.org
SUMMARY:OSF Arthritis
DESCRIPTION:Exercises are performed in the warm water pool. Entrance to the pool is by steps with handrails or a chair lift. Participants do not need to know how to swim. A Physician Consent form is required. Call 282-1605 to register. Pricing available for 6 week class punch cards. This class is offered several times daily.
URL:http://riverplex.org/event/osf-arthritis-2/2027-01-11/
LOCATION:Warm Water
CATEGORIES:Warm Water Pool
END:VEVENT
BEGIN:VEVENT
DTSTART;TZID=America/Chicago:20270112T090000
DTEND;TZID=America/Chicago:20270112T094500
DTSTAMP:20260425T023208
CREATED:20241126T152618Z
LAST-MODIFIED:20250515T162745Z
UID:18025-1799744400-1799747100@riverplex.org
SUMMARY:OSF Arthritis
DESCRIPTION:Exercises are performed in the warm water pool. Entrance to the pool is by steps with handrails or a chair lift. Participants do not need to know how to swim. A Physician Consent form is required. Call 282-1605 to register. Pricing available for 6 week class punch cards. This class is offered several times daily.
URL:http://riverplex.org/event/osf-arthritis/2027-01-12/
LOCATION:Warm Water
CATEGORIES:Warm Water Pool
END:VEVENT
BEGIN:VEVENT
DTSTART;TZID=America/Chicago:20270112T100000
DTEND;TZID=America/Chicago:20270112T104500
DTSTAMP:20260425T023208
CREATED:20241126T152850Z
LAST-MODIFIED:20241126T152850Z
UID:18026-1799748000-1799750700@riverplex.org
SUMMARY:OSF Arthritis
DESCRIPTION:Exercises are performed in the warm water pool. Entrance to the pool is by steps with handrails or a chair lift. Participants do not need to know how to swim. A Physician Consent form is required. Call 282-1605 to register. Pricing available for 6 week class punch cards. This class is offered several times daily.
URL:http://riverplex.org/event/osf-arthritis-2/2027-01-12/
LOCATION:Warm Water
CATEGORIES:Warm Water Pool
END:VEVENT
BEGIN:VEVENT
DTSTART;TZID=America/Chicago:20270112T163000
DTEND;TZID=America/Chicago:20270112T190000
DTSTAMP:20260425T023208
CREATED:20241126T145751Z
LAST-MODIFIED:20241126T145751Z
UID:18023-1799771400-1799780400@riverplex.org
SUMMARY:Swim Lessons
DESCRIPTION:
URL:http://riverplex.org/event/swim-lessons-2/2027-01-12/
LOCATION:Lap & Class Pool
CATEGORIES:Lap & Class Pool,Warm Water Pool
END:VEVENT
BEGIN:VEVENT
DTSTART;TZID=America/Chicago:20270113T090000
DTEND;TZID=America/Chicago:20270113T094500
DTSTAMP:20260425T023208
CREATED:20241126T152618Z
LAST-MODIFIED:20250515T162745Z
UID:18041-1799830800-1799833500@riverplex.org
SUMMARY:OSF Arthritis
DESCRIPTION:Exercises are performed in the warm water pool. Entrance to the pool is by steps with handrails or a chair lift. Participants do not need to know how to swim. A Physician Consent form is required. Call 282-1605 to register. Pricing available for 6 week class punch cards. This class is offered several times daily.
URL:http://riverplex.org/event/osf-arthritis/2027-01-13/
LOCATION:Warm Water
CATEGORIES:Warm Water Pool
END:VEVENT
BEGIN:VEVENT
DTSTART;TZID=America/Chicago:20270113T100000
DTEND;TZID=America/Chicago:20270113T104500
DTSTAMP:20260425T023208
CREATED:20241126T152850Z
LAST-MODIFIED:20241126T152850Z
UID:18042-1799834400-1799837100@riverplex.org
SUMMARY:OSF Arthritis
DESCRIPTION:Exercises are performed in the warm water pool. Entrance to the pool is by steps with handrails or a chair lift. Participants do not need to know how to swim. A Physician Consent form is required. Call 282-1605 to register. Pricing available for 6 week class punch cards. This class is offered several times daily.
URL:http://riverplex.org/event/osf-arthritis-2/2027-01-13/
LOCATION:Warm Water
CATEGORIES:Warm Water Pool
END:VEVENT
BEGIN:VEVENT
DTSTART;TZID=America/Chicago:20270113T130000
DTEND;TZID=America/Chicago:20270113T163000
DTSTAMP:20260425T023208
CREATED:20241126T153252Z
LAST-MODIFIED:20241126T153252Z
UID:18043-1799845200-1799857800@riverplex.org
SUMMARY:OSF Physical Therapy
DESCRIPTION:
URL:http://riverplex.org/event/osf-physical-therapy/2027-01-13/
LOCATION:Warm Water
CATEGORIES:Warm Water Pool
END:VEVENT
BEGIN:VEVENT
DTSTART;TZID=America/Chicago:20270114T090000
DTEND;TZID=America/Chicago:20270114T094500
DTSTAMP:20260425T023208
CREATED:20241126T152618Z
LAST-MODIFIED:20250515T162745Z
UID:18057-1799917200-1799919900@riverplex.org
SUMMARY:OSF Arthritis
DESCRIPTION:Exercises are performed in the warm water pool. Entrance to the pool is by steps with handrails or a chair lift. Participants do not need to know how to swim. A Physician Consent form is required. Call 282-1605 to register. Pricing available for 6 week class punch cards. This class is offered several times daily.
URL:http://riverplex.org/event/osf-arthritis/2027-01-14/
LOCATION:Warm Water
CATEGORIES:Warm Water Pool
END:VEVENT
END:VCALENDAR