BEGIN:VCALENDAR
VERSION:2.0
PRODID:-//RiverPlex - ECPv6.15.18//NONSGML v1.0//EN
CALSCALE:GREGORIAN
METHOD:PUBLISH
X-WR-CALNAME:RiverPlex
X-ORIGINAL-URL:http://riverplex.org
X-WR-CALDESC:Events for RiverPlex
REFRESH-INTERVAL;VALUE=DURATION:PT1H
X-Robots-Tag:noindex
X-PUBLISHED-TTL:PT1H
BEGIN:VTIMEZONE
TZID:America/Chicago
BEGIN:DAYLIGHT
TZOFFSETFROM:-0600
TZOFFSETTO:-0500
TZNAME:CDT
DTSTART:20250309T080000
END:DAYLIGHT
BEGIN:STANDARD
TZOFFSETFROM:-0500
TZOFFSETTO:-0600
TZNAME:CST
DTSTART:20251102T070000
END:STANDARD
BEGIN:DAYLIGHT
TZOFFSETFROM:-0600
TZOFFSETTO:-0500
TZNAME:CDT
DTSTART:20260308T080000
END:DAYLIGHT
BEGIN:STANDARD
TZOFFSETFROM:-0500
TZOFFSETTO:-0600
TZNAME:CST
DTSTART:20261101T070000
END:STANDARD
BEGIN:DAYLIGHT
TZOFFSETFROM:-0600
TZOFFSETTO:-0500
TZNAME:CDT
DTSTART:20270314T080000
END:DAYLIGHT
BEGIN:STANDARD
TZOFFSETFROM:-0500
TZOFFSETTO:-0600
TZNAME:CST
DTSTART:20271107T070000
END:STANDARD
END:VTIMEZONE
BEGIN:VEVENT
DTSTART;TZID=America/Chicago:20261203T090000
DTEND;TZID=America/Chicago:20261203T094500
DTSTAMP:20260424T184646
CREATED:20241126T152618Z
LAST-MODIFIED:20250515T162734Z
UID:13144-1796288400-1796291100@riverplex.org
SUMMARY:OSF Arthritis
DESCRIPTION:Exercises are performed in the warm water pool. Entrance to the pool is by steps with handrails or a chair lift. Participants do not need to know how to swim. A Physician Consent form is required. Call 282-1605 to register. Pricing available for 6 week class punch cards. This class is offered several times daily.
URL:http://riverplex.org/event/osf-arthritis/2026-12-03/
LOCATION:Warm Water
CATEGORIES:Warm Water Pool
END:VEVENT
BEGIN:VEVENT
DTSTART;TZID=America/Chicago:20261203T100000
DTEND;TZID=America/Chicago:20261203T104500
DTSTAMP:20260424T184646
CREATED:20241126T152850Z
LAST-MODIFIED:20241126T152850Z
UID:13693-1796292000-1796294700@riverplex.org
SUMMARY:OSF Arthritis
DESCRIPTION:Exercises are performed in the warm water pool. Entrance to the pool is by steps with handrails or a chair lift. Participants do not need to know how to swim. A Physician Consent form is required. Call 282-1605 to register. Pricing available for 6 week class punch cards. This class is offered several times daily.
URL:http://riverplex.org/event/osf-arthritis-2/2026-12-03/
LOCATION:Warm Water
CATEGORIES:Warm Water Pool
END:VEVENT
BEGIN:VEVENT
DTSTART;TZID=America/Chicago:20261203T163000
DTEND;TZID=America/Chicago:20261203T190000
DTSTAMP:20260424T184646
CREATED:20241126T145751Z
LAST-MODIFIED:20241126T145751Z
UID:5766-1796315400-1796324400@riverplex.org
SUMMARY:Swim Lessons
DESCRIPTION:
URL:http://riverplex.org/event/swim-lessons-2/2026-12-03/
LOCATION:Lap & Class Pool
CATEGORIES:Lap & Class Pool,Warm Water Pool
END:VEVENT
BEGIN:VEVENT
DTSTART;TZID=America/Chicago:20261204T090000
DTEND;TZID=America/Chicago:20261204T094500
DTSTAMP:20260424T184646
CREATED:20241126T152618Z
LAST-MODIFIED:20250515T162734Z
UID:8661-1796374800-1796377500@riverplex.org
SUMMARY:OSF Arthritis
DESCRIPTION:Exercises are performed in the warm water pool. Entrance to the pool is by steps with handrails or a chair lift. Participants do not need to know how to swim. A Physician Consent form is required. Call 282-1605 to register. Pricing available for 6 week class punch cards. This class is offered several times daily.
URL:http://riverplex.org/event/osf-arthritis/2026-12-04/
LOCATION:Warm Water
CATEGORIES:Warm Water Pool
END:VEVENT
BEGIN:VEVENT
DTSTART;TZID=America/Chicago:20261204T100000
DTEND;TZID=America/Chicago:20261204T104500
DTSTAMP:20260424T184646
CREATED:20241126T152850Z
LAST-MODIFIED:20241126T152850Z
UID:8662-1796378400-1796381100@riverplex.org
SUMMARY:OSF Arthritis
DESCRIPTION:Exercises are performed in the warm water pool. Entrance to the pool is by steps with handrails or a chair lift. Participants do not need to know how to swim. A Physician Consent form is required. Call 282-1605 to register. Pricing available for 6 week class punch cards. This class is offered several times daily.
URL:http://riverplex.org/event/osf-arthritis-2/2026-12-04/
LOCATION:Warm Water
CATEGORIES:Warm Water Pool
END:VEVENT
BEGIN:VEVENT
DTSTART;TZID=America/Chicago:20261204T130000
DTEND;TZID=America/Chicago:20261204T163000
DTSTAMP:20260424T184646
CREATED:20241126T153252Z
LAST-MODIFIED:20241126T153252Z
UID:8663-1796389200-1796401800@riverplex.org
SUMMARY:OSF Physical Therapy
DESCRIPTION:
URL:http://riverplex.org/event/osf-physical-therapy/2026-12-04/
LOCATION:Warm Water
CATEGORIES:Warm Water Pool
END:VEVENT
BEGIN:VEVENT
DTSTART;TZID=America/Chicago:20261205T090000
DTEND;TZID=America/Chicago:20261205T110000
DTSTAMP:20260424T184646
CREATED:20241126T145622Z
LAST-MODIFIED:20241126T145622Z
UID:8676-1796461200-1796468400@riverplex.org
SUMMARY:Swim Lessons
DESCRIPTION:
URL:http://riverplex.org/event/swim-lessons/2026-12-05/
LOCATION:Lap & Class Pool
CATEGORIES:Lap & Class Pool,Warm Water Pool
END:VEVENT
BEGIN:VEVENT
DTSTART;TZID=America/Chicago:20261207T090000
DTEND;TZID=America/Chicago:20261207T094500
DTSTAMP:20260424T184646
CREATED:20241126T152618Z
LAST-MODIFIED:20250515T162735Z
UID:8689-1796634000-1796636700@riverplex.org
SUMMARY:OSF Arthritis
DESCRIPTION:Exercises are performed in the warm water pool. Entrance to the pool is by steps with handrails or a chair lift. Participants do not need to know how to swim. A Physician Consent form is required. Call 282-1605 to register. Pricing available for 6 week class punch cards. This class is offered several times daily.
URL:http://riverplex.org/event/osf-arthritis/2026-12-07/
LOCATION:Warm Water
CATEGORIES:Warm Water Pool
END:VEVENT
BEGIN:VEVENT
DTSTART;TZID=America/Chicago:20261207T100000
DTEND;TZID=America/Chicago:20261207T104500
DTSTAMP:20260424T184646
CREATED:20241126T152850Z
LAST-MODIFIED:20241126T152850Z
UID:8690-1796637600-1796640300@riverplex.org
SUMMARY:OSF Arthritis
DESCRIPTION:Exercises are performed in the warm water pool. Entrance to the pool is by steps with handrails or a chair lift. Participants do not need to know how to swim. A Physician Consent form is required. Call 282-1605 to register. Pricing available for 6 week class punch cards. This class is offered several times daily.
URL:http://riverplex.org/event/osf-arthritis-2/2026-12-07/
LOCATION:Warm Water
CATEGORIES:Warm Water Pool
END:VEVENT
BEGIN:VEVENT
DTSTART;TZID=America/Chicago:20261208T090000
DTEND;TZID=America/Chicago:20261208T094500
DTSTAMP:20260424T184646
CREATED:20241126T152618Z
LAST-MODIFIED:20250515T162736Z
UID:8710-1796720400-1796723100@riverplex.org
SUMMARY:OSF Arthritis
DESCRIPTION:Exercises are performed in the warm water pool. Entrance to the pool is by steps with handrails or a chair lift. Participants do not need to know how to swim. A Physician Consent form is required. Call 282-1605 to register. Pricing available for 6 week class punch cards. This class is offered several times daily.
URL:http://riverplex.org/event/osf-arthritis/2026-12-08/
LOCATION:Warm Water
CATEGORIES:Warm Water Pool
END:VEVENT
BEGIN:VEVENT
DTSTART;TZID=America/Chicago:20261208T100000
DTEND;TZID=America/Chicago:20261208T104500
DTSTAMP:20260424T184646
CREATED:20241126T152850Z
LAST-MODIFIED:20241126T152850Z
UID:8711-1796724000-1796726700@riverplex.org
SUMMARY:OSF Arthritis
DESCRIPTION:Exercises are performed in the warm water pool. Entrance to the pool is by steps with handrails or a chair lift. Participants do not need to know how to swim. A Physician Consent form is required. Call 282-1605 to register. Pricing available for 6 week class punch cards. This class is offered several times daily.
URL:http://riverplex.org/event/osf-arthritis-2/2026-12-08/
LOCATION:Warm Water
CATEGORIES:Warm Water Pool
END:VEVENT
BEGIN:VEVENT
DTSTART;TZID=America/Chicago:20261208T163000
DTEND;TZID=America/Chicago:20261208T190000
DTSTAMP:20260424T184646
CREATED:20241126T145751Z
LAST-MODIFIED:20241126T145751Z
UID:8708-1796747400-1796756400@riverplex.org
SUMMARY:Swim Lessons
DESCRIPTION:
URL:http://riverplex.org/event/swim-lessons-2/2026-12-08/
LOCATION:Lap & Class Pool
CATEGORIES:Lap & Class Pool,Warm Water Pool
END:VEVENT
BEGIN:VEVENT
DTSTART;TZID=America/Chicago:20261209T090000
DTEND;TZID=America/Chicago:20261209T094500
DTSTAMP:20260424T184646
CREATED:20241126T152618Z
LAST-MODIFIED:20250515T162736Z
UID:8724-1796806800-1796809500@riverplex.org
SUMMARY:OSF Arthritis
DESCRIPTION:Exercises are performed in the warm water pool. Entrance to the pool is by steps with handrails or a chair lift. Participants do not need to know how to swim. A Physician Consent form is required. Call 282-1605 to register. Pricing available for 6 week class punch cards. This class is offered several times daily.
URL:http://riverplex.org/event/osf-arthritis/2026-12-09/
LOCATION:Warm Water
CATEGORIES:Warm Water Pool
END:VEVENT
BEGIN:VEVENT
DTSTART;TZID=America/Chicago:20261209T100000
DTEND;TZID=America/Chicago:20261209T104500
DTSTAMP:20260424T184646
CREATED:20241126T152850Z
LAST-MODIFIED:20241126T152850Z
UID:8725-1796810400-1796813100@riverplex.org
SUMMARY:OSF Arthritis
DESCRIPTION:Exercises are performed in the warm water pool. Entrance to the pool is by steps with handrails or a chair lift. Participants do not need to know how to swim. A Physician Consent form is required. Call 282-1605 to register. Pricing available for 6 week class punch cards. This class is offered several times daily.
URL:http://riverplex.org/event/osf-arthritis-2/2026-12-09/
LOCATION:Warm Water
CATEGORIES:Warm Water Pool
END:VEVENT
BEGIN:VEVENT
DTSTART;TZID=America/Chicago:20261209T130000
DTEND;TZID=America/Chicago:20261209T163000
DTSTAMP:20260424T184646
CREATED:20241126T153252Z
LAST-MODIFIED:20241126T153252Z
UID:8726-1796821200-1796833800@riverplex.org
SUMMARY:OSF Physical Therapy
DESCRIPTION:
URL:http://riverplex.org/event/osf-physical-therapy/2026-12-09/
LOCATION:Warm Water
CATEGORIES:Warm Water Pool
END:VEVENT
BEGIN:VEVENT
DTSTART;TZID=America/Chicago:20261210T090000
DTEND;TZID=America/Chicago:20261210T094500
DTSTAMP:20260424T184646
CREATED:20241126T152618Z
LAST-MODIFIED:20250515T162736Z
UID:10824-1796893200-1796895900@riverplex.org
SUMMARY:OSF Arthritis
DESCRIPTION:Exercises are performed in the warm water pool. Entrance to the pool is by steps with handrails or a chair lift. Participants do not need to know how to swim. A Physician Consent form is required. Call 282-1605 to register. Pricing available for 6 week class punch cards. This class is offered several times daily.
URL:http://riverplex.org/event/osf-arthritis/2026-12-10/
LOCATION:Warm Water
CATEGORIES:Warm Water Pool
END:VEVENT
BEGIN:VEVENT
DTSTART;TZID=America/Chicago:20261210T100000
DTEND;TZID=America/Chicago:20261210T104500
DTSTAMP:20260424T184646
CREATED:20241126T152850Z
LAST-MODIFIED:20241126T152850Z
UID:10825-1796896800-1796899500@riverplex.org
SUMMARY:OSF Arthritis
DESCRIPTION:Exercises are performed in the warm water pool. Entrance to the pool is by steps with handrails or a chair lift. Participants do not need to know how to swim. A Physician Consent form is required. Call 282-1605 to register. Pricing available for 6 week class punch cards. This class is offered several times daily.
URL:http://riverplex.org/event/osf-arthritis-2/2026-12-10/
LOCATION:Warm Water
CATEGORIES:Warm Water Pool
END:VEVENT
BEGIN:VEVENT
DTSTART;TZID=America/Chicago:20261210T163000
DTEND;TZID=America/Chicago:20261210T190000
DTSTAMP:20260424T184646
CREATED:20241126T145751Z
LAST-MODIFIED:20241126T145751Z
UID:10822-1796920200-1796929200@riverplex.org
SUMMARY:Swim Lessons
DESCRIPTION:
URL:http://riverplex.org/event/swim-lessons-2/2026-12-10/
LOCATION:Lap & Class Pool
CATEGORIES:Lap & Class Pool,Warm Water Pool
END:VEVENT
BEGIN:VEVENT
DTSTART;TZID=America/Chicago:20261211T090000
DTEND;TZID=America/Chicago:20261211T094500
DTSTAMP:20260424T184646
CREATED:20241126T152618Z
LAST-MODIFIED:20250515T162736Z
UID:10872-1796979600-1796982300@riverplex.org
SUMMARY:OSF Arthritis
DESCRIPTION:Exercises are performed in the warm water pool. Entrance to the pool is by steps with handrails or a chair lift. Participants do not need to know how to swim. A Physician Consent form is required. Call 282-1605 to register. Pricing available for 6 week class punch cards. This class is offered several times daily.
URL:http://riverplex.org/event/osf-arthritis/2026-12-11/
LOCATION:Warm Water
CATEGORIES:Warm Water Pool
END:VEVENT
BEGIN:VEVENT
DTSTART;TZID=America/Chicago:20261211T100000
DTEND;TZID=America/Chicago:20261211T104500
DTSTAMP:20260424T184646
CREATED:20241126T152850Z
LAST-MODIFIED:20241126T152850Z
UID:10873-1796983200-1796985900@riverplex.org
SUMMARY:OSF Arthritis
DESCRIPTION:Exercises are performed in the warm water pool. Entrance to the pool is by steps with handrails or a chair lift. Participants do not need to know how to swim. A Physician Consent form is required. Call 282-1605 to register. Pricing available for 6 week class punch cards. This class is offered several times daily.
URL:http://riverplex.org/event/osf-arthritis-2/2026-12-11/
LOCATION:Warm Water
CATEGORIES:Warm Water Pool
END:VEVENT
BEGIN:VEVENT
DTSTART;TZID=America/Chicago:20261211T130000
DTEND;TZID=America/Chicago:20261211T163000
DTSTAMP:20260424T184646
CREATED:20241126T153252Z
LAST-MODIFIED:20241126T153252Z
UID:10874-1796994000-1797006600@riverplex.org
SUMMARY:OSF Physical Therapy
DESCRIPTION:
URL:http://riverplex.org/event/osf-physical-therapy/2026-12-11/
LOCATION:Warm Water
CATEGORIES:Warm Water Pool
END:VEVENT
BEGIN:VEVENT
DTSTART;TZID=America/Chicago:20261212T090000
DTEND;TZID=America/Chicago:20261212T110000
DTSTAMP:20260424T184646
CREATED:20241126T145622Z
LAST-MODIFIED:20241126T145622Z
UID:10887-1797066000-1797073200@riverplex.org
SUMMARY:Swim Lessons
DESCRIPTION:
URL:http://riverplex.org/event/swim-lessons/2026-12-12/
LOCATION:Lap & Class Pool
CATEGORIES:Lap & Class Pool,Warm Water Pool
END:VEVENT
BEGIN:VEVENT
DTSTART;TZID=America/Chicago:20261214T090000
DTEND;TZID=America/Chicago:20261214T094500
DTSTAMP:20260424T184646
CREATED:20241126T152618Z
LAST-MODIFIED:20250515T162736Z
UID:10900-1797238800-1797241500@riverplex.org
SUMMARY:OSF Arthritis
DESCRIPTION:Exercises are performed in the warm water pool. Entrance to the pool is by steps with handrails or a chair lift. Participants do not need to know how to swim. A Physician Consent form is required. Call 282-1605 to register. Pricing available for 6 week class punch cards. This class is offered several times daily.
URL:http://riverplex.org/event/osf-arthritis/2026-12-14/
LOCATION:Warm Water
CATEGORIES:Warm Water Pool
END:VEVENT
BEGIN:VEVENT
DTSTART;TZID=America/Chicago:20261214T100000
DTEND;TZID=America/Chicago:20261214T104500
DTSTAMP:20260424T184646
CREATED:20241126T152850Z
LAST-MODIFIED:20241126T152850Z
UID:10901-1797242400-1797245100@riverplex.org
SUMMARY:OSF Arthritis
DESCRIPTION:Exercises are performed in the warm water pool. Entrance to the pool is by steps with handrails or a chair lift. Participants do not need to know how to swim. A Physician Consent form is required. Call 282-1605 to register. Pricing available for 6 week class punch cards. This class is offered several times daily.
URL:http://riverplex.org/event/osf-arthritis-2/2026-12-14/
LOCATION:Warm Water
CATEGORIES:Warm Water Pool
END:VEVENT
BEGIN:VEVENT
DTSTART;TZID=America/Chicago:20261215T090000
DTEND;TZID=America/Chicago:20261215T094500
DTSTAMP:20260424T184646
CREATED:20241126T152618Z
LAST-MODIFIED:20250515T162736Z
UID:10920-1797325200-1797327900@riverplex.org
SUMMARY:OSF Arthritis
DESCRIPTION:Exercises are performed in the warm water pool. Entrance to the pool is by steps with handrails or a chair lift. Participants do not need to know how to swim. A Physician Consent form is required. Call 282-1605 to register. Pricing available for 6 week class punch cards. This class is offered several times daily.
URL:http://riverplex.org/event/osf-arthritis/2026-12-15/
LOCATION:Warm Water
CATEGORIES:Warm Water Pool
END:VEVENT
BEGIN:VEVENT
DTSTART;TZID=America/Chicago:20261215T100000
DTEND;TZID=America/Chicago:20261215T104500
DTSTAMP:20260424T184646
CREATED:20241126T152850Z
LAST-MODIFIED:20241126T152850Z
UID:10921-1797328800-1797331500@riverplex.org
SUMMARY:OSF Arthritis
DESCRIPTION:Exercises are performed in the warm water pool. Entrance to the pool is by steps with handrails or a chair lift. Participants do not need to know how to swim. A Physician Consent form is required. Call 282-1605 to register. Pricing available for 6 week class punch cards. This class is offered several times daily.
URL:http://riverplex.org/event/osf-arthritis-2/2026-12-15/
LOCATION:Warm Water
CATEGORIES:Warm Water Pool
END:VEVENT
BEGIN:VEVENT
DTSTART;TZID=America/Chicago:20261215T163000
DTEND;TZID=America/Chicago:20261215T190000
DTSTAMP:20260424T184646
CREATED:20241126T145751Z
LAST-MODIFIED:20241126T145751Z
UID:10918-1797352200-1797361200@riverplex.org
SUMMARY:Swim Lessons
DESCRIPTION:
URL:http://riverplex.org/event/swim-lessons-2/2026-12-15/
LOCATION:Lap & Class Pool
CATEGORIES:Lap & Class Pool,Warm Water Pool
END:VEVENT
BEGIN:VEVENT
DTSTART;TZID=America/Chicago:20261216T090000
DTEND;TZID=America/Chicago:20261216T094500
DTSTAMP:20260424T184646
CREATED:20241126T152618Z
LAST-MODIFIED:20250515T162736Z
UID:10935-1797411600-1797414300@riverplex.org
SUMMARY:OSF Arthritis
DESCRIPTION:Exercises are performed in the warm water pool. Entrance to the pool is by steps with handrails or a chair lift. Participants do not need to know how to swim. A Physician Consent form is required. Call 282-1605 to register. Pricing available for 6 week class punch cards. This class is offered several times daily.
URL:http://riverplex.org/event/osf-arthritis/2026-12-16/
LOCATION:Warm Water
CATEGORIES:Warm Water Pool
END:VEVENT
BEGIN:VEVENT
DTSTART;TZID=America/Chicago:20261216T100000
DTEND;TZID=America/Chicago:20261216T104500
DTSTAMP:20260424T184646
CREATED:20241126T152850Z
LAST-MODIFIED:20241126T152850Z
UID:10936-1797415200-1797417900@riverplex.org
SUMMARY:OSF Arthritis
DESCRIPTION:Exercises are performed in the warm water pool. Entrance to the pool is by steps with handrails or a chair lift. Participants do not need to know how to swim. A Physician Consent form is required. Call 282-1605 to register. Pricing available for 6 week class punch cards. This class is offered several times daily.
URL:http://riverplex.org/event/osf-arthritis-2/2026-12-16/
LOCATION:Warm Water
CATEGORIES:Warm Water Pool
END:VEVENT
BEGIN:VEVENT
DTSTART;TZID=America/Chicago:20261216T130000
DTEND;TZID=America/Chicago:20261216T163000
DTSTAMP:20260424T184646
CREATED:20241126T153252Z
LAST-MODIFIED:20241126T153252Z
UID:10937-1797426000-1797438600@riverplex.org
SUMMARY:OSF Physical Therapy
DESCRIPTION:
URL:http://riverplex.org/event/osf-physical-therapy/2026-12-16/
LOCATION:Warm Water
CATEGORIES:Warm Water Pool
END:VEVENT
END:VCALENDAR