BEGIN:VCALENDAR
VERSION:2.0
PRODID:-//RiverPlex - ECPv6.15.18//NONSGML v1.0//EN
CALSCALE:GREGORIAN
METHOD:PUBLISH
X-ORIGINAL-URL:http://riverplex.org
X-WR-CALDESC:Events for RiverPlex
REFRESH-INTERVAL;VALUE=DURATION:PT1H
X-Robots-Tag:noindex
X-PUBLISHED-TTL:PT1H
BEGIN:VTIMEZONE
TZID:America/Chicago
BEGIN:DAYLIGHT
TZOFFSETFROM:-0600
TZOFFSETTO:-0500
TZNAME:CDT
DTSTART:20250309T080000
END:DAYLIGHT
BEGIN:STANDARD
TZOFFSETFROM:-0500
TZOFFSETTO:-0600
TZNAME:CST
DTSTART:20251102T070000
END:STANDARD
BEGIN:DAYLIGHT
TZOFFSETFROM:-0600
TZOFFSETTO:-0500
TZNAME:CDT
DTSTART:20260308T080000
END:DAYLIGHT
BEGIN:STANDARD
TZOFFSETFROM:-0500
TZOFFSETTO:-0600
TZNAME:CST
DTSTART:20261101T070000
END:STANDARD
BEGIN:DAYLIGHT
TZOFFSETFROM:-0600
TZOFFSETTO:-0500
TZNAME:CDT
DTSTART:20270314T080000
END:DAYLIGHT
BEGIN:STANDARD
TZOFFSETFROM:-0500
TZOFFSETTO:-0600
TZNAME:CST
DTSTART:20271107T070000
END:STANDARD
END:VTIMEZONE
BEGIN:VEVENT
DTSTART;TZID=America/Chicago:20260729T090000
DTEND;TZID=America/Chicago:20260729T094500
DTSTAMP:20260421T091936
CREATED:20241126T152618Z
LAST-MODIFIED:20250515T162711Z
UID:13053-1785315600-1785318300@riverplex.org
SUMMARY:OSF Arthritis
DESCRIPTION:Exercises are performed in the warm water pool. Entrance to the pool is by steps with handrails or a chair lift. Participants do not need to know how to swim. A Physician Consent form is required. Call 282-1605 to register. Pricing available for 6 week class punch cards. This class is offered several times daily.
URL:http://riverplex.org/event/osf-arthritis/2026-07-29/
LOCATION:Warm Water
CATEGORIES:Warm Water Pool
END:VEVENT
BEGIN:VEVENT
DTSTART;TZID=America/Chicago:20260729T100000
DTEND;TZID=America/Chicago:20260729T104500
DTSTAMP:20260421T091936
CREATED:20241126T152850Z
LAST-MODIFIED:20241126T152850Z
UID:13602-1785319200-1785321900@riverplex.org
SUMMARY:OSF Arthritis
DESCRIPTION:Exercises are performed in the warm water pool. Entrance to the pool is by steps with handrails or a chair lift. Participants do not need to know how to swim. A Physician Consent form is required. Call 282-1605 to register. Pricing available for 6 week class punch cards. This class is offered several times daily.
URL:http://riverplex.org/event/osf-arthritis-2/2026-07-29/
LOCATION:Warm Water
CATEGORIES:Warm Water Pool
END:VEVENT
BEGIN:VEVENT
DTSTART;TZID=America/Chicago:20260729T130000
DTEND;TZID=America/Chicago:20260729T163000
DTSTAMP:20260421T091936
CREATED:20241126T153252Z
LAST-MODIFIED:20241126T153252Z
UID:15037-1785330000-1785342600@riverplex.org
SUMMARY:OSF Physical Therapy
DESCRIPTION:
URL:http://riverplex.org/event/osf-physical-therapy/2026-07-29/
LOCATION:Warm Water
CATEGORIES:Warm Water Pool
END:VEVENT
BEGIN:VEVENT
DTSTART;TZID=America/Chicago:20260730T090000
DTEND;TZID=America/Chicago:20260730T094500
DTSTAMP:20260421T091936
CREATED:20241126T152618Z
LAST-MODIFIED:20250515T162711Z
UID:13054-1785402000-1785404700@riverplex.org
SUMMARY:OSF Arthritis
DESCRIPTION:Exercises are performed in the warm water pool. Entrance to the pool is by steps with handrails or a chair lift. Participants do not need to know how to swim. A Physician Consent form is required. Call 282-1605 to register. Pricing available for 6 week class punch cards. This class is offered several times daily.
URL:http://riverplex.org/event/osf-arthritis/2026-07-30/
LOCATION:Warm Water
CATEGORIES:Warm Water Pool
END:VEVENT
BEGIN:VEVENT
DTSTART;TZID=America/Chicago:20260730T100000
DTEND;TZID=America/Chicago:20260730T104500
DTSTAMP:20260421T091936
CREATED:20241126T152850Z
LAST-MODIFIED:20241126T152850Z
UID:13603-1785405600-1785408300@riverplex.org
SUMMARY:OSF Arthritis
DESCRIPTION:Exercises are performed in the warm water pool. Entrance to the pool is by steps with handrails or a chair lift. Participants do not need to know how to swim. A Physician Consent form is required. Call 282-1605 to register. Pricing available for 6 week class punch cards. This class is offered several times daily.
URL:http://riverplex.org/event/osf-arthritis-2/2026-07-30/
LOCATION:Warm Water
CATEGORIES:Warm Water Pool
END:VEVENT
BEGIN:VEVENT
DTSTART;TZID=America/Chicago:20260730T163000
DTEND;TZID=America/Chicago:20260730T190000
DTSTAMP:20260421T091936
CREATED:20241126T145751Z
LAST-MODIFIED:20241203T225045Z
UID:4686-1785429000-1785438000@riverplex.org
SUMMARY:Swim Lessons
DESCRIPTION:
URL:http://riverplex.org/event/swim-lessons-2/2026-07-30/
LOCATION:Lap & Class Pool
CATEGORIES:Lap & Class Pool,Warm Water Pool
END:VEVENT
BEGIN:VEVENT
DTSTART;TZID=America/Chicago:20260731T090000
DTEND;TZID=America/Chicago:20260731T094500
DTSTAMP:20260421T091936
CREATED:20241126T152618Z
LAST-MODIFIED:20250515T162711Z
UID:13055-1785488400-1785491100@riverplex.org
SUMMARY:OSF Arthritis
DESCRIPTION:Exercises are performed in the warm water pool. Entrance to the pool is by steps with handrails or a chair lift. Participants do not need to know how to swim. A Physician Consent form is required. Call 282-1605 to register. Pricing available for 6 week class punch cards. This class is offered several times daily.
URL:http://riverplex.org/event/osf-arthritis/2026-07-31/
LOCATION:Warm Water
CATEGORIES:Warm Water Pool
END:VEVENT
BEGIN:VEVENT
DTSTART;TZID=America/Chicago:20260731T100000
DTEND;TZID=America/Chicago:20260731T104500
DTSTAMP:20260421T091936
CREATED:20241126T152850Z
LAST-MODIFIED:20241126T152850Z
UID:13604-1785492000-1785494700@riverplex.org
SUMMARY:OSF Arthritis
DESCRIPTION:Exercises are performed in the warm water pool. Entrance to the pool is by steps with handrails or a chair lift. Participants do not need to know how to swim. A Physician Consent form is required. Call 282-1605 to register. Pricing available for 6 week class punch cards. This class is offered several times daily.
URL:http://riverplex.org/event/osf-arthritis-2/2026-07-31/
LOCATION:Warm Water
CATEGORIES:Warm Water Pool
END:VEVENT
BEGIN:VEVENT
DTSTART;TZID=America/Chicago:20260731T130000
DTEND;TZID=America/Chicago:20260731T163000
DTSTAMP:20260421T091936
CREATED:20241126T153252Z
LAST-MODIFIED:20241126T153252Z
UID:15038-1785502800-1785515400@riverplex.org
SUMMARY:OSF Physical Therapy
DESCRIPTION:
URL:http://riverplex.org/event/osf-physical-therapy/2026-07-31/
LOCATION:Warm Water
CATEGORIES:Warm Water Pool
END:VEVENT
BEGIN:VEVENT
DTSTART;TZID=America/Chicago:20260803T090000
DTEND;TZID=America/Chicago:20260803T094500
DTSTAMP:20260421T091936
CREATED:20241126T152618Z
LAST-MODIFIED:20250515T162713Z
UID:13056-1785747600-1785750300@riverplex.org
SUMMARY:OSF Arthritis
DESCRIPTION:Exercises are performed in the warm water pool. Entrance to the pool is by steps with handrails or a chair lift. Participants do not need to know how to swim. A Physician Consent form is required. Call 282-1605 to register. Pricing available for 6 week class punch cards. This class is offered several times daily.
URL:http://riverplex.org/event/osf-arthritis/2026-08-03/
LOCATION:Warm Water
CATEGORIES:Warm Water Pool
END:VEVENT
BEGIN:VEVENT
DTSTART;TZID=America/Chicago:20260803T100000
DTEND;TZID=America/Chicago:20260803T104500
DTSTAMP:20260421T091936
CREATED:20241126T152850Z
LAST-MODIFIED:20241126T152850Z
UID:13605-1785751200-1785753900@riverplex.org
SUMMARY:OSF Arthritis
DESCRIPTION:Exercises are performed in the warm water pool. Entrance to the pool is by steps with handrails or a chair lift. Participants do not need to know how to swim. A Physician Consent form is required. Call 282-1605 to register. Pricing available for 6 week class punch cards. This class is offered several times daily.
URL:http://riverplex.org/event/osf-arthritis-2/2026-08-03/
LOCATION:Warm Water
CATEGORIES:Warm Water Pool
END:VEVENT
BEGIN:VEVENT
DTSTART;TZID=America/Chicago:20260804T090000
DTEND;TZID=America/Chicago:20260804T094500
DTSTAMP:20260421T091936
CREATED:20241126T152618Z
LAST-MODIFIED:20250515T162713Z
UID:13057-1785834000-1785836700@riverplex.org
SUMMARY:OSF Arthritis
DESCRIPTION:Exercises are performed in the warm water pool. Entrance to the pool is by steps with handrails or a chair lift. Participants do not need to know how to swim. A Physician Consent form is required. Call 282-1605 to register. Pricing available for 6 week class punch cards. This class is offered several times daily.
URL:http://riverplex.org/event/osf-arthritis/2026-08-04/
LOCATION:Warm Water
CATEGORIES:Warm Water Pool
END:VEVENT
BEGIN:VEVENT
DTSTART;TZID=America/Chicago:20260804T100000
DTEND;TZID=America/Chicago:20260804T104500
DTSTAMP:20260421T091936
CREATED:20241126T152850Z
LAST-MODIFIED:20241126T152850Z
UID:13606-1785837600-1785840300@riverplex.org
SUMMARY:OSF Arthritis
DESCRIPTION:Exercises are performed in the warm water pool. Entrance to the pool is by steps with handrails or a chair lift. Participants do not need to know how to swim. A Physician Consent form is required. Call 282-1605 to register. Pricing available for 6 week class punch cards. This class is offered several times daily.
URL:http://riverplex.org/event/osf-arthritis-2/2026-08-04/
LOCATION:Warm Water
CATEGORIES:Warm Water Pool
END:VEVENT
BEGIN:VEVENT
DTSTART;TZID=America/Chicago:20260804T163000
DTEND;TZID=America/Chicago:20260804T190000
DTSTAMP:20260421T091936
CREATED:20241126T145751Z
LAST-MODIFIED:20241203T225045Z
UID:4687-1785861000-1785870000@riverplex.org
SUMMARY:Swim Lessons
DESCRIPTION:
URL:http://riverplex.org/event/swim-lessons-2/2026-08-04/
LOCATION:Lap & Class Pool
CATEGORIES:Lap & Class Pool,Warm Water Pool
END:VEVENT
BEGIN:VEVENT
DTSTART;TZID=America/Chicago:20260805T090000
DTEND;TZID=America/Chicago:20260805T094500
DTSTAMP:20260421T091936
CREATED:20241126T152618Z
LAST-MODIFIED:20250515T162713Z
UID:13058-1785920400-1785923100@riverplex.org
SUMMARY:OSF Arthritis
DESCRIPTION:Exercises are performed in the warm water pool. Entrance to the pool is by steps with handrails or a chair lift. Participants do not need to know how to swim. A Physician Consent form is required. Call 282-1605 to register. Pricing available for 6 week class punch cards. This class is offered several times daily.
URL:http://riverplex.org/event/osf-arthritis/2026-08-05/
LOCATION:Warm Water
CATEGORIES:Warm Water Pool
END:VEVENT
BEGIN:VEVENT
DTSTART;TZID=America/Chicago:20260805T100000
DTEND;TZID=America/Chicago:20260805T104500
DTSTAMP:20260421T091936
CREATED:20241126T152850Z
LAST-MODIFIED:20241126T152850Z
UID:13607-1785924000-1785926700@riverplex.org
SUMMARY:OSF Arthritis
DESCRIPTION:Exercises are performed in the warm water pool. Entrance to the pool is by steps with handrails or a chair lift. Participants do not need to know how to swim. A Physician Consent form is required. Call 282-1605 to register. Pricing available for 6 week class punch cards. This class is offered several times daily.
URL:http://riverplex.org/event/osf-arthritis-2/2026-08-05/
LOCATION:Warm Water
CATEGORIES:Warm Water Pool
END:VEVENT
BEGIN:VEVENT
DTSTART;TZID=America/Chicago:20260805T130000
DTEND;TZID=America/Chicago:20260805T163000
DTSTAMP:20260421T091936
CREATED:20241126T153252Z
LAST-MODIFIED:20241126T153252Z
UID:15039-1785934800-1785947400@riverplex.org
SUMMARY:OSF Physical Therapy
DESCRIPTION:
URL:http://riverplex.org/event/osf-physical-therapy/2026-08-05/
LOCATION:Warm Water
CATEGORIES:Warm Water Pool
END:VEVENT
BEGIN:VEVENT
DTSTART;TZID=America/Chicago:20260806T090000
DTEND;TZID=America/Chicago:20260806T094500
DTSTAMP:20260421T091936
CREATED:20241126T152618Z
LAST-MODIFIED:20250515T162713Z
UID:13059-1786006800-1786009500@riverplex.org
SUMMARY:OSF Arthritis
DESCRIPTION:Exercises are performed in the warm water pool. Entrance to the pool is by steps with handrails or a chair lift. Participants do not need to know how to swim. A Physician Consent form is required. Call 282-1605 to register. Pricing available for 6 week class punch cards. This class is offered several times daily.
URL:http://riverplex.org/event/osf-arthritis/2026-08-06/
LOCATION:Warm Water
CATEGORIES:Warm Water Pool
END:VEVENT
BEGIN:VEVENT
DTSTART;TZID=America/Chicago:20260806T100000
DTEND;TZID=America/Chicago:20260806T104500
DTSTAMP:20260421T091936
CREATED:20241126T152850Z
LAST-MODIFIED:20241126T152850Z
UID:13608-1786010400-1786013100@riverplex.org
SUMMARY:OSF Arthritis
DESCRIPTION:Exercises are performed in the warm water pool. Entrance to the pool is by steps with handrails or a chair lift. Participants do not need to know how to swim. A Physician Consent form is required. Call 282-1605 to register. Pricing available for 6 week class punch cards. This class is offered several times daily.
URL:http://riverplex.org/event/osf-arthritis-2/2026-08-06/
LOCATION:Warm Water
CATEGORIES:Warm Water Pool
END:VEVENT
BEGIN:VEVENT
DTSTART;TZID=America/Chicago:20260806T163000
DTEND;TZID=America/Chicago:20260806T190000
DTSTAMP:20260421T091936
CREATED:20241126T145751Z
LAST-MODIFIED:20241203T225045Z
UID:4688-1786033800-1786042800@riverplex.org
SUMMARY:Swim Lessons
DESCRIPTION:
URL:http://riverplex.org/event/swim-lessons-2/2026-08-06/
LOCATION:Lap & Class Pool
CATEGORIES:Lap & Class Pool,Warm Water Pool
END:VEVENT
BEGIN:VEVENT
DTSTART;TZID=America/Chicago:20260807T090000
DTEND;TZID=America/Chicago:20260807T094500
DTSTAMP:20260421T091936
CREATED:20241126T152618Z
LAST-MODIFIED:20250515T162714Z
UID:13060-1786093200-1786095900@riverplex.org
SUMMARY:OSF Arthritis
DESCRIPTION:Exercises are performed in the warm water pool. Entrance to the pool is by steps with handrails or a chair lift. Participants do not need to know how to swim. A Physician Consent form is required. Call 282-1605 to register. Pricing available for 6 week class punch cards. This class is offered several times daily.
URL:http://riverplex.org/event/osf-arthritis/2026-08-07/
LOCATION:Warm Water
CATEGORIES:Warm Water Pool
END:VEVENT
BEGIN:VEVENT
DTSTART;TZID=America/Chicago:20260807T100000
DTEND;TZID=America/Chicago:20260807T104500
DTSTAMP:20260421T091936
CREATED:20241126T152850Z
LAST-MODIFIED:20241126T152850Z
UID:13609-1786096800-1786099500@riverplex.org
SUMMARY:OSF Arthritis
DESCRIPTION:Exercises are performed in the warm water pool. Entrance to the pool is by steps with handrails or a chair lift. Participants do not need to know how to swim. A Physician Consent form is required. Call 282-1605 to register. Pricing available for 6 week class punch cards. This class is offered several times daily.
URL:http://riverplex.org/event/osf-arthritis-2/2026-08-07/
LOCATION:Warm Water
CATEGORIES:Warm Water Pool
END:VEVENT
BEGIN:VEVENT
DTSTART;TZID=America/Chicago:20260807T130000
DTEND;TZID=America/Chicago:20260807T163000
DTSTAMP:20260421T091936
CREATED:20241126T153252Z
LAST-MODIFIED:20241126T153252Z
UID:15040-1786107600-1786120200@riverplex.org
SUMMARY:OSF Physical Therapy
DESCRIPTION:
URL:http://riverplex.org/event/osf-physical-therapy/2026-08-07/
LOCATION:Warm Water
CATEGORIES:Warm Water Pool
END:VEVENT
BEGIN:VEVENT
DTSTART;TZID=America/Chicago:20260810T090000
DTEND;TZID=America/Chicago:20260810T094500
DTSTAMP:20260421T091936
CREATED:20241126T152618Z
LAST-MODIFIED:20250515T162714Z
UID:13061-1786352400-1786355100@riverplex.org
SUMMARY:OSF Arthritis
DESCRIPTION:Exercises are performed in the warm water pool. Entrance to the pool is by steps with handrails or a chair lift. Participants do not need to know how to swim. A Physician Consent form is required. Call 282-1605 to register. Pricing available for 6 week class punch cards. This class is offered several times daily.
URL:http://riverplex.org/event/osf-arthritis/2026-08-10/
LOCATION:Warm Water
CATEGORIES:Warm Water Pool
END:VEVENT
BEGIN:VEVENT
DTSTART;TZID=America/Chicago:20260810T100000
DTEND;TZID=America/Chicago:20260810T104500
DTSTAMP:20260421T091936
CREATED:20241126T152850Z
LAST-MODIFIED:20241126T152850Z
UID:13610-1786356000-1786358700@riverplex.org
SUMMARY:OSF Arthritis
DESCRIPTION:Exercises are performed in the warm water pool. Entrance to the pool is by steps with handrails or a chair lift. Participants do not need to know how to swim. A Physician Consent form is required. Call 282-1605 to register. Pricing available for 6 week class punch cards. This class is offered several times daily.
URL:http://riverplex.org/event/osf-arthritis-2/2026-08-10/
LOCATION:Warm Water
CATEGORIES:Warm Water Pool
END:VEVENT
BEGIN:VEVENT
DTSTART;TZID=America/Chicago:20260811T090000
DTEND;TZID=America/Chicago:20260811T094500
DTSTAMP:20260421T091936
CREATED:20241126T152618Z
LAST-MODIFIED:20250515T162714Z
UID:13062-1786438800-1786441500@riverplex.org
SUMMARY:OSF Arthritis
DESCRIPTION:Exercises are performed in the warm water pool. Entrance to the pool is by steps with handrails or a chair lift. Participants do not need to know how to swim. A Physician Consent form is required. Call 282-1605 to register. Pricing available for 6 week class punch cards. This class is offered several times daily.
URL:http://riverplex.org/event/osf-arthritis/2026-08-11/
LOCATION:Warm Water
CATEGORIES:Warm Water Pool
END:VEVENT
BEGIN:VEVENT
DTSTART;TZID=America/Chicago:20260811T100000
DTEND;TZID=America/Chicago:20260811T104500
DTSTAMP:20260421T091936
CREATED:20241126T152850Z
LAST-MODIFIED:20241126T152850Z
UID:13611-1786442400-1786445100@riverplex.org
SUMMARY:OSF Arthritis
DESCRIPTION:Exercises are performed in the warm water pool. Entrance to the pool is by steps with handrails or a chair lift. Participants do not need to know how to swim. A Physician Consent form is required. Call 282-1605 to register. Pricing available for 6 week class punch cards. This class is offered several times daily.
URL:http://riverplex.org/event/osf-arthritis-2/2026-08-11/
LOCATION:Warm Water
CATEGORIES:Warm Water Pool
END:VEVENT
BEGIN:VEVENT
DTSTART;TZID=America/Chicago:20260811T163000
DTEND;TZID=America/Chicago:20260811T190000
DTSTAMP:20260421T091936
CREATED:20241126T145751Z
LAST-MODIFIED:20241203T225045Z
UID:4689-1786465800-1786474800@riverplex.org
SUMMARY:Swim Lessons
DESCRIPTION:
URL:http://riverplex.org/event/swim-lessons-2/2026-08-11/
LOCATION:Lap & Class Pool
CATEGORIES:Lap & Class Pool,Warm Water Pool
END:VEVENT
BEGIN:VEVENT
DTSTART;TZID=America/Chicago:20260812T090000
DTEND;TZID=America/Chicago:20260812T094500
DTSTAMP:20260421T091936
CREATED:20241126T152618Z
LAST-MODIFIED:20250515T162714Z
UID:13063-1786525200-1786527900@riverplex.org
SUMMARY:OSF Arthritis
DESCRIPTION:Exercises are performed in the warm water pool. Entrance to the pool is by steps with handrails or a chair lift. Participants do not need to know how to swim. A Physician Consent form is required. Call 282-1605 to register. Pricing available for 6 week class punch cards. This class is offered several times daily.
URL:http://riverplex.org/event/osf-arthritis/2026-08-12/
LOCATION:Warm Water
CATEGORIES:Warm Water Pool
END:VEVENT
BEGIN:VEVENT
DTSTART;TZID=America/Chicago:20260812T100000
DTEND;TZID=America/Chicago:20260812T104500
DTSTAMP:20260421T091936
CREATED:20241126T152850Z
LAST-MODIFIED:20241126T152850Z
UID:13612-1786528800-1786531500@riverplex.org
SUMMARY:OSF Arthritis
DESCRIPTION:Exercises are performed in the warm water pool. Entrance to the pool is by steps with handrails or a chair lift. Participants do not need to know how to swim. A Physician Consent form is required. Call 282-1605 to register. Pricing available for 6 week class punch cards. This class is offered several times daily.
URL:http://riverplex.org/event/osf-arthritis-2/2026-08-12/
LOCATION:Warm Water
CATEGORIES:Warm Water Pool
END:VEVENT
END:VCALENDAR