BEGIN:VCALENDAR
VERSION:2.0
PRODID:-//RiverPlex - ECPv6.15.18//NONSGML v1.0//EN
CALSCALE:GREGORIAN
METHOD:PUBLISH
X-WR-CALNAME:RiverPlex
X-ORIGINAL-URL:http://riverplex.org
X-WR-CALDESC:Events for RiverPlex
REFRESH-INTERVAL;VALUE=DURATION:PT1H
X-Robots-Tag:noindex
X-PUBLISHED-TTL:PT1H
BEGIN:VTIMEZONE
TZID:America/Chicago
BEGIN:DAYLIGHT
TZOFFSETFROM:-0600
TZOFFSETTO:-0500
TZNAME:CDT
DTSTART:20260308T080000
END:DAYLIGHT
BEGIN:STANDARD
TZOFFSETFROM:-0500
TZOFFSETTO:-0600
TZNAME:CST
DTSTART:20261101T070000
END:STANDARD
BEGIN:DAYLIGHT
TZOFFSETFROM:-0600
TZOFFSETTO:-0500
TZNAME:CDT
DTSTART:20270314T080000
END:DAYLIGHT
BEGIN:STANDARD
TZOFFSETFROM:-0500
TZOFFSETTO:-0600
TZNAME:CST
DTSTART:20271107T070000
END:STANDARD
BEGIN:DAYLIGHT
TZOFFSETFROM:-0600
TZOFFSETTO:-0500
TZNAME:CDT
DTSTART:20280312T080000
END:DAYLIGHT
BEGIN:STANDARD
TZOFFSETFROM:-0500
TZOFFSETTO:-0600
TZNAME:CST
DTSTART:20281105T070000
END:STANDARD
END:VTIMEZONE
BEGIN:VEVENT
DTSTART;TZID=America/Chicago:20270329T060000
DTEND;TZID=America/Chicago:20270329T070000
DTSTAMP:20260424T213949
CREATED:20241120T073018Z
LAST-MODIFIED:20241120T073018Z
UID:21666-1806300000-1806303600@riverplex.org
SUMMARY:Les Mills: Body Pump
DESCRIPTION:Get on the fast track to a strong and toned body! Les Mills Body Pump utilizes barbell weights and awesome music. This class is perfect for men and women of any fitness level. You don’t want to miss this class!
URL:http://riverplex.org/event/les-mills-body-pump/2027-03-29/
LOCATION:Members Gym
CATEGORIES:Land Group Exercise
END:VEVENT
BEGIN:VEVENT
DTSTART;TZID=America/Chicago:20270402T060000
DTEND;TZID=America/Chicago:20270402T070000
DTSTAMP:20260424T213949
CREATED:20241120T073018Z
LAST-MODIFIED:20241120T073018Z
UID:21736-1806645600-1806649200@riverplex.org
SUMMARY:Les Mills: Body Pump
DESCRIPTION:Get on the fast track to a strong and toned body! Les Mills Body Pump utilizes barbell weights and awesome music. This class is perfect for men and women of any fitness level. You don’t want to miss this class!
URL:http://riverplex.org/event/les-mills-body-pump/2027-04-02/
LOCATION:Members Gym
CATEGORIES:Land Group Exercise
END:VEVENT
BEGIN:VEVENT
DTSTART;TZID=America/Chicago:20270405T060000
DTEND;TZID=America/Chicago:20270405T070000
DTSTAMP:20260424T213949
CREATED:20241120T073018Z
LAST-MODIFIED:20241120T073018Z
UID:21759-1806904800-1806908400@riverplex.org
SUMMARY:Les Mills: Body Pump
DESCRIPTION:Get on the fast track to a strong and toned body! Les Mills Body Pump utilizes barbell weights and awesome music. This class is perfect for men and women of any fitness level. You don’t want to miss this class!
URL:http://riverplex.org/event/les-mills-body-pump/2027-04-05/
LOCATION:Members Gym
CATEGORIES:Land Group Exercise
END:VEVENT
BEGIN:VEVENT
DTSTART;TZID=America/Chicago:20270409T060000
DTEND;TZID=America/Chicago:20270409T070000
DTSTAMP:20260424T213949
CREATED:20241120T073018Z
LAST-MODIFIED:20241120T073018Z
UID:21822-1807250400-1807254000@riverplex.org
SUMMARY:Les Mills: Body Pump
DESCRIPTION:Get on the fast track to a strong and toned body! Les Mills Body Pump utilizes barbell weights and awesome music. This class is perfect for men and women of any fitness level. You don’t want to miss this class!
URL:http://riverplex.org/event/les-mills-body-pump/2027-04-09/
LOCATION:Members Gym
CATEGORIES:Land Group Exercise
END:VEVENT
BEGIN:VEVENT
DTSTART;TZID=America/Chicago:20270412T060000
DTEND;TZID=America/Chicago:20270412T070000
DTSTAMP:20260424T213949
CREATED:20241120T073018Z
LAST-MODIFIED:20241120T073018Z
UID:21859-1807509600-1807513200@riverplex.org
SUMMARY:Les Mills: Body Pump
DESCRIPTION:Get on the fast track to a strong and toned body! Les Mills Body Pump utilizes barbell weights and awesome music. This class is perfect for men and women of any fitness level. You don’t want to miss this class!
URL:http://riverplex.org/event/les-mills-body-pump/2027-04-12/
LOCATION:Members Gym
CATEGORIES:Land Group Exercise
END:VEVENT
BEGIN:VEVENT
DTSTART;TZID=America/Chicago:20270416T060000
DTEND;TZID=America/Chicago:20270416T070000
DTSTAMP:20260424T213949
CREATED:20241120T073018Z
LAST-MODIFIED:20241120T073018Z
UID:21919-1807855200-1807858800@riverplex.org
SUMMARY:Les Mills: Body Pump
DESCRIPTION:Get on the fast track to a strong and toned body! Les Mills Body Pump utilizes barbell weights and awesome music. This class is perfect for men and women of any fitness level. You don’t want to miss this class!
URL:http://riverplex.org/event/les-mills-body-pump/2027-04-16/
LOCATION:Members Gym
CATEGORIES:Land Group Exercise
END:VEVENT
BEGIN:VEVENT
DTSTART;TZID=America/Chicago:20270419T060000
DTEND;TZID=America/Chicago:20270419T070000
DTSTAMP:20260424T213949
CREATED:20241120T073018Z
LAST-MODIFIED:20241120T073018Z
UID:21941-1808114400-1808118000@riverplex.org
SUMMARY:Les Mills: Body Pump
DESCRIPTION:Get on the fast track to a strong and toned body! Les Mills Body Pump utilizes barbell weights and awesome music. This class is perfect for men and women of any fitness level. You don’t want to miss this class!
URL:http://riverplex.org/event/les-mills-body-pump/2027-04-19/
LOCATION:Members Gym
CATEGORIES:Land Group Exercise
END:VEVENT
BEGIN:VEVENT
DTSTART;TZID=America/Chicago:20270423T060000
DTEND;TZID=America/Chicago:20270423T070000
DTSTAMP:20260424T213949
CREATED:20241120T073018Z
LAST-MODIFIED:20241120T073018Z
UID:22162-1808460000-1808463600@riverplex.org
SUMMARY:Les Mills: Body Pump
DESCRIPTION:Get on the fast track to a strong and toned body! Les Mills Body Pump utilizes barbell weights and awesome music. This class is perfect for men and women of any fitness level. You don’t want to miss this class!
URL:http://riverplex.org/event/les-mills-body-pump/2027-04-23/
LOCATION:Members Gym
CATEGORIES:Land Group Exercise
END:VEVENT
BEGIN:VEVENT
DTSTART;TZID=America/Chicago:20270426T060000
DTEND;TZID=America/Chicago:20270426T070000
DTSTAMP:20260424T213949
CREATED:20241120T073018Z
LAST-MODIFIED:20241120T073018Z
UID:22183-1808719200-1808722800@riverplex.org
SUMMARY:Les Mills: Body Pump
DESCRIPTION:Get on the fast track to a strong and toned body! Les Mills Body Pump utilizes barbell weights and awesome music. This class is perfect for men and women of any fitness level. You don’t want to miss this class!
URL:http://riverplex.org/event/les-mills-body-pump/2027-04-26/
LOCATION:Members Gym
CATEGORIES:Land Group Exercise
END:VEVENT
BEGIN:VEVENT
DTSTART;TZID=America/Chicago:20270430T060000
DTEND;TZID=America/Chicago:20270430T070000
DTSTAMP:20260424T213949
CREATED:20241120T073018Z
LAST-MODIFIED:20241120T073018Z
UID:22243-1809064800-1809068400@riverplex.org
SUMMARY:Les Mills: Body Pump
DESCRIPTION:Get on the fast track to a strong and toned body! Les Mills Body Pump utilizes barbell weights and awesome music. This class is perfect for men and women of any fitness level. You don’t want to miss this class!
URL:http://riverplex.org/event/les-mills-body-pump/2027-04-30/
LOCATION:Members Gym
CATEGORIES:Land Group Exercise
END:VEVENT
BEGIN:VEVENT
DTSTART;TZID=America/Chicago:20270503T060000
DTEND;TZID=America/Chicago:20270503T070000
DTSTAMP:20260424T213949
CREATED:20241120T073018Z
LAST-MODIFIED:20241120T073018Z
UID:22264-1809324000-1809327600@riverplex.org
SUMMARY:Les Mills: Body Pump
DESCRIPTION:Get on the fast track to a strong and toned body! Les Mills Body Pump utilizes barbell weights and awesome music. This class is perfect for men and women of any fitness level. You don’t want to miss this class!
URL:http://riverplex.org/event/les-mills-body-pump/2027-05-03/
LOCATION:Members Gym
CATEGORIES:Land Group Exercise
END:VEVENT
BEGIN:VEVENT
DTSTART;TZID=America/Chicago:20270507T060000
DTEND;TZID=America/Chicago:20270507T070000
DTSTAMP:20260424T213949
CREATED:20241120T073018Z
LAST-MODIFIED:20241120T073018Z
UID:22324-1809669600-1809673200@riverplex.org
SUMMARY:Les Mills: Body Pump
DESCRIPTION:Get on the fast track to a strong and toned body! Les Mills Body Pump utilizes barbell weights and awesome music. This class is perfect for men and women of any fitness level. You don’t want to miss this class!
URL:http://riverplex.org/event/les-mills-body-pump/2027-05-07/
LOCATION:Members Gym
CATEGORIES:Land Group Exercise
END:VEVENT
BEGIN:VEVENT
DTSTART;TZID=America/Chicago:20270510T060000
DTEND;TZID=America/Chicago:20270510T070000
DTSTAMP:20260424T213949
CREATED:20241120T073018Z
LAST-MODIFIED:20241120T073018Z
UID:22398-1809928800-1809932400@riverplex.org
SUMMARY:Les Mills: Body Pump
DESCRIPTION:Get on the fast track to a strong and toned body! Les Mills Body Pump utilizes barbell weights and awesome music. This class is perfect for men and women of any fitness level. You don’t want to miss this class!
URL:http://riverplex.org/event/les-mills-body-pump/2027-05-10/
LOCATION:Members Gym
CATEGORIES:Land Group Exercise
END:VEVENT
BEGIN:VEVENT
DTSTART;TZID=America/Chicago:20270514T060000
DTEND;TZID=America/Chicago:20270514T070000
DTSTAMP:20260424T213949
CREATED:20241120T073018Z
LAST-MODIFIED:20241120T073018Z
UID:22459-1810274400-1810278000@riverplex.org
SUMMARY:Les Mills: Body Pump
DESCRIPTION:Get on the fast track to a strong and toned body! Les Mills Body Pump utilizes barbell weights and awesome music. This class is perfect for men and women of any fitness level. You don’t want to miss this class!
URL:http://riverplex.org/event/les-mills-body-pump/2027-05-14/
LOCATION:Members Gym
CATEGORIES:Land Group Exercise
END:VEVENT
BEGIN:VEVENT
DTSTART;TZID=America/Chicago:20270517T060000
DTEND;TZID=America/Chicago:20270517T070000
DTSTAMP:20260424T213949
CREATED:20241120T073018Z
LAST-MODIFIED:20241120T073018Z
UID:23999-1810533600-1810537200@riverplex.org
SUMMARY:Les Mills: Body Pump
DESCRIPTION:Get on the fast track to a strong and toned body! Les Mills Body Pump utilizes barbell weights and awesome music. This class is perfect for men and women of any fitness level. You don’t want to miss this class!
URL:http://riverplex.org/event/les-mills-body-pump/2027-05-17/
LOCATION:Members Gym
CATEGORIES:Land Group Exercise
END:VEVENT
BEGIN:VEVENT
DTSTART;TZID=America/Chicago:20270521T060000
DTEND;TZID=America/Chicago:20270521T070000
DTSTAMP:20260424T213949
CREATED:20241120T073018Z
LAST-MODIFIED:20241120T073018Z
UID:24052-1810879200-1810882800@riverplex.org
SUMMARY:Les Mills: Body Pump
DESCRIPTION:Get on the fast track to a strong and toned body! Les Mills Body Pump utilizes barbell weights and awesome music. This class is perfect for men and women of any fitness level. You don’t want to miss this class!
URL:http://riverplex.org/event/les-mills-body-pump/2027-05-21/
LOCATION:Members Gym
CATEGORIES:Land Group Exercise
END:VEVENT
BEGIN:VEVENT
DTSTART;TZID=America/Chicago:20270524T060000
DTEND;TZID=America/Chicago:20270524T070000
DTSTAMP:20260424T213949
CREATED:20241120T073018Z
LAST-MODIFIED:20241120T073018Z
UID:24072-1811138400-1811142000@riverplex.org
SUMMARY:Les Mills: Body Pump
DESCRIPTION:Get on the fast track to a strong and toned body! Les Mills Body Pump utilizes barbell weights and awesome music. This class is perfect for men and women of any fitness level. You don’t want to miss this class!
URL:http://riverplex.org/event/les-mills-body-pump/2027-05-24/
LOCATION:Members Gym
CATEGORIES:Land Group Exercise
END:VEVENT
BEGIN:VEVENT
DTSTART;TZID=America/Chicago:20270528T060000
DTEND;TZID=America/Chicago:20270528T070000
DTSTAMP:20260424T213949
CREATED:20241120T073018Z
LAST-MODIFIED:20241120T073018Z
UID:24557-1811484000-1811487600@riverplex.org
SUMMARY:Les Mills: Body Pump
DESCRIPTION:Get on the fast track to a strong and toned body! Les Mills Body Pump utilizes barbell weights and awesome music. This class is perfect for men and women of any fitness level. You don’t want to miss this class!
URL:http://riverplex.org/event/les-mills-body-pump/2027-05-28/
LOCATION:Members Gym
CATEGORIES:Land Group Exercise
END:VEVENT
BEGIN:VEVENT
DTSTART;TZID=America/Chicago:20270531T060000
DTEND;TZID=America/Chicago:20270531T070000
DTSTAMP:20260424T213949
CREATED:20241120T073018Z
LAST-MODIFIED:20241120T073018Z
UID:25079-1811743200-1811746800@riverplex.org
SUMMARY:Les Mills: Body Pump
DESCRIPTION:Get on the fast track to a strong and toned body! Les Mills Body Pump utilizes barbell weights and awesome music. This class is perfect for men and women of any fitness level. You don’t want to miss this class!
URL:http://riverplex.org/event/les-mills-body-pump/2027-05-31/
LOCATION:Members Gym
CATEGORIES:Land Group Exercise
END:VEVENT
BEGIN:VEVENT
DTSTART;TZID=America/Chicago:20270604T060000
DTEND;TZID=America/Chicago:20270604T070000
DTSTAMP:20260424T213949
CREATED:20241120T073018Z
LAST-MODIFIED:20241120T073018Z
UID:25136-1812088800-1812092400@riverplex.org
SUMMARY:Les Mills: Body Pump
DESCRIPTION:Get on the fast track to a strong and toned body! Les Mills Body Pump utilizes barbell weights and awesome music. This class is perfect for men and women of any fitness level. You don’t want to miss this class!
URL:http://riverplex.org/event/les-mills-body-pump/2027-06-04/
LOCATION:Members Gym
CATEGORIES:Land Group Exercise
END:VEVENT
BEGIN:VEVENT
DTSTART;TZID=America/Chicago:20270607T060000
DTEND;TZID=America/Chicago:20270607T070000
DTSTAMP:20260424T213949
CREATED:20241120T073018Z
LAST-MODIFIED:20241120T073018Z
UID:25155-1812348000-1812351600@riverplex.org
SUMMARY:Les Mills: Body Pump
DESCRIPTION:Get on the fast track to a strong and toned body! Les Mills Body Pump utilizes barbell weights and awesome music. This class is perfect for men and women of any fitness level. You don’t want to miss this class!
URL:http://riverplex.org/event/les-mills-body-pump/2027-06-07/
LOCATION:Members Gym
CATEGORIES:Land Group Exercise
END:VEVENT
BEGIN:VEVENT
DTSTART;TZID=America/Chicago:20270611T060000
DTEND;TZID=America/Chicago:20270611T070000
DTSTAMP:20260424T213949
CREATED:20241120T073018Z
LAST-MODIFIED:20241120T073018Z
UID:25209-1812693600-1812697200@riverplex.org
SUMMARY:Les Mills: Body Pump
DESCRIPTION:Get on the fast track to a strong and toned body! Les Mills Body Pump utilizes barbell weights and awesome music. This class is perfect for men and women of any fitness level. You don’t want to miss this class!
URL:http://riverplex.org/event/les-mills-body-pump/2027-06-11/
LOCATION:Members Gym
CATEGORIES:Land Group Exercise
END:VEVENT
BEGIN:VEVENT
DTSTART;TZID=America/Chicago:20270614T060000
DTEND;TZID=America/Chicago:20270614T070000
DTSTAMP:20260424T213949
CREATED:20241120T073018Z
LAST-MODIFIED:20241120T073018Z
UID:25228-1812952800-1812956400@riverplex.org
SUMMARY:Les Mills: Body Pump
DESCRIPTION:Get on the fast track to a strong and toned body! Les Mills Body Pump utilizes barbell weights and awesome music. This class is perfect for men and women of any fitness level. You don’t want to miss this class!
URL:http://riverplex.org/event/les-mills-body-pump/2027-06-14/
LOCATION:Members Gym
CATEGORIES:Land Group Exercise
END:VEVENT
BEGIN:VEVENT
DTSTART;TZID=America/Chicago:20270618T060000
DTEND;TZID=America/Chicago:20270618T070000
DTSTAMP:20260424T213949
CREATED:20241120T073018Z
LAST-MODIFIED:20241120T073018Z
UID:26096-1813298400-1813302000@riverplex.org
SUMMARY:Les Mills: Body Pump
DESCRIPTION:Get on the fast track to a strong and toned body! Les Mills Body Pump utilizes barbell weights and awesome music. This class is perfect for men and women of any fitness level. You don’t want to miss this class!
URL:http://riverplex.org/event/les-mills-body-pump/2027-06-18/
LOCATION:Members Gym
CATEGORIES:Land Group Exercise
END:VEVENT
BEGIN:VEVENT
DTSTART;TZID=America/Chicago:20270621T060000
DTEND;TZID=America/Chicago:20270621T070000
DTSTAMP:20260424T213949
CREATED:20241120T073018Z
LAST-MODIFIED:20241120T073018Z
UID:26114-1813557600-1813561200@riverplex.org
SUMMARY:Les Mills: Body Pump
DESCRIPTION:Get on the fast track to a strong and toned body! Les Mills Body Pump utilizes barbell weights and awesome music. This class is perfect for men and women of any fitness level. You don’t want to miss this class!
URL:http://riverplex.org/event/les-mills-body-pump/2027-06-21/
LOCATION:Members Gym
CATEGORIES:Land Group Exercise
END:VEVENT
BEGIN:VEVENT
DTSTART;TZID=America/Chicago:20270625T060000
DTEND;TZID=America/Chicago:20270625T070000
DTSTAMP:20260424T213949
CREATED:20241120T073018Z
LAST-MODIFIED:20241120T073018Z
UID:26908-1813903200-1813906800@riverplex.org
SUMMARY:Les Mills: Body Pump
DESCRIPTION:Get on the fast track to a strong and toned body! Les Mills Body Pump utilizes barbell weights and awesome music. This class is perfect for men and women of any fitness level. You don’t want to miss this class!
URL:http://riverplex.org/event/les-mills-body-pump/2027-06-25/
LOCATION:Members Gym
CATEGORIES:Land Group Exercise
END:VEVENT
BEGIN:VEVENT
DTSTART;TZID=America/Chicago:20270628T060000
DTEND;TZID=America/Chicago:20270628T070000
DTSTAMP:20260424T213949
CREATED:20241120T073018Z
LAST-MODIFIED:20241120T073018Z
UID:26977-1814162400-1814166000@riverplex.org
SUMMARY:Les Mills: Body Pump
DESCRIPTION:Get on the fast track to a strong and toned body! Les Mills Body Pump utilizes barbell weights and awesome music. This class is perfect for men and women of any fitness level. You don’t want to miss this class!
URL:http://riverplex.org/event/les-mills-body-pump/2027-06-28/
LOCATION:Members Gym
CATEGORIES:Land Group Exercise
END:VEVENT
BEGIN:VEVENT
DTSTART;TZID=America/Chicago:20270702T060000
DTEND;TZID=America/Chicago:20270702T070000
DTSTAMP:20260424T213949
CREATED:20241120T073018Z
LAST-MODIFIED:20241120T073018Z
UID:27137-1814508000-1814511600@riverplex.org
SUMMARY:Les Mills: Body Pump
DESCRIPTION:Get on the fast track to a strong and toned body! Les Mills Body Pump utilizes barbell weights and awesome music. This class is perfect for men and women of any fitness level. You don’t want to miss this class!
URL:http://riverplex.org/event/les-mills-body-pump/2027-07-02/
LOCATION:Members Gym
CATEGORIES:Land Group Exercise
END:VEVENT
BEGIN:VEVENT
DTSTART;TZID=America/Chicago:20270705T060000
DTEND;TZID=America/Chicago:20270705T070000
DTSTAMP:20260424T213949
CREATED:20241120T073018Z
LAST-MODIFIED:20241120T073018Z
UID:27156-1814767200-1814770800@riverplex.org
SUMMARY:Les Mills: Body Pump
DESCRIPTION:Get on the fast track to a strong and toned body! Les Mills Body Pump utilizes barbell weights and awesome music. This class is perfect for men and women of any fitness level. You don’t want to miss this class!
URL:http://riverplex.org/event/les-mills-body-pump/2027-07-05/
LOCATION:Members Gym
CATEGORIES:Land Group Exercise
END:VEVENT
BEGIN:VEVENT
DTSTART;TZID=America/Chicago:20270709T060000
DTEND;TZID=America/Chicago:20270709T070000
DTSTAMP:20260424T213949
CREATED:20241120T073018Z
LAST-MODIFIED:20241120T073018Z
UID:27424-1815112800-1815116400@riverplex.org
SUMMARY:Les Mills: Body Pump
DESCRIPTION:Get on the fast track to a strong and toned body! Les Mills Body Pump utilizes barbell weights and awesome music. This class is perfect for men and women of any fitness level. You don’t want to miss this class!
URL:http://riverplex.org/event/les-mills-body-pump/2027-07-09/
LOCATION:Members Gym
CATEGORIES:Land Group Exercise
END:VEVENT
END:VCALENDAR