BEGIN:VCALENDAR
VERSION:2.0
PRODID:-//RiverPlex - ECPv6.15.18//NONSGML v1.0//EN
CALSCALE:GREGORIAN
METHOD:PUBLISH
X-ORIGINAL-URL:http://riverplex.org
X-WR-CALDESC:Events for RiverPlex
REFRESH-INTERVAL;VALUE=DURATION:PT1H
X-Robots-Tag:noindex
X-PUBLISHED-TTL:PT1H
BEGIN:VTIMEZONE
TZID:America/Chicago
BEGIN:DAYLIGHT
TZOFFSETFROM:-0600
TZOFFSETTO:-0500
TZNAME:CDT
DTSTART:20240310T080000
END:DAYLIGHT
BEGIN:STANDARD
TZOFFSETFROM:-0500
TZOFFSETTO:-0600
TZNAME:CST
DTSTART:20241103T070000
END:STANDARD
BEGIN:DAYLIGHT
TZOFFSETFROM:-0600
TZOFFSETTO:-0500
TZNAME:CDT
DTSTART:20250309T080000
END:DAYLIGHT
BEGIN:STANDARD
TZOFFSETFROM:-0500
TZOFFSETTO:-0600
TZNAME:CST
DTSTART:20251102T070000
END:STANDARD
BEGIN:DAYLIGHT
TZOFFSETFROM:-0600
TZOFFSETTO:-0500
TZNAME:CDT
DTSTART:20260308T080000
END:DAYLIGHT
BEGIN:STANDARD
TZOFFSETFROM:-0500
TZOFFSETTO:-0600
TZNAME:CST
DTSTART:20261101T070000
END:STANDARD
END:VTIMEZONE
BEGIN:VEVENT
DTSTART;TZID=America/Chicago:20250705T080000
DTEND;TZID=America/Chicago:20250705T083000
DTSTAMP:20260426T025317
CREATED:20241120T091111Z
LAST-MODIFIED:20250528T184353Z
UID:3020-1751702400-1751704200@riverplex.org
SUMMARY:Les Mills: Core
DESCRIPTION:Looking for a short\, sharp workout that’ll inspire you to the next level of fitness\, while strengthening and toning your body? Core is for you! This 30 minute class really hones in on the torso and sling muscles that connect your upper body to your lower body. It’s ideal for tightening your tummy and butt\, while also improving functional strength and assisting in injury prevention.
URL:http://riverplex.org/event/les-mills-core-3/2025-07-05/
LOCATION:Members Gym
CATEGORIES:Land Group Exercise
END:VEVENT
BEGIN:VEVENT
DTSTART;TZID=America/Chicago:20250703T173000
DTEND;TZID=America/Chicago:20250703T183000
DTSTAMP:20260426T025317
CREATED:20241119T185256Z
LAST-MODIFIED:20250716T191842Z
UID:28265-1751563800-1751567400@riverplex.org
SUMMARY:Les Mills Body Attack
DESCRIPTION:This is the ultimate cardio class! This Les Mills 2 peak cardio format focuses on athletic conditioning and training by doing plyometrics\, running\, as well as agility and power moves to get the heart pumping! It also includes some upper and lower body strengthening.
URL:http://riverplex.org/event/les-mills-body-attack/2025-07-03/
LOCATION:Members Gym
CATEGORIES:Land Group Exercise
END:VEVENT
BEGIN:VEVENT
DTSTART;TZID=America/Chicago:20250702T183500
DTEND;TZID=America/Chicago:20250702T190500
DTSTAMP:20260426T025317
CREATED:20241119T183941Z
LAST-MODIFIED:20241218T175336Z
UID:981-1751481300-1751483100@riverplex.org
SUMMARY:Les Mills Grit
DESCRIPTION:Whenever you see LES MILLS GRIT on our schedule\, it is instructor choice! This means\, that you may have GRIT Athletic\, GRIT Strength\, GRIT Cardio\, or a combination of two of these formats.
URL:http://riverplex.org/event/les-mills-grit-2/2025-07-02/
LOCATION:Members Gym
CATEGORIES:Land Group Exercise
END:VEVENT
BEGIN:VEVENT
DTSTART;TZID=America/Chicago:20250702T173000
DTEND;TZID=America/Chicago:20250702T182500
DTSTAMP:20260426T025317
CREATED:20241120T075139Z
LAST-MODIFIED:20241218T171451Z
UID:2358-1751477400-1751480700@riverplex.org
SUMMARY:Les Mills: Body Pump
DESCRIPTION:Get on the fast track to a strong and toned body! Les Mills Body Pump utilizes barbell weights and awesome music. This class is perfect for men and women of any fitness level. You don’t want to miss this class!
URL:http://riverplex.org/event/les-mills-body-pump-8/2025-07-02/
LOCATION:Members Gym
CATEGORIES:Land Group Exercise
END:VEVENT
BEGIN:VEVENT
DTSTART;TZID=America/Chicago:20250628T080000
DTEND;TZID=America/Chicago:20250628T083000
DTSTAMP:20260426T025317
CREATED:20241120T091111Z
LAST-MODIFIED:20250528T184353Z
UID:3019-1751097600-1751099400@riverplex.org
SUMMARY:Les Mills: Core
DESCRIPTION:Looking for a short\, sharp workout that’ll inspire you to the next level of fitness\, while strengthening and toning your body? Core is for you! This 30 minute class really hones in on the torso and sling muscles that connect your upper body to your lower body. It’s ideal for tightening your tummy and butt\, while also improving functional strength and assisting in injury prevention.
URL:http://riverplex.org/event/les-mills-core-3/2025-06-28/
LOCATION:Members Gym
CATEGORIES:Land Group Exercise
END:VEVENT
BEGIN:VEVENT
DTSTART;TZID=America/Chicago:20250626T173000
DTEND;TZID=America/Chicago:20250626T183000
DTSTAMP:20260426T025317
CREATED:20241119T185256Z
LAST-MODIFIED:20250716T191842Z
UID:450-1750959000-1750962600@riverplex.org
SUMMARY:Les Mills Body Attack
DESCRIPTION:This is the ultimate cardio class! This Les Mills 2 peak cardio format focuses on athletic conditioning and training by doing plyometrics\, running\, as well as agility and power moves to get the heart pumping! It also includes some upper and lower body strengthening.
URL:http://riverplex.org/event/les-mills-body-attack/2025-06-26/
LOCATION:Members Gym
CATEGORIES:Land Group Exercise
END:VEVENT
BEGIN:VEVENT
DTSTART;TZID=America/Chicago:20250625T183500
DTEND;TZID=America/Chicago:20250625T190500
DTSTAMP:20260426T025317
CREATED:20241119T183941Z
LAST-MODIFIED:20241218T175336Z
UID:980-1750876500-1750878300@riverplex.org
SUMMARY:Les Mills Grit
DESCRIPTION:Whenever you see LES MILLS GRIT on our schedule\, it is instructor choice! This means\, that you may have GRIT Athletic\, GRIT Strength\, GRIT Cardio\, or a combination of two of these formats.
URL:http://riverplex.org/event/les-mills-grit-2/2025-06-25/
LOCATION:Members Gym
CATEGORIES:Land Group Exercise
END:VEVENT
BEGIN:VEVENT
DTSTART;TZID=America/Chicago:20250625T173000
DTEND;TZID=America/Chicago:20250625T182500
DTSTAMP:20260426T025317
CREATED:20241120T075139Z
LAST-MODIFIED:20241218T171451Z
UID:2357-1750872600-1750875900@riverplex.org
SUMMARY:Les Mills: Body Pump
DESCRIPTION:Get on the fast track to a strong and toned body! Les Mills Body Pump utilizes barbell weights and awesome music. This class is perfect for men and women of any fitness level. You don’t want to miss this class!
URL:http://riverplex.org/event/les-mills-body-pump-8/2025-06-25/
LOCATION:Members Gym
CATEGORIES:Land Group Exercise
END:VEVENT
BEGIN:VEVENT
DTSTART;TZID=America/Chicago:20250621T080000
DTEND;TZID=America/Chicago:20250621T083000
DTSTAMP:20260426T025317
CREATED:20241120T091111Z
LAST-MODIFIED:20250528T184353Z
UID:3018-1750492800-1750494600@riverplex.org
SUMMARY:Les Mills: Core
DESCRIPTION:Looking for a short\, sharp workout that’ll inspire you to the next level of fitness\, while strengthening and toning your body? Core is for you! This 30 minute class really hones in on the torso and sling muscles that connect your upper body to your lower body. It’s ideal for tightening your tummy and butt\, while also improving functional strength and assisting in injury prevention.
URL:http://riverplex.org/event/les-mills-core-3/2025-06-21/
LOCATION:Members Gym
CATEGORIES:Land Group Exercise
END:VEVENT
BEGIN:VEVENT
DTSTART;TZID=America/Chicago:20250618T183500
DTEND;TZID=America/Chicago:20250618T190500
DTSTAMP:20260426T025317
CREATED:20241119T183941Z
LAST-MODIFIED:20241218T175336Z
UID:979-1750271700-1750273500@riverplex.org
SUMMARY:Les Mills Grit
DESCRIPTION:Whenever you see LES MILLS GRIT on our schedule\, it is instructor choice! This means\, that you may have GRIT Athletic\, GRIT Strength\, GRIT Cardio\, or a combination of two of these formats.
URL:http://riverplex.org/event/les-mills-grit-2/2025-06-18/
LOCATION:Members Gym
CATEGORIES:Land Group Exercise
END:VEVENT
BEGIN:VEVENT
DTSTART;TZID=America/Chicago:20250618T173000
DTEND;TZID=America/Chicago:20250618T182500
DTSTAMP:20260426T025317
CREATED:20241120T075139Z
LAST-MODIFIED:20241218T171451Z
UID:2356-1750267800-1750271100@riverplex.org
SUMMARY:Les Mills: Body Pump
DESCRIPTION:Get on the fast track to a strong and toned body! Les Mills Body Pump utilizes barbell weights and awesome music. This class is perfect for men and women of any fitness level. You don’t want to miss this class!
URL:http://riverplex.org/event/les-mills-body-pump-8/2025-06-18/
LOCATION:Members Gym
CATEGORIES:Land Group Exercise
END:VEVENT
BEGIN:VEVENT
DTSTART;TZID=America/Chicago:20250614T080000
DTEND;TZID=America/Chicago:20250614T083000
DTSTAMP:20260426T025317
CREATED:20241120T091111Z
LAST-MODIFIED:20250528T184352Z
UID:3017-1749888000-1749889800@riverplex.org
SUMMARY:Les Mills: Core
DESCRIPTION:Looking for a short\, sharp workout that’ll inspire you to the next level of fitness\, while strengthening and toning your body? Core is for you! This 30 minute class really hones in on the torso and sling muscles that connect your upper body to your lower body. It’s ideal for tightening your tummy and butt\, while also improving functional strength and assisting in injury prevention.
URL:http://riverplex.org/event/les-mills-core-3/2025-06-14/
LOCATION:Members Gym
CATEGORIES:Land Group Exercise
END:VEVENT
BEGIN:VEVENT
DTSTART;TZID=America/Chicago:20250611T183500
DTEND;TZID=America/Chicago:20250611T190500
DTSTAMP:20260426T025317
CREATED:20241119T183941Z
LAST-MODIFIED:20241218T175336Z
UID:978-1749666900-1749668700@riverplex.org
SUMMARY:Les Mills Grit
DESCRIPTION:Whenever you see LES MILLS GRIT on our schedule\, it is instructor choice! This means\, that you may have GRIT Athletic\, GRIT Strength\, GRIT Cardio\, or a combination of two of these formats.
URL:http://riverplex.org/event/les-mills-grit-2/2025-06-11/
LOCATION:Members Gym
CATEGORIES:Land Group Exercise
END:VEVENT
BEGIN:VEVENT
DTSTART;TZID=America/Chicago:20250611T173000
DTEND;TZID=America/Chicago:20250611T182500
DTSTAMP:20260426T025317
CREATED:20241120T075139Z
LAST-MODIFIED:20241218T171451Z
UID:2355-1749663000-1749666300@riverplex.org
SUMMARY:Les Mills: Body Pump
DESCRIPTION:Get on the fast track to a strong and toned body! Les Mills Body Pump utilizes barbell weights and awesome music. This class is perfect for men and women of any fitness level. You don’t want to miss this class!
URL:http://riverplex.org/event/les-mills-body-pump-8/2025-06-11/
LOCATION:Members Gym
CATEGORIES:Land Group Exercise
END:VEVENT
BEGIN:VEVENT
DTSTART;TZID=America/Chicago:20250607T080000
DTEND;TZID=America/Chicago:20250607T083000
DTSTAMP:20260426T025317
CREATED:20241120T091111Z
LAST-MODIFIED:20250528T184352Z
UID:3016-1749283200-1749285000@riverplex.org
SUMMARY:Les Mills: Core
DESCRIPTION:Looking for a short\, sharp workout that’ll inspire you to the next level of fitness\, while strengthening and toning your body? Core is for you! This 30 minute class really hones in on the torso and sling muscles that connect your upper body to your lower body. It’s ideal for tightening your tummy and butt\, while also improving functional strength and assisting in injury prevention.
URL:http://riverplex.org/event/les-mills-core-3/2025-06-07/
LOCATION:Members Gym
CATEGORIES:Land Group Exercise
END:VEVENT
BEGIN:VEVENT
DTSTART;TZID=America/Chicago:20250604T183500
DTEND;TZID=America/Chicago:20250604T190500
DTSTAMP:20260426T025317
CREATED:20241119T183941Z
LAST-MODIFIED:20241218T175336Z
UID:977-1749062100-1749063900@riverplex.org
SUMMARY:Les Mills Grit
DESCRIPTION:Whenever you see LES MILLS GRIT on our schedule\, it is instructor choice! This means\, that you may have GRIT Athletic\, GRIT Strength\, GRIT Cardio\, or a combination of two of these formats.
URL:http://riverplex.org/event/les-mills-grit-2/2025-06-04/
LOCATION:Members Gym
CATEGORIES:Land Group Exercise
END:VEVENT
BEGIN:VEVENT
DTSTART;TZID=America/Chicago:20250604T173000
DTEND;TZID=America/Chicago:20250604T182500
DTSTAMP:20260426T025317
CREATED:20241120T075139Z
LAST-MODIFIED:20241218T171451Z
UID:2354-1749058200-1749061500@riverplex.org
SUMMARY:Les Mills: Body Pump
DESCRIPTION:Get on the fast track to a strong and toned body! Les Mills Body Pump utilizes barbell weights and awesome music. This class is perfect for men and women of any fitness level. You don’t want to miss this class!
URL:http://riverplex.org/event/les-mills-body-pump-8/2025-06-04/
LOCATION:Members Gym
CATEGORIES:Land Group Exercise
END:VEVENT
BEGIN:VEVENT
DTSTART;TZID=America/Chicago:20250531T080000
DTEND;TZID=America/Chicago:20250531T083000
DTSTAMP:20260426T025317
CREATED:20241120T091111Z
LAST-MODIFIED:20250528T184352Z
UID:3015-1748678400-1748680200@riverplex.org
SUMMARY:Les Mills: Core
DESCRIPTION:Looking for a short\, sharp workout that’ll inspire you to the next level of fitness\, while strengthening and toning your body? Core is for you! This 30 minute class really hones in on the torso and sling muscles that connect your upper body to your lower body. It’s ideal for tightening your tummy and butt\, while also improving functional strength and assisting in injury prevention.
URL:http://riverplex.org/event/les-mills-core-3/2025-05-31/
LOCATION:Members Gym
CATEGORIES:Land Group Exercise
END:VEVENT
BEGIN:VEVENT
DTSTART;TZID=America/Chicago:20250528T183500
DTEND;TZID=America/Chicago:20250528T190500
DTSTAMP:20260426T025317
CREATED:20241119T183941Z
LAST-MODIFIED:20241218T175336Z
UID:976-1748457300-1748459100@riverplex.org
SUMMARY:Les Mills Grit
DESCRIPTION:Whenever you see LES MILLS GRIT on our schedule\, it is instructor choice! This means\, that you may have GRIT Athletic\, GRIT Strength\, GRIT Cardio\, or a combination of two of these formats.
URL:http://riverplex.org/event/les-mills-grit-2/2025-05-28/
LOCATION:Members Gym
CATEGORIES:Land Group Exercise
END:VEVENT
BEGIN:VEVENT
DTSTART;TZID=America/Chicago:20250528T173000
DTEND;TZID=America/Chicago:20250528T182500
DTSTAMP:20260426T025317
CREATED:20241120T075139Z
LAST-MODIFIED:20241218T171450Z
UID:2353-1748453400-1748456700@riverplex.org
SUMMARY:Les Mills: Body Pump
DESCRIPTION:Get on the fast track to a strong and toned body! Les Mills Body Pump utilizes barbell weights and awesome music. This class is perfect for men and women of any fitness level. You don’t want to miss this class!
URL:http://riverplex.org/event/les-mills-body-pump-8/2025-05-28/
LOCATION:Members Gym
CATEGORIES:Land Group Exercise
END:VEVENT
BEGIN:VEVENT
DTSTART;TZID=America/Chicago:20250524T080000
DTEND;TZID=America/Chicago:20250524T083000
DTSTAMP:20260426T025317
CREATED:20241120T091111Z
LAST-MODIFIED:20250528T184352Z
UID:3014-1748073600-1748075400@riverplex.org
SUMMARY:Les Mills: Core
DESCRIPTION:Looking for a short\, sharp workout that’ll inspire you to the next level of fitness\, while strengthening and toning your body? Core is for you! This 30 minute class really hones in on the torso and sling muscles that connect your upper body to your lower body. It’s ideal for tightening your tummy and butt\, while also improving functional strength and assisting in injury prevention.
URL:http://riverplex.org/event/les-mills-core-3/2025-05-24/
LOCATION:Members Gym
CATEGORIES:Land Group Exercise
END:VEVENT
BEGIN:VEVENT
DTSTART;TZID=America/Chicago:20250521T183500
DTEND;TZID=America/Chicago:20250521T190500
DTSTAMP:20260426T025317
CREATED:20241119T183941Z
LAST-MODIFIED:20241218T175336Z
UID:975-1747852500-1747854300@riverplex.org
SUMMARY:Les Mills Grit
DESCRIPTION:Whenever you see LES MILLS GRIT on our schedule\, it is instructor choice! This means\, that you may have GRIT Athletic\, GRIT Strength\, GRIT Cardio\, or a combination of two of these formats.
URL:http://riverplex.org/event/les-mills-grit-2/2025-05-21/
LOCATION:Members Gym
CATEGORIES:Land Group Exercise
END:VEVENT
BEGIN:VEVENT
DTSTART;TZID=America/Chicago:20250521T173000
DTEND;TZID=America/Chicago:20250521T182500
DTSTAMP:20260426T025317
CREATED:20241120T075139Z
LAST-MODIFIED:20241218T171450Z
UID:2352-1747848600-1747851900@riverplex.org
SUMMARY:Les Mills: Body Pump
DESCRIPTION:Get on the fast track to a strong and toned body! Les Mills Body Pump utilizes barbell weights and awesome music. This class is perfect for men and women of any fitness level. You don’t want to miss this class!
URL:http://riverplex.org/event/les-mills-body-pump-8/2025-05-21/
LOCATION:Members Gym
CATEGORIES:Land Group Exercise
END:VEVENT
BEGIN:VEVENT
DTSTART;TZID=America/Chicago:20250517T080000
DTEND;TZID=America/Chicago:20250517T083000
DTSTAMP:20260426T025317
CREATED:20241120T091111Z
LAST-MODIFIED:20250528T184352Z
UID:3013-1747468800-1747470600@riverplex.org
SUMMARY:Les Mills: Core
DESCRIPTION:Looking for a short\, sharp workout that’ll inspire you to the next level of fitness\, while strengthening and toning your body? Core is for you! This 30 minute class really hones in on the torso and sling muscles that connect your upper body to your lower body. It’s ideal for tightening your tummy and butt\, while also improving functional strength and assisting in injury prevention.
URL:http://riverplex.org/event/les-mills-core-3/2025-05-17/
LOCATION:Members Gym
CATEGORIES:Land Group Exercise
END:VEVENT
BEGIN:VEVENT
DTSTART;TZID=America/Chicago:20250514T183500
DTEND;TZID=America/Chicago:20250514T190500
DTSTAMP:20260426T025317
CREATED:20241119T183941Z
LAST-MODIFIED:20241218T175336Z
UID:974-1747247700-1747249500@riverplex.org
SUMMARY:Les Mills Grit
DESCRIPTION:Whenever you see LES MILLS GRIT on our schedule\, it is instructor choice! This means\, that you may have GRIT Athletic\, GRIT Strength\, GRIT Cardio\, or a combination of two of these formats.
URL:http://riverplex.org/event/les-mills-grit-2/2025-05-14/
LOCATION:Members Gym
CATEGORIES:Land Group Exercise
END:VEVENT
BEGIN:VEVENT
DTSTART;TZID=America/Chicago:20250514T173000
DTEND;TZID=America/Chicago:20250514T182500
DTSTAMP:20260426T025317
CREATED:20241120T075139Z
LAST-MODIFIED:20241218T171450Z
UID:2351-1747243800-1747247100@riverplex.org
SUMMARY:Les Mills: Body Pump
DESCRIPTION:Get on the fast track to a strong and toned body! Les Mills Body Pump utilizes barbell weights and awesome music. This class is perfect for men and women of any fitness level. You don’t want to miss this class!
URL:http://riverplex.org/event/les-mills-body-pump-8/2025-05-14/
LOCATION:Members Gym
CATEGORIES:Land Group Exercise
END:VEVENT
BEGIN:VEVENT
DTSTART;TZID=America/Chicago:20250510T080000
DTEND;TZID=America/Chicago:20250510T083000
DTSTAMP:20260426T025317
CREATED:20241120T091111Z
LAST-MODIFIED:20250528T184352Z
UID:3012-1746864000-1746865800@riverplex.org
SUMMARY:Les Mills: Core
DESCRIPTION:Looking for a short\, sharp workout that’ll inspire you to the next level of fitness\, while strengthening and toning your body? Core is for you! This 30 minute class really hones in on the torso and sling muscles that connect your upper body to your lower body. It’s ideal for tightening your tummy and butt\, while also improving functional strength and assisting in injury prevention.
URL:http://riverplex.org/event/les-mills-core-3/2025-05-10/
LOCATION:Members Gym
CATEGORIES:Land Group Exercise
END:VEVENT
BEGIN:VEVENT
DTSTART;TZID=America/Chicago:20250507T183500
DTEND;TZID=America/Chicago:20250507T190500
DTSTAMP:20260426T025317
CREATED:20241119T183941Z
LAST-MODIFIED:20241218T175336Z
UID:973-1746642900-1746644700@riverplex.org
SUMMARY:Les Mills Grit
DESCRIPTION:Whenever you see LES MILLS GRIT on our schedule\, it is instructor choice! This means\, that you may have GRIT Athletic\, GRIT Strength\, GRIT Cardio\, or a combination of two of these formats.
URL:http://riverplex.org/event/les-mills-grit-2/2025-05-07/
LOCATION:Members Gym
CATEGORIES:Land Group Exercise
END:VEVENT
BEGIN:VEVENT
DTSTART;TZID=America/Chicago:20250507T173000
DTEND;TZID=America/Chicago:20250507T182500
DTSTAMP:20260426T025317
CREATED:20241120T075139Z
LAST-MODIFIED:20241218T171450Z
UID:2350-1746639000-1746642300@riverplex.org
SUMMARY:Les Mills: Body Pump
DESCRIPTION:Get on the fast track to a strong and toned body! Les Mills Body Pump utilizes barbell weights and awesome music. This class is perfect for men and women of any fitness level. You don’t want to miss this class!
URL:http://riverplex.org/event/les-mills-body-pump-8/2025-05-07/
LOCATION:Members Gym
CATEGORIES:Land Group Exercise
END:VEVENT
BEGIN:VEVENT
DTSTART;TZID=America/Chicago:20250503T080000
DTEND;TZID=America/Chicago:20250503T083000
DTSTAMP:20260426T025317
CREATED:20241120T091111Z
LAST-MODIFIED:20250528T184351Z
UID:3011-1746259200-1746261000@riverplex.org
SUMMARY:Les Mills: Core
DESCRIPTION:Looking for a short\, sharp workout that’ll inspire you to the next level of fitness\, while strengthening and toning your body? Core is for you! This 30 minute class really hones in on the torso and sling muscles that connect your upper body to your lower body. It’s ideal for tightening your tummy and butt\, while also improving functional strength and assisting in injury prevention.
URL:http://riverplex.org/event/les-mills-core-3/2025-05-03/
LOCATION:Members Gym
CATEGORIES:Land Group Exercise
END:VEVENT
END:VCALENDAR