BEGIN:VCALENDAR
VERSION:2.0
PRODID:-//RiverPlex - ECPv6.15.18//NONSGML v1.0//EN
CALSCALE:GREGORIAN
METHOD:PUBLISH
X-WR-CALNAME:RiverPlex
X-ORIGINAL-URL:http://riverplex.org
X-WR-CALDESC:Events for RiverPlex
REFRESH-INTERVAL;VALUE=DURATION:PT1H
X-Robots-Tag:noindex
X-PUBLISHED-TTL:PT1H
BEGIN:VTIMEZONE
TZID:America/Chicago
BEGIN:DAYLIGHT
TZOFFSETFROM:-0600
TZOFFSETTO:-0500
TZNAME:CDT
DTSTART:20240310T080000
END:DAYLIGHT
BEGIN:STANDARD
TZOFFSETFROM:-0500
TZOFFSETTO:-0600
TZNAME:CST
DTSTART:20241103T070000
END:STANDARD
BEGIN:DAYLIGHT
TZOFFSETFROM:-0600
TZOFFSETTO:-0500
TZNAME:CDT
DTSTART:20250309T080000
END:DAYLIGHT
BEGIN:STANDARD
TZOFFSETFROM:-0500
TZOFFSETTO:-0600
TZNAME:CST
DTSTART:20251102T070000
END:STANDARD
BEGIN:DAYLIGHT
TZOFFSETFROM:-0600
TZOFFSETTO:-0500
TZNAME:CDT
DTSTART:20260308T080000
END:DAYLIGHT
BEGIN:STANDARD
TZOFFSETFROM:-0500
TZOFFSETTO:-0600
TZNAME:CST
DTSTART:20261101T070000
END:STANDARD
END:VTIMEZONE
BEGIN:VEVENT
DTSTART;TZID=America/Chicago:20251231T173000
DTEND;TZID=America/Chicago:20251231T183000
DTSTAMP:20260423T122521
CREATED:20241202T125538Z
LAST-MODIFIED:20260102T160326Z
UID:34178-1767202200-1767205800@riverplex.org
SUMMARY:Yoga
DESCRIPTION:This is an all levels\, general yoga practice. Explore your limits physically and mentally in this class. Come with an open mind\, leave with an open heart.
URL:http://riverplex.org/event/yoga-8/2025-12-31/
LOCATION:Upstairs Studio
CATEGORIES:Land Group Exercise
END:VEVENT
BEGIN:VEVENT
DTSTART;TZID=America/Chicago:20251224T173000
DTEND;TZID=America/Chicago:20251224T183000
DTSTAMP:20260423T122521
CREATED:20241202T125538Z
LAST-MODIFIED:20260102T160325Z
UID:34177-1766597400-1766601000@riverplex.org
SUMMARY:Yoga
DESCRIPTION:This is an all levels\, general yoga practice. Explore your limits physically and mentally in this class. Come with an open mind\, leave with an open heart.
URL:http://riverplex.org/event/yoga-8/2025-12-24/
LOCATION:Upstairs Studio
CATEGORIES:Land Group Exercise
END:VEVENT
BEGIN:VEVENT
DTSTART;TZID=America/Chicago:20251217T173000
DTEND;TZID=America/Chicago:20251217T183000
DTSTAMP:20260423T122521
CREATED:20241202T125538Z
LAST-MODIFIED:20260102T160325Z
UID:34176-1765992600-1765996200@riverplex.org
SUMMARY:Yoga
DESCRIPTION:This is an all levels\, general yoga practice. Explore your limits physically and mentally in this class. Come with an open mind\, leave with an open heart.
URL:http://riverplex.org/event/yoga-8/2025-12-17/
LOCATION:Upstairs Studio
CATEGORIES:Land Group Exercise
END:VEVENT
BEGIN:VEVENT
DTSTART;TZID=America/Chicago:20251210T173000
DTEND;TZID=America/Chicago:20251210T183000
DTSTAMP:20260423T122521
CREATED:20241202T125538Z
LAST-MODIFIED:20260102T160325Z
UID:34175-1765387800-1765391400@riverplex.org
SUMMARY:Yoga
DESCRIPTION:This is an all levels\, general yoga practice. Explore your limits physically and mentally in this class. Come with an open mind\, leave with an open heart.
URL:http://riverplex.org/event/yoga-8/2025-12-10/
LOCATION:Upstairs Studio
CATEGORIES:Land Group Exercise
END:VEVENT
BEGIN:VEVENT
DTSTART;TZID=America/Chicago:20251203T173000
DTEND;TZID=America/Chicago:20251203T183000
DTSTAMP:20260423T122521
CREATED:20241202T125538Z
LAST-MODIFIED:20260102T160325Z
UID:34174-1764783000-1764786600@riverplex.org
SUMMARY:Yoga
DESCRIPTION:This is an all levels\, general yoga practice. Explore your limits physically and mentally in this class. Come with an open mind\, leave with an open heart.
URL:http://riverplex.org/event/yoga-8/2025-12-03/
LOCATION:Upstairs Studio
CATEGORIES:Land Group Exercise
END:VEVENT
BEGIN:VEVENT
DTSTART;TZID=America/Chicago:20251126T173000
DTEND;TZID=America/Chicago:20251126T183000
DTSTAMP:20260423T122521
CREATED:20241202T125538Z
LAST-MODIFIED:20260102T160325Z
UID:34173-1764178200-1764181800@riverplex.org
SUMMARY:Yoga
DESCRIPTION:This is an all levels\, general yoga practice. Explore your limits physically and mentally in this class. Come with an open mind\, leave with an open heart.
URL:http://riverplex.org/event/yoga-8/2025-11-26/
LOCATION:Upstairs Studio
CATEGORIES:Land Group Exercise
END:VEVENT
BEGIN:VEVENT
DTSTART;TZID=America/Chicago:20251119T173000
DTEND;TZID=America/Chicago:20251119T183000
DTSTAMP:20260423T122521
CREATED:20241202T125538Z
LAST-MODIFIED:20260102T160325Z
UID:34172-1763573400-1763577000@riverplex.org
SUMMARY:Yoga
DESCRIPTION:This is an all levels\, general yoga practice. Explore your limits physically and mentally in this class. Come with an open mind\, leave with an open heart.
URL:http://riverplex.org/event/yoga-8/2025-11-19/
LOCATION:Upstairs Studio
CATEGORIES:Land Group Exercise
END:VEVENT
BEGIN:VEVENT
DTSTART;TZID=America/Chicago:20251112T173000
DTEND;TZID=America/Chicago:20251112T183000
DTSTAMP:20260423T122521
CREATED:20241202T125538Z
LAST-MODIFIED:20260102T160325Z
UID:34171-1762968600-1762972200@riverplex.org
SUMMARY:Yoga
DESCRIPTION:This is an all levels\, general yoga practice. Explore your limits physically and mentally in this class. Come with an open mind\, leave with an open heart.
URL:http://riverplex.org/event/yoga-8/2025-11-12/
LOCATION:Upstairs Studio
CATEGORIES:Land Group Exercise
END:VEVENT
BEGIN:VEVENT
DTSTART;TZID=America/Chicago:20251105T173000
DTEND;TZID=America/Chicago:20251105T183000
DTSTAMP:20260423T122521
CREATED:20241202T125538Z
LAST-MODIFIED:20260102T160325Z
UID:34170-1762363800-1762367400@riverplex.org
SUMMARY:Yoga
DESCRIPTION:This is an all levels\, general yoga practice. Explore your limits physically and mentally in this class. Come with an open mind\, leave with an open heart.
URL:http://riverplex.org/event/yoga-8/2025-11-05/
LOCATION:Upstairs Studio
CATEGORIES:Land Group Exercise
END:VEVENT
BEGIN:VEVENT
DTSTART;TZID=America/Chicago:20251029T173000
DTEND;TZID=America/Chicago:20251029T183000
DTSTAMP:20260423T122521
CREATED:20241202T125538Z
LAST-MODIFIED:20260102T160325Z
UID:34169-1761759000-1761762600@riverplex.org
SUMMARY:Yoga
DESCRIPTION:This is an all levels\, general yoga practice. Explore your limits physically and mentally in this class. Come with an open mind\, leave with an open heart.
URL:http://riverplex.org/event/yoga-8/2025-10-29/
LOCATION:Upstairs Studio
CATEGORIES:Land Group Exercise
END:VEVENT
BEGIN:VEVENT
DTSTART;TZID=America/Chicago:20251022T173000
DTEND;TZID=America/Chicago:20251022T183000
DTSTAMP:20260423T122521
CREATED:20241202T125538Z
LAST-MODIFIED:20260102T160325Z
UID:34168-1761154200-1761157800@riverplex.org
SUMMARY:Yoga
DESCRIPTION:This is an all levels\, general yoga practice. Explore your limits physically and mentally in this class. Come with an open mind\, leave with an open heart.
URL:http://riverplex.org/event/yoga-8/2025-10-22/
LOCATION:Upstairs Studio
CATEGORIES:Land Group Exercise
END:VEVENT
BEGIN:VEVENT
DTSTART;TZID=America/Chicago:20251015T173000
DTEND;TZID=America/Chicago:20251015T183000
DTSTAMP:20260423T122521
CREATED:20241202T125538Z
LAST-MODIFIED:20260102T160324Z
UID:34167-1760549400-1760553000@riverplex.org
SUMMARY:Yoga
DESCRIPTION:This is an all levels\, general yoga practice. Explore your limits physically and mentally in this class. Come with an open mind\, leave with an open heart.
URL:http://riverplex.org/event/yoga-8/2025-10-15/
LOCATION:Upstairs Studio
CATEGORIES:Land Group Exercise
END:VEVENT
BEGIN:VEVENT
DTSTART;TZID=America/Chicago:20251008T173000
DTEND;TZID=America/Chicago:20251008T183000
DTSTAMP:20260423T122521
CREATED:20241202T125538Z
LAST-MODIFIED:20260102T160324Z
UID:34166-1759944600-1759948200@riverplex.org
SUMMARY:Yoga
DESCRIPTION:This is an all levels\, general yoga practice. Explore your limits physically and mentally in this class. Come with an open mind\, leave with an open heart.
URL:http://riverplex.org/event/yoga-8/2025-10-08/
LOCATION:Upstairs Studio
CATEGORIES:Land Group Exercise
END:VEVENT
BEGIN:VEVENT
DTSTART;TZID=America/Chicago:20251001T173000
DTEND;TZID=America/Chicago:20251001T183000
DTSTAMP:20260423T122521
CREATED:20241202T125538Z
LAST-MODIFIED:20260102T160324Z
UID:34165-1759339800-1759343400@riverplex.org
SUMMARY:Yoga
DESCRIPTION:This is an all levels\, general yoga practice. Explore your limits physically and mentally in this class. Come with an open mind\, leave with an open heart.
URL:http://riverplex.org/event/yoga-8/2025-10-01/
LOCATION:Upstairs Studio
CATEGORIES:Land Group Exercise
END:VEVENT
BEGIN:VEVENT
DTSTART;TZID=America/Chicago:20250924T173000
DTEND;TZID=America/Chicago:20250924T183000
DTSTAMP:20260423T122521
CREATED:20241202T125538Z
LAST-MODIFIED:20260102T160324Z
UID:34164-1758735000-1758738600@riverplex.org
SUMMARY:Yoga
DESCRIPTION:This is an all levels\, general yoga practice. Explore your limits physically and mentally in this class. Come with an open mind\, leave with an open heart.
URL:http://riverplex.org/event/yoga-8/2025-09-24/
LOCATION:Upstairs Studio
CATEGORIES:Land Group Exercise
END:VEVENT
BEGIN:VEVENT
DTSTART;TZID=America/Chicago:20250917T173000
DTEND;TZID=America/Chicago:20250917T183000
DTSTAMP:20260423T122521
CREATED:20241202T125538Z
LAST-MODIFIED:20260102T160324Z
UID:34163-1758130200-1758133800@riverplex.org
SUMMARY:Yoga
DESCRIPTION:This is an all levels\, general yoga practice. Explore your limits physically and mentally in this class. Come with an open mind\, leave with an open heart.
URL:http://riverplex.org/event/yoga-8/2025-09-17/
LOCATION:Upstairs Studio
CATEGORIES:Land Group Exercise
END:VEVENT
BEGIN:VEVENT
DTSTART;TZID=America/Chicago:20250910T173000
DTEND;TZID=America/Chicago:20250910T183000
DTSTAMP:20260423T122521
CREATED:20241202T125538Z
LAST-MODIFIED:20260102T160324Z
UID:34162-1757525400-1757529000@riverplex.org
SUMMARY:Yoga
DESCRIPTION:This is an all levels\, general yoga practice. Explore your limits physically and mentally in this class. Come with an open mind\, leave with an open heart.
URL:http://riverplex.org/event/yoga-8/2025-09-10/
LOCATION:Upstairs Studio
CATEGORIES:Land Group Exercise
END:VEVENT
BEGIN:VEVENT
DTSTART;TZID=America/Chicago:20250903T173000
DTEND;TZID=America/Chicago:20250903T183000
DTSTAMP:20260423T122521
CREATED:20241202T125538Z
LAST-MODIFIED:20260102T160324Z
UID:34161-1756920600-1756924200@riverplex.org
SUMMARY:Yoga
DESCRIPTION:This is an all levels\, general yoga practice. Explore your limits physically and mentally in this class. Come with an open mind\, leave with an open heart.
URL:http://riverplex.org/event/yoga-8/2025-09-03/
LOCATION:Upstairs Studio
CATEGORIES:Land Group Exercise
END:VEVENT
BEGIN:VEVENT
DTSTART;TZID=America/Chicago:20250827T173000
DTEND;TZID=America/Chicago:20250827T183000
DTSTAMP:20260423T122521
CREATED:20241202T125538Z
LAST-MODIFIED:20260102T160324Z
UID:34160-1756315800-1756319400@riverplex.org
SUMMARY:Yoga
DESCRIPTION:This is an all levels\, general yoga practice. Explore your limits physically and mentally in this class. Come with an open mind\, leave with an open heart.
URL:http://riverplex.org/event/yoga-8/2025-08-27/
LOCATION:Upstairs Studio
CATEGORIES:Land Group Exercise
END:VEVENT
BEGIN:VEVENT
DTSTART;TZID=America/Chicago:20250820T173000
DTEND;TZID=America/Chicago:20250820T183000
DTSTAMP:20260423T122521
CREATED:20241202T125538Z
LAST-MODIFIED:20260102T160324Z
UID:34159-1755711000-1755714600@riverplex.org
SUMMARY:Yoga
DESCRIPTION:This is an all levels\, general yoga practice. Explore your limits physically and mentally in this class. Come with an open mind\, leave with an open heart.
URL:http://riverplex.org/event/yoga-8/2025-08-20/
LOCATION:Upstairs Studio
CATEGORIES:Land Group Exercise
END:VEVENT
BEGIN:VEVENT
DTSTART;TZID=America/Chicago:20250813T173000
DTEND;TZID=America/Chicago:20250813T183000
DTSTAMP:20260423T122521
CREATED:20241202T125538Z
LAST-MODIFIED:20260102T160324Z
UID:34158-1755106200-1755109800@riverplex.org
SUMMARY:Yoga
DESCRIPTION:This is an all levels\, general yoga practice. Explore your limits physically and mentally in this class. Come with an open mind\, leave with an open heart.
URL:http://riverplex.org/event/yoga-8/2025-08-13/
LOCATION:Upstairs Studio
CATEGORIES:Land Group Exercise
END:VEVENT
BEGIN:VEVENT
DTSTART;TZID=America/Chicago:20250806T173000
DTEND;TZID=America/Chicago:20250806T183000
DTSTAMP:20260423T122521
CREATED:20241202T125538Z
LAST-MODIFIED:20260102T160323Z
UID:34157-1754501400-1754505000@riverplex.org
SUMMARY:Yoga
DESCRIPTION:This is an all levels\, general yoga practice. Explore your limits physically and mentally in this class. Come with an open mind\, leave with an open heart.
URL:http://riverplex.org/event/yoga-8/2025-08-06/
LOCATION:Upstairs Studio
CATEGORIES:Land Group Exercise
END:VEVENT
BEGIN:VEVENT
DTSTART;TZID=America/Chicago:20250730T173000
DTEND;TZID=America/Chicago:20250730T183000
DTSTAMP:20260423T122521
CREATED:20241202T125538Z
LAST-MODIFIED:20260102T160323Z
UID:34156-1753896600-1753900200@riverplex.org
SUMMARY:Yoga
DESCRIPTION:This is an all levels\, general yoga practice. Explore your limits physically and mentally in this class. Come with an open mind\, leave with an open heart.
URL:http://riverplex.org/event/yoga-8/2025-07-30/
LOCATION:Upstairs Studio
CATEGORIES:Land Group Exercise
END:VEVENT
BEGIN:VEVENT
DTSTART;TZID=America/Chicago:20250723T173000
DTEND;TZID=America/Chicago:20250723T183000
DTSTAMP:20260423T122521
CREATED:20241202T125538Z
LAST-MODIFIED:20260102T160323Z
UID:34155-1753291800-1753295400@riverplex.org
SUMMARY:Yoga
DESCRIPTION:This is an all levels\, general yoga practice. Explore your limits physically and mentally in this class. Come with an open mind\, leave with an open heart.
URL:http://riverplex.org/event/yoga-8/2025-07-23/
LOCATION:Upstairs Studio
CATEGORIES:Land Group Exercise
END:VEVENT
BEGIN:VEVENT
DTSTART;TZID=America/Chicago:20250716T173000
DTEND;TZID=America/Chicago:20250716T183000
DTSTAMP:20260423T122521
CREATED:20241202T125538Z
LAST-MODIFIED:20260102T160323Z
UID:34154-1752687000-1752690600@riverplex.org
SUMMARY:Yoga
DESCRIPTION:This is an all levels\, general yoga practice. Explore your limits physically and mentally in this class. Come with an open mind\, leave with an open heart.
URL:http://riverplex.org/event/yoga-8/2025-07-16/
LOCATION:Upstairs Studio
CATEGORIES:Land Group Exercise
END:VEVENT
BEGIN:VEVENT
DTSTART;TZID=America/Chicago:20250709T173000
DTEND;TZID=America/Chicago:20250709T183000
DTSTAMP:20260423T122521
CREATED:20241202T125538Z
LAST-MODIFIED:20260102T160323Z
UID:34153-1752082200-1752085800@riverplex.org
SUMMARY:Yoga
DESCRIPTION:This is an all levels\, general yoga practice. Explore your limits physically and mentally in this class. Come with an open mind\, leave with an open heart.
URL:http://riverplex.org/event/yoga-8/2025-07-09/
LOCATION:Upstairs Studio
CATEGORIES:Land Group Exercise
END:VEVENT
BEGIN:VEVENT
DTSTART;TZID=America/Chicago:20250702T173000
DTEND;TZID=America/Chicago:20250702T183000
DTSTAMP:20260423T122521
CREATED:20241202T125538Z
LAST-MODIFIED:20260102T160322Z
UID:34152-1751477400-1751481000@riverplex.org
SUMMARY:Yoga
DESCRIPTION:This is an all levels\, general yoga practice. Explore your limits physically and mentally in this class. Come with an open mind\, leave with an open heart.
URL:http://riverplex.org/event/yoga-8/2025-07-02/
LOCATION:Upstairs Studio
CATEGORIES:Land Group Exercise
END:VEVENT
BEGIN:VEVENT
DTSTART;TZID=America/Chicago:20250625T173000
DTEND;TZID=America/Chicago:20250625T183000
DTSTAMP:20260423T122521
CREATED:20241202T125538Z
LAST-MODIFIED:20260102T160255Z
UID:696-1750872600-1750876200@riverplex.org
SUMMARY:Yoga
DESCRIPTION:This is an all levels\, general yoga practice. Explore your limits physically and mentally in this class. Come with an open mind\, leave with an open heart.
URL:http://riverplex.org/event/yoga-8/2025-06-25/
LOCATION:Upstairs Studio
CATEGORIES:Land Group Exercise
END:VEVENT
END:VCALENDAR