BEGIN:VCALENDAR
VERSION:2.0
PRODID:-//RiverPlex - ECPv6.15.18//NONSGML v1.0//EN
CALSCALE:GREGORIAN
METHOD:PUBLISH
X-ORIGINAL-URL:http://riverplex.org
X-WR-CALDESC:Events for RiverPlex
REFRESH-INTERVAL;VALUE=DURATION:PT1H
X-Robots-Tag:noindex
X-PUBLISHED-TTL:PT1H
BEGIN:VTIMEZONE
TZID:America/Chicago
BEGIN:DAYLIGHT
TZOFFSETFROM:-0600
TZOFFSETTO:-0500
TZNAME:CDT
DTSTART:20270314T080000
END:DAYLIGHT
BEGIN:STANDARD
TZOFFSETFROM:-0500
TZOFFSETTO:-0600
TZNAME:CST
DTSTART:20271107T070000
END:STANDARD
BEGIN:DAYLIGHT
TZOFFSETFROM:-0600
TZOFFSETTO:-0500
TZNAME:CDT
DTSTART:20280312T080000
END:DAYLIGHT
BEGIN:STANDARD
TZOFFSETFROM:-0500
TZOFFSETTO:-0600
TZNAME:CST
DTSTART:20281105T070000
END:STANDARD
BEGIN:DAYLIGHT
TZOFFSETFROM:-0600
TZOFFSETTO:-0500
TZNAME:CDT
DTSTART:20290311T080000
END:DAYLIGHT
BEGIN:STANDARD
TZOFFSETFROM:-0500
TZOFFSETTO:-0600
TZNAME:CST
DTSTART:20291104T070000
END:STANDARD
END:VTIMEZONE
BEGIN:VEVENT
DTSTART;TZID=America/Chicago:20280307T163000
DTEND;TZID=America/Chicago:20280307T171500
DTSTAMP:20260423T162600
CREATED:20260304T161908Z
LAST-MODIFIED:20260304T161908Z
UID:36077-1836059400-1836062100@riverplex.org
SUMMARY:Les Mills: RPM
DESCRIPTION:This class will take you on the ride of your life and is the ultimate indoor group cycling experience. This simulated bike ride is perfect for all ages and fitness levels. You ride at your own pace\, whether you want a tough ride or want to build endurance.
URL:http://riverplex.org/event/les-mills-rpm-3/2028-03-07/
LOCATION:Spin Studio
CATEGORIES:Land Group Exercise
END:VEVENT
BEGIN:VEVENT
DTSTART;TZID=America/Chicago:20280314T163000
DTEND;TZID=America/Chicago:20280314T171500
DTSTAMP:20260423T162600
CREATED:20260304T161908Z
LAST-MODIFIED:20260304T161908Z
UID:36378-1836664200-1836666900@riverplex.org
SUMMARY:Les Mills: RPM
DESCRIPTION:This class will take you on the ride of your life and is the ultimate indoor group cycling experience. This simulated bike ride is perfect for all ages and fitness levels. You ride at your own pace\, whether you want a tough ride or want to build endurance.
URL:http://riverplex.org/event/les-mills-rpm-3/2028-03-14/
LOCATION:Spin Studio
CATEGORIES:Land Group Exercise
END:VEVENT
BEGIN:VEVENT
DTSTART;TZID=America/Chicago:20280321T163000
DTEND;TZID=America/Chicago:20280321T171500
DTSTAMP:20260423T162600
CREATED:20260304T161908Z
LAST-MODIFIED:20260304T161908Z
UID:36465-1837269000-1837271700@riverplex.org
SUMMARY:Les Mills: RPM
DESCRIPTION:This class will take you on the ride of your life and is the ultimate indoor group cycling experience. This simulated bike ride is perfect for all ages and fitness levels. You ride at your own pace\, whether you want a tough ride or want to build endurance.
URL:http://riverplex.org/event/les-mills-rpm-3/2028-03-21/
LOCATION:Spin Studio
CATEGORIES:Land Group Exercise
END:VEVENT
BEGIN:VEVENT
DTSTART;TZID=America/Chicago:20280328T163000
DTEND;TZID=America/Chicago:20280328T171500
DTSTAMP:20260423T162600
CREATED:20260304T161908Z
LAST-MODIFIED:20260304T161908Z
UID:36862-1837873800-1837876500@riverplex.org
SUMMARY:Les Mills: RPM
DESCRIPTION:This class will take you on the ride of your life and is the ultimate indoor group cycling experience. This simulated bike ride is perfect for all ages and fitness levels. You ride at your own pace\, whether you want a tough ride or want to build endurance.
URL:http://riverplex.org/event/les-mills-rpm-3/2028-03-28/
LOCATION:Spin Studio
CATEGORIES:Land Group Exercise
END:VEVENT
BEGIN:VEVENT
DTSTART;TZID=America/Chicago:20280404T163000
DTEND;TZID=America/Chicago:20280404T171500
DTSTAMP:20260423T162600
CREATED:20260304T161908Z
LAST-MODIFIED:20260304T161908Z
UID:36953-1838478600-1838481300@riverplex.org
SUMMARY:Les Mills: RPM
DESCRIPTION:This class will take you on the ride of your life and is the ultimate indoor group cycling experience. This simulated bike ride is perfect for all ages and fitness levels. You ride at your own pace\, whether you want a tough ride or want to build endurance.
URL:http://riverplex.org/event/les-mills-rpm-3/2028-04-04/
LOCATION:Spin Studio
CATEGORIES:Land Group Exercise
END:VEVENT
BEGIN:VEVENT
DTSTART;TZID=America/Chicago:20280411T163000
DTEND;TZID=America/Chicago:20280411T171500
DTSTAMP:20260423T162600
CREATED:20260304T161908Z
LAST-MODIFIED:20260304T161908Z
UID:37734-1839083400-1839086100@riverplex.org
SUMMARY:Les Mills: RPM
DESCRIPTION:This class will take you on the ride of your life and is the ultimate indoor group cycling experience. This simulated bike ride is perfect for all ages and fitness levels. You ride at your own pace\, whether you want a tough ride or want to build endurance.
URL:http://riverplex.org/event/les-mills-rpm-3/2028-04-11/
LOCATION:Spin Studio
CATEGORIES:Land Group Exercise
END:VEVENT
BEGIN:VEVENT
DTSTART;TZID=America/Chicago:20280418T163000
DTEND;TZID=America/Chicago:20280418T171500
DTSTAMP:20260423T162600
CREATED:20260304T161908Z
LAST-MODIFIED:20260304T161908Z
UID:37819-1839688200-1839690900@riverplex.org
SUMMARY:Les Mills: RPM
DESCRIPTION:This class will take you on the ride of your life and is the ultimate indoor group cycling experience. This simulated bike ride is perfect for all ages and fitness levels. You ride at your own pace\, whether you want a tough ride or want to build endurance.
URL:http://riverplex.org/event/les-mills-rpm-3/2028-04-18/
LOCATION:Spin Studio
CATEGORIES:Land Group Exercise
END:VEVENT
END:VCALENDAR