BEGIN:VCALENDAR
VERSION:2.0
PRODID:-//RiverPlex - ECPv6.15.18//NONSGML v1.0//EN
CALSCALE:GREGORIAN
METHOD:PUBLISH
X-ORIGINAL-URL:http://riverplex.org
X-WR-CALDESC:Events for RiverPlex
REFRESH-INTERVAL;VALUE=DURATION:PT1H
X-Robots-Tag:noindex
X-PUBLISHED-TTL:PT1H
BEGIN:VTIMEZONE
TZID:America/Chicago
BEGIN:DAYLIGHT
TZOFFSETFROM:-0600
TZOFFSETTO:-0500
TZNAME:CDT
DTSTART:20250309T080000
END:DAYLIGHT
BEGIN:STANDARD
TZOFFSETFROM:-0500
TZOFFSETTO:-0600
TZNAME:CST
DTSTART:20251102T070000
END:STANDARD
BEGIN:DAYLIGHT
TZOFFSETFROM:-0600
TZOFFSETTO:-0500
TZNAME:CDT
DTSTART:20260308T080000
END:DAYLIGHT
BEGIN:STANDARD
TZOFFSETFROM:-0500
TZOFFSETTO:-0600
TZNAME:CST
DTSTART:20261101T070000
END:STANDARD
BEGIN:DAYLIGHT
TZOFFSETFROM:-0600
TZOFFSETTO:-0500
TZNAME:CDT
DTSTART:20270314T080000
END:DAYLIGHT
BEGIN:STANDARD
TZOFFSETFROM:-0500
TZOFFSETTO:-0600
TZNAME:CST
DTSTART:20271107T070000
END:STANDARD
END:VTIMEZONE
BEGIN:VEVENT
DTSTART;TZID=America/Chicago:20260429T183500
DTEND;TZID=America/Chicago:20260429T190500
DTSTAMP:20260425T220255
CREATED:20241119T183941Z
LAST-MODIFIED:20241119T183941Z
UID:1024-1777487700-1777489500@riverplex.org
SUMMARY:Les Mills Grit
DESCRIPTION:Whenever you see LES MILLS GRIT on our schedule\, it is instructor choice! This means\, that you may have GRIT Athletic\, GRIT Strength\, GRIT Cardio\, or a combination of two of these formats.
URL:http://riverplex.org/event/les-mills-grit-2/2026-04-29/
LOCATION:Members Gym
CATEGORIES:Land Group Exercise
END:VEVENT
BEGIN:VEVENT
DTSTART;TZID=America/Chicago:20260506T183500
DTEND;TZID=America/Chicago:20260506T190500
DTSTAMP:20260425T220255
CREATED:20241119T183941Z
LAST-MODIFIED:20241119T183941Z
UID:1025-1778092500-1778094300@riverplex.org
SUMMARY:Les Mills Grit
DESCRIPTION:Whenever you see LES MILLS GRIT on our schedule\, it is instructor choice! This means\, that you may have GRIT Athletic\, GRIT Strength\, GRIT Cardio\, or a combination of two of these formats.
URL:http://riverplex.org/event/les-mills-grit-2/2026-05-06/
LOCATION:Members Gym
CATEGORIES:Land Group Exercise
END:VEVENT
BEGIN:VEVENT
DTSTART;TZID=America/Chicago:20260513T183500
DTEND;TZID=America/Chicago:20260513T190500
DTSTAMP:20260425T220255
CREATED:20241119T183941Z
LAST-MODIFIED:20241119T183941Z
UID:1026-1778697300-1778699100@riverplex.org
SUMMARY:Les Mills Grit
DESCRIPTION:Whenever you see LES MILLS GRIT on our schedule\, it is instructor choice! This means\, that you may have GRIT Athletic\, GRIT Strength\, GRIT Cardio\, or a combination of two of these formats.
URL:http://riverplex.org/event/les-mills-grit-2/2026-05-13/
LOCATION:Members Gym
CATEGORIES:Land Group Exercise
END:VEVENT
BEGIN:VEVENT
DTSTART;TZID=America/Chicago:20260520T183500
DTEND;TZID=America/Chicago:20260520T190500
DTSTAMP:20260425T220255
CREATED:20241119T183941Z
LAST-MODIFIED:20241119T183941Z
UID:1027-1779302100-1779303900@riverplex.org
SUMMARY:Les Mills Grit
DESCRIPTION:Whenever you see LES MILLS GRIT on our schedule\, it is instructor choice! This means\, that you may have GRIT Athletic\, GRIT Strength\, GRIT Cardio\, or a combination of two of these formats.
URL:http://riverplex.org/event/les-mills-grit-2/2026-05-20/
LOCATION:Members Gym
CATEGORIES:Land Group Exercise
END:VEVENT
BEGIN:VEVENT
DTSTART;TZID=America/Chicago:20260527T183500
DTEND;TZID=America/Chicago:20260527T190500
DTSTAMP:20260425T220255
CREATED:20241119T183941Z
LAST-MODIFIED:20241119T183941Z
UID:1028-1779906900-1779908700@riverplex.org
SUMMARY:Les Mills Grit
DESCRIPTION:Whenever you see LES MILLS GRIT on our schedule\, it is instructor choice! This means\, that you may have GRIT Athletic\, GRIT Strength\, GRIT Cardio\, or a combination of two of these formats.
URL:http://riverplex.org/event/les-mills-grit-2/2026-05-27/
LOCATION:Members Gym
CATEGORIES:Land Group Exercise
END:VEVENT
BEGIN:VEVENT
DTSTART;TZID=America/Chicago:20260603T183500
DTEND;TZID=America/Chicago:20260603T190500
DTSTAMP:20260425T220255
CREATED:20241119T183941Z
LAST-MODIFIED:20241119T183941Z
UID:1029-1780511700-1780513500@riverplex.org
SUMMARY:Les Mills Grit
DESCRIPTION:Whenever you see LES MILLS GRIT on our schedule\, it is instructor choice! This means\, that you may have GRIT Athletic\, GRIT Strength\, GRIT Cardio\, or a combination of two of these formats.
URL:http://riverplex.org/event/les-mills-grit-2/2026-06-03/
LOCATION:Members Gym
CATEGORIES:Land Group Exercise
END:VEVENT
BEGIN:VEVENT
DTSTART;TZID=America/Chicago:20260610T183500
DTEND;TZID=America/Chicago:20260610T190500
DTSTAMP:20260425T220255
CREATED:20241119T183941Z
LAST-MODIFIED:20241119T183941Z
UID:1030-1781116500-1781118300@riverplex.org
SUMMARY:Les Mills Grit
DESCRIPTION:Whenever you see LES MILLS GRIT on our schedule\, it is instructor choice! This means\, that you may have GRIT Athletic\, GRIT Strength\, GRIT Cardio\, or a combination of two of these formats.
URL:http://riverplex.org/event/les-mills-grit-2/2026-06-10/
LOCATION:Members Gym
CATEGORIES:Land Group Exercise
END:VEVENT
BEGIN:VEVENT
DTSTART;TZID=America/Chicago:20260617T183500
DTEND;TZID=America/Chicago:20260617T190500
DTSTAMP:20260425T220255
CREATED:20241119T183941Z
LAST-MODIFIED:20241119T183941Z
UID:1031-1781721300-1781723100@riverplex.org
SUMMARY:Les Mills Grit
DESCRIPTION:Whenever you see LES MILLS GRIT on our schedule\, it is instructor choice! This means\, that you may have GRIT Athletic\, GRIT Strength\, GRIT Cardio\, or a combination of two of these formats.
URL:http://riverplex.org/event/les-mills-grit-2/2026-06-17/
LOCATION:Members Gym
CATEGORIES:Land Group Exercise
END:VEVENT
BEGIN:VEVENT
DTSTART;TZID=America/Chicago:20260624T183500
DTEND;TZID=America/Chicago:20260624T190500
DTSTAMP:20260425T220255
CREATED:20241119T183941Z
LAST-MODIFIED:20241119T183941Z
UID:1032-1782326100-1782327900@riverplex.org
SUMMARY:Les Mills Grit
DESCRIPTION:Whenever you see LES MILLS GRIT on our schedule\, it is instructor choice! This means\, that you may have GRIT Athletic\, GRIT Strength\, GRIT Cardio\, or a combination of two of these formats.
URL:http://riverplex.org/event/les-mills-grit-2/2026-06-24/
LOCATION:Members Gym
CATEGORIES:Land Group Exercise
END:VEVENT
BEGIN:VEVENT
DTSTART;TZID=America/Chicago:20260701T183500
DTEND;TZID=America/Chicago:20260701T190500
DTSTAMP:20260425T220255
CREATED:20241119T183941Z
LAST-MODIFIED:20241119T183941Z
UID:1033-1782930900-1782932700@riverplex.org
SUMMARY:Les Mills Grit
DESCRIPTION:Whenever you see LES MILLS GRIT on our schedule\, it is instructor choice! This means\, that you may have GRIT Athletic\, GRIT Strength\, GRIT Cardio\, or a combination of two of these formats.
URL:http://riverplex.org/event/les-mills-grit-2/2026-07-01/
LOCATION:Members Gym
CATEGORIES:Land Group Exercise
END:VEVENT
BEGIN:VEVENT
DTSTART;TZID=America/Chicago:20260708T183500
DTEND;TZID=America/Chicago:20260708T190500
DTSTAMP:20260425T220255
CREATED:20241119T183941Z
LAST-MODIFIED:20241119T183941Z
UID:1034-1783535700-1783537500@riverplex.org
SUMMARY:Les Mills Grit
DESCRIPTION:Whenever you see LES MILLS GRIT on our schedule\, it is instructor choice! This means\, that you may have GRIT Athletic\, GRIT Strength\, GRIT Cardio\, or a combination of two of these formats.
URL:http://riverplex.org/event/les-mills-grit-2/2026-07-08/
LOCATION:Members Gym
CATEGORIES:Land Group Exercise
END:VEVENT
BEGIN:VEVENT
DTSTART;TZID=America/Chicago:20260715T183500
DTEND;TZID=America/Chicago:20260715T190500
DTSTAMP:20260425T220255
CREATED:20241119T183941Z
LAST-MODIFIED:20241119T183941Z
UID:1035-1784140500-1784142300@riverplex.org
SUMMARY:Les Mills Grit
DESCRIPTION:Whenever you see LES MILLS GRIT on our schedule\, it is instructor choice! This means\, that you may have GRIT Athletic\, GRIT Strength\, GRIT Cardio\, or a combination of two of these formats.
URL:http://riverplex.org/event/les-mills-grit-2/2026-07-15/
LOCATION:Members Gym
CATEGORIES:Land Group Exercise
END:VEVENT
BEGIN:VEVENT
DTSTART;TZID=America/Chicago:20260722T183500
DTEND;TZID=America/Chicago:20260722T190500
DTSTAMP:20260425T220255
CREATED:20241119T183941Z
LAST-MODIFIED:20241119T183941Z
UID:1036-1784745300-1784747100@riverplex.org
SUMMARY:Les Mills Grit
DESCRIPTION:Whenever you see LES MILLS GRIT on our schedule\, it is instructor choice! This means\, that you may have GRIT Athletic\, GRIT Strength\, GRIT Cardio\, or a combination of two of these formats.
URL:http://riverplex.org/event/les-mills-grit-2/2026-07-22/
LOCATION:Members Gym
CATEGORIES:Land Group Exercise
END:VEVENT
BEGIN:VEVENT
DTSTART;TZID=America/Chicago:20260729T183500
DTEND;TZID=America/Chicago:20260729T190500
DTSTAMP:20260425T220255
CREATED:20241119T183941Z
LAST-MODIFIED:20241119T183941Z
UID:1037-1785350100-1785351900@riverplex.org
SUMMARY:Les Mills Grit
DESCRIPTION:Whenever you see LES MILLS GRIT on our schedule\, it is instructor choice! This means\, that you may have GRIT Athletic\, GRIT Strength\, GRIT Cardio\, or a combination of two of these formats.
URL:http://riverplex.org/event/les-mills-grit-2/2026-07-29/
LOCATION:Members Gym
CATEGORIES:Land Group Exercise
END:VEVENT
BEGIN:VEVENT
DTSTART;TZID=America/Chicago:20260805T183500
DTEND;TZID=America/Chicago:20260805T190500
DTSTAMP:20260425T220255
CREATED:20241119T183941Z
LAST-MODIFIED:20241119T183941Z
UID:1038-1785954900-1785956700@riverplex.org
SUMMARY:Les Mills Grit
DESCRIPTION:Whenever you see LES MILLS GRIT on our schedule\, it is instructor choice! This means\, that you may have GRIT Athletic\, GRIT Strength\, GRIT Cardio\, or a combination of two of these formats.
URL:http://riverplex.org/event/les-mills-grit-2/2026-08-05/
LOCATION:Members Gym
CATEGORIES:Land Group Exercise
END:VEVENT
BEGIN:VEVENT
DTSTART;TZID=America/Chicago:20260812T183500
DTEND;TZID=America/Chicago:20260812T190500
DTSTAMP:20260425T220255
CREATED:20241119T183941Z
LAST-MODIFIED:20241119T183941Z
UID:1039-1786559700-1786561500@riverplex.org
SUMMARY:Les Mills Grit
DESCRIPTION:Whenever you see LES MILLS GRIT on our schedule\, it is instructor choice! This means\, that you may have GRIT Athletic\, GRIT Strength\, GRIT Cardio\, or a combination of two of these formats.
URL:http://riverplex.org/event/les-mills-grit-2/2026-08-12/
LOCATION:Members Gym
CATEGORIES:Land Group Exercise
END:VEVENT
BEGIN:VEVENT
DTSTART;TZID=America/Chicago:20260819T183500
DTEND;TZID=America/Chicago:20260819T190500
DTSTAMP:20260425T220255
CREATED:20241119T183941Z
LAST-MODIFIED:20241119T183941Z
UID:1040-1787164500-1787166300@riverplex.org
SUMMARY:Les Mills Grit
DESCRIPTION:Whenever you see LES MILLS GRIT on our schedule\, it is instructor choice! This means\, that you may have GRIT Athletic\, GRIT Strength\, GRIT Cardio\, or a combination of two of these formats.
URL:http://riverplex.org/event/les-mills-grit-2/2026-08-19/
LOCATION:Members Gym
CATEGORIES:Land Group Exercise
END:VEVENT
BEGIN:VEVENT
DTSTART;TZID=America/Chicago:20260826T183500
DTEND;TZID=America/Chicago:20260826T190500
DTSTAMP:20260425T220255
CREATED:20241119T183941Z
LAST-MODIFIED:20241119T183941Z
UID:1041-1787769300-1787771100@riverplex.org
SUMMARY:Les Mills Grit
DESCRIPTION:Whenever you see LES MILLS GRIT on our schedule\, it is instructor choice! This means\, that you may have GRIT Athletic\, GRIT Strength\, GRIT Cardio\, or a combination of two of these formats.
URL:http://riverplex.org/event/les-mills-grit-2/2026-08-26/
LOCATION:Members Gym
CATEGORIES:Land Group Exercise
END:VEVENT
BEGIN:VEVENT
DTSTART;TZID=America/Chicago:20260902T183500
DTEND;TZID=America/Chicago:20260902T190500
DTSTAMP:20260425T220255
CREATED:20241119T183941Z
LAST-MODIFIED:20241119T183941Z
UID:1042-1788374100-1788375900@riverplex.org
SUMMARY:Les Mills Grit
DESCRIPTION:Whenever you see LES MILLS GRIT on our schedule\, it is instructor choice! This means\, that you may have GRIT Athletic\, GRIT Strength\, GRIT Cardio\, or a combination of two of these formats.
URL:http://riverplex.org/event/les-mills-grit-2/2026-09-02/
LOCATION:Members Gym
CATEGORIES:Land Group Exercise
END:VEVENT
BEGIN:VEVENT
DTSTART;TZID=America/Chicago:20260909T183500
DTEND;TZID=America/Chicago:20260909T190500
DTSTAMP:20260425T220255
CREATED:20241119T183941Z
LAST-MODIFIED:20241119T183941Z
UID:1043-1788978900-1788980700@riverplex.org
SUMMARY:Les Mills Grit
DESCRIPTION:Whenever you see LES MILLS GRIT on our schedule\, it is instructor choice! This means\, that you may have GRIT Athletic\, GRIT Strength\, GRIT Cardio\, or a combination of two of these formats.
URL:http://riverplex.org/event/les-mills-grit-2/2026-09-09/
LOCATION:Members Gym
CATEGORIES:Land Group Exercise
END:VEVENT
BEGIN:VEVENT
DTSTART;TZID=America/Chicago:20260916T183500
DTEND;TZID=America/Chicago:20260916T190500
DTSTAMP:20260425T220255
CREATED:20241119T183941Z
LAST-MODIFIED:20241119T183941Z
UID:1044-1789583700-1789585500@riverplex.org
SUMMARY:Les Mills Grit
DESCRIPTION:Whenever you see LES MILLS GRIT on our schedule\, it is instructor choice! This means\, that you may have GRIT Athletic\, GRIT Strength\, GRIT Cardio\, or a combination of two of these formats.
URL:http://riverplex.org/event/les-mills-grit-2/2026-09-16/
LOCATION:Members Gym
CATEGORIES:Land Group Exercise
END:VEVENT
BEGIN:VEVENT
DTSTART;TZID=America/Chicago:20260923T183500
DTEND;TZID=America/Chicago:20260923T190500
DTSTAMP:20260425T220255
CREATED:20241119T183941Z
LAST-MODIFIED:20241119T183941Z
UID:1045-1790188500-1790190300@riverplex.org
SUMMARY:Les Mills Grit
DESCRIPTION:Whenever you see LES MILLS GRIT on our schedule\, it is instructor choice! This means\, that you may have GRIT Athletic\, GRIT Strength\, GRIT Cardio\, or a combination of two of these formats.
URL:http://riverplex.org/event/les-mills-grit-2/2026-09-23/
LOCATION:Members Gym
CATEGORIES:Land Group Exercise
END:VEVENT
BEGIN:VEVENT
DTSTART;TZID=America/Chicago:20260930T183500
DTEND;TZID=America/Chicago:20260930T190500
DTSTAMP:20260425T220255
CREATED:20241119T183941Z
LAST-MODIFIED:20241119T183941Z
UID:1046-1790793300-1790795100@riverplex.org
SUMMARY:Les Mills Grit
DESCRIPTION:Whenever you see LES MILLS GRIT on our schedule\, it is instructor choice! This means\, that you may have GRIT Athletic\, GRIT Strength\, GRIT Cardio\, or a combination of two of these formats.
URL:http://riverplex.org/event/les-mills-grit-2/2026-09-30/
LOCATION:Members Gym
CATEGORIES:Land Group Exercise
END:VEVENT
BEGIN:VEVENT
DTSTART;TZID=America/Chicago:20261007T183500
DTEND;TZID=America/Chicago:20261007T190500
DTSTAMP:20260425T220255
CREATED:20241119T183941Z
LAST-MODIFIED:20241119T183941Z
UID:1047-1791398100-1791399900@riverplex.org
SUMMARY:Les Mills Grit
DESCRIPTION:Whenever you see LES MILLS GRIT on our schedule\, it is instructor choice! This means\, that you may have GRIT Athletic\, GRIT Strength\, GRIT Cardio\, or a combination of two of these formats.
URL:http://riverplex.org/event/les-mills-grit-2/2026-10-07/
LOCATION:Members Gym
CATEGORIES:Land Group Exercise
END:VEVENT
BEGIN:VEVENT
DTSTART;TZID=America/Chicago:20261014T183500
DTEND;TZID=America/Chicago:20261014T190500
DTSTAMP:20260425T220255
CREATED:20241119T183941Z
LAST-MODIFIED:20241119T183941Z
UID:1048-1792002900-1792004700@riverplex.org
SUMMARY:Les Mills Grit
DESCRIPTION:Whenever you see LES MILLS GRIT on our schedule\, it is instructor choice! This means\, that you may have GRIT Athletic\, GRIT Strength\, GRIT Cardio\, or a combination of two of these formats.
URL:http://riverplex.org/event/les-mills-grit-2/2026-10-14/
LOCATION:Members Gym
CATEGORIES:Land Group Exercise
END:VEVENT
BEGIN:VEVENT
DTSTART;TZID=America/Chicago:20261021T183500
DTEND;TZID=America/Chicago:20261021T190500
DTSTAMP:20260425T220255
CREATED:20241119T183941Z
LAST-MODIFIED:20241119T183941Z
UID:1049-1792607700-1792609500@riverplex.org
SUMMARY:Les Mills Grit
DESCRIPTION:Whenever you see LES MILLS GRIT on our schedule\, it is instructor choice! This means\, that you may have GRIT Athletic\, GRIT Strength\, GRIT Cardio\, or a combination of two of these formats.
URL:http://riverplex.org/event/les-mills-grit-2/2026-10-21/
LOCATION:Members Gym
CATEGORIES:Land Group Exercise
END:VEVENT
BEGIN:VEVENT
DTSTART;TZID=America/Chicago:20261028T183500
DTEND;TZID=America/Chicago:20261028T190500
DTSTAMP:20260425T220255
CREATED:20241119T183941Z
LAST-MODIFIED:20241119T183941Z
UID:1050-1793212500-1793214300@riverplex.org
SUMMARY:Les Mills Grit
DESCRIPTION:Whenever you see LES MILLS GRIT on our schedule\, it is instructor choice! This means\, that you may have GRIT Athletic\, GRIT Strength\, GRIT Cardio\, or a combination of two of these formats.
URL:http://riverplex.org/event/les-mills-grit-2/2026-10-28/
LOCATION:Members Gym
CATEGORIES:Land Group Exercise
END:VEVENT
BEGIN:VEVENT
DTSTART;TZID=America/Chicago:20261104T183500
DTEND;TZID=America/Chicago:20261104T190500
DTSTAMP:20260425T220255
CREATED:20241119T183941Z
LAST-MODIFIED:20241119T183941Z
UID:1051-1793817300-1793819100@riverplex.org
SUMMARY:Les Mills Grit
DESCRIPTION:Whenever you see LES MILLS GRIT on our schedule\, it is instructor choice! This means\, that you may have GRIT Athletic\, GRIT Strength\, GRIT Cardio\, or a combination of two of these formats.
URL:http://riverplex.org/event/les-mills-grit-2/2026-11-04/
LOCATION:Members Gym
CATEGORIES:Land Group Exercise
END:VEVENT
BEGIN:VEVENT
DTSTART;TZID=America/Chicago:20261111T183500
DTEND;TZID=America/Chicago:20261111T190500
DTSTAMP:20260425T220255
CREATED:20241119T183941Z
LAST-MODIFIED:20241119T183941Z
UID:1052-1794422100-1794423900@riverplex.org
SUMMARY:Les Mills Grit
DESCRIPTION:Whenever you see LES MILLS GRIT on our schedule\, it is instructor choice! This means\, that you may have GRIT Athletic\, GRIT Strength\, GRIT Cardio\, or a combination of two of these formats.
URL:http://riverplex.org/event/les-mills-grit-2/2026-11-11/
LOCATION:Members Gym
CATEGORIES:Land Group Exercise
END:VEVENT
BEGIN:VEVENT
DTSTART;TZID=America/Chicago:20261118T183500
DTEND;TZID=America/Chicago:20261118T190500
DTSTAMP:20260425T220255
CREATED:20241119T183941Z
LAST-MODIFIED:20241119T183941Z
UID:1053-1795026900-1795028700@riverplex.org
SUMMARY:Les Mills Grit
DESCRIPTION:Whenever you see LES MILLS GRIT on our schedule\, it is instructor choice! This means\, that you may have GRIT Athletic\, GRIT Strength\, GRIT Cardio\, or a combination of two of these formats.
URL:http://riverplex.org/event/les-mills-grit-2/2026-11-18/
LOCATION:Members Gym
CATEGORIES:Land Group Exercise
END:VEVENT
END:VCALENDAR