BEGIN:VCALENDAR
VERSION:2.0
PRODID:-//RiverPlex - ECPv6.15.18//NONSGML v1.0//EN
CALSCALE:GREGORIAN
METHOD:PUBLISH
X-WR-CALNAME:RiverPlex
X-ORIGINAL-URL:http://riverplex.org
X-WR-CALDESC:Events for RiverPlex
REFRESH-INTERVAL;VALUE=DURATION:PT1H
X-Robots-Tag:noindex
X-PUBLISHED-TTL:PT1H
BEGIN:VTIMEZONE
TZID:America/Chicago
BEGIN:DAYLIGHT
TZOFFSETFROM:-0600
TZOFFSETTO:-0500
TZNAME:CDT
DTSTART:20240310T080000
END:DAYLIGHT
BEGIN:STANDARD
TZOFFSETFROM:-0500
TZOFFSETTO:-0600
TZNAME:CST
DTSTART:20241103T070000
END:STANDARD
BEGIN:DAYLIGHT
TZOFFSETFROM:-0600
TZOFFSETTO:-0500
TZNAME:CDT
DTSTART:20250309T080000
END:DAYLIGHT
BEGIN:STANDARD
TZOFFSETFROM:-0500
TZOFFSETTO:-0600
TZNAME:CST
DTSTART:20251102T070000
END:STANDARD
BEGIN:DAYLIGHT
TZOFFSETFROM:-0600
TZOFFSETTO:-0500
TZNAME:CDT
DTSTART:20260308T080000
END:DAYLIGHT
BEGIN:STANDARD
TZOFFSETFROM:-0500
TZOFFSETTO:-0600
TZNAME:CST
DTSTART:20261101T070000
END:STANDARD
BEGIN:DAYLIGHT
TZOFFSETFROM:-0600
TZOFFSETTO:-0500
TZNAME:CDT
DTSTART:20270314T080000
END:DAYLIGHT
BEGIN:STANDARD
TZOFFSETFROM:-0500
TZOFFSETTO:-0600
TZNAME:CST
DTSTART:20271107T070000
END:STANDARD
END:VTIMEZONE
BEGIN:VEVENT
DTSTART;TZID=America/Chicago:20260422T183500
DTEND;TZID=America/Chicago:20260422T190500
DTSTAMP:20260425T232945
CREATED:20241119T183941Z
LAST-MODIFIED:20241119T183941Z
UID:1023-1776882900-1776884700@riverplex.org
SUMMARY:Les Mills Grit
DESCRIPTION:Whenever you see LES MILLS GRIT on our schedule\, it is instructor choice! This means\, that you may have GRIT Athletic\, GRIT Strength\, GRIT Cardio\, or a combination of two of these formats.
URL:http://riverplex.org/event/les-mills-grit-2/2026-04-22/
LOCATION:Members Gym
CATEGORIES:Land Group Exercise
END:VEVENT
BEGIN:VEVENT
DTSTART;TZID=America/Chicago:20260415T183500
DTEND;TZID=America/Chicago:20260415T190500
DTSTAMP:20260425T232945
CREATED:20241119T183941Z
LAST-MODIFIED:20241119T183941Z
UID:1022-1776278100-1776279900@riverplex.org
SUMMARY:Les Mills Grit
DESCRIPTION:Whenever you see LES MILLS GRIT on our schedule\, it is instructor choice! This means\, that you may have GRIT Athletic\, GRIT Strength\, GRIT Cardio\, or a combination of two of these formats.
URL:http://riverplex.org/event/les-mills-grit-2/2026-04-15/
LOCATION:Members Gym
CATEGORIES:Land Group Exercise
END:VEVENT
BEGIN:VEVENT
DTSTART;TZID=America/Chicago:20260408T183500
DTEND;TZID=America/Chicago:20260408T190500
DTSTAMP:20260425T232945
CREATED:20241119T183941Z
LAST-MODIFIED:20241119T183941Z
UID:1021-1775673300-1775675100@riverplex.org
SUMMARY:Les Mills Grit
DESCRIPTION:Whenever you see LES MILLS GRIT on our schedule\, it is instructor choice! This means\, that you may have GRIT Athletic\, GRIT Strength\, GRIT Cardio\, or a combination of two of these formats.
URL:http://riverplex.org/event/les-mills-grit-2/2026-04-08/
LOCATION:Members Gym
CATEGORIES:Land Group Exercise
END:VEVENT
BEGIN:VEVENT
DTSTART;TZID=America/Chicago:20260401T183500
DTEND;TZID=America/Chicago:20260401T190500
DTSTAMP:20260425T232945
CREATED:20241119T183941Z
LAST-MODIFIED:20241119T183941Z
UID:1020-1775068500-1775070300@riverplex.org
SUMMARY:Les Mills Grit
DESCRIPTION:Whenever you see LES MILLS GRIT on our schedule\, it is instructor choice! This means\, that you may have GRIT Athletic\, GRIT Strength\, GRIT Cardio\, or a combination of two of these formats.
URL:http://riverplex.org/event/les-mills-grit-2/2026-04-01/
LOCATION:Members Gym
CATEGORIES:Land Group Exercise
END:VEVENT
BEGIN:VEVENT
DTSTART;TZID=America/Chicago:20260325T183500
DTEND;TZID=America/Chicago:20260325T190500
DTSTAMP:20260425T232945
CREATED:20241119T183941Z
LAST-MODIFIED:20241119T183941Z
UID:1019-1774463700-1774465500@riverplex.org
SUMMARY:Les Mills Grit
DESCRIPTION:Whenever you see LES MILLS GRIT on our schedule\, it is instructor choice! This means\, that you may have GRIT Athletic\, GRIT Strength\, GRIT Cardio\, or a combination of two of these formats.
URL:http://riverplex.org/event/les-mills-grit-2/2026-03-25/
LOCATION:Members Gym
CATEGORIES:Land Group Exercise
END:VEVENT
BEGIN:VEVENT
DTSTART;TZID=America/Chicago:20260318T183500
DTEND;TZID=America/Chicago:20260318T190500
DTSTAMP:20260425T232945
CREATED:20241119T183941Z
LAST-MODIFIED:20241119T183941Z
UID:1018-1773858900-1773860700@riverplex.org
SUMMARY:Les Mills Grit
DESCRIPTION:Whenever you see LES MILLS GRIT on our schedule\, it is instructor choice! This means\, that you may have GRIT Athletic\, GRIT Strength\, GRIT Cardio\, or a combination of two of these formats.
URL:http://riverplex.org/event/les-mills-grit-2/2026-03-18/
LOCATION:Members Gym
CATEGORIES:Land Group Exercise
END:VEVENT
BEGIN:VEVENT
DTSTART;TZID=America/Chicago:20260311T183500
DTEND;TZID=America/Chicago:20260311T190500
DTSTAMP:20260425T232945
CREATED:20241119T183941Z
LAST-MODIFIED:20241119T183941Z
UID:1017-1773254100-1773255900@riverplex.org
SUMMARY:Les Mills Grit
DESCRIPTION:Whenever you see LES MILLS GRIT on our schedule\, it is instructor choice! This means\, that you may have GRIT Athletic\, GRIT Strength\, GRIT Cardio\, or a combination of two of these formats.
URL:http://riverplex.org/event/les-mills-grit-2/2026-03-11/
LOCATION:Members Gym
CATEGORIES:Land Group Exercise
END:VEVENT
BEGIN:VEVENT
DTSTART;TZID=America/Chicago:20260304T183500
DTEND;TZID=America/Chicago:20260304T190500
DTSTAMP:20260425T232945
CREATED:20241119T183941Z
LAST-MODIFIED:20241119T183941Z
UID:1016-1772649300-1772651100@riverplex.org
SUMMARY:Les Mills Grit
DESCRIPTION:Whenever you see LES MILLS GRIT on our schedule\, it is instructor choice! This means\, that you may have GRIT Athletic\, GRIT Strength\, GRIT Cardio\, or a combination of two of these formats.
URL:http://riverplex.org/event/les-mills-grit-2/2026-03-04/
LOCATION:Members Gym
CATEGORIES:Land Group Exercise
END:VEVENT
BEGIN:VEVENT
DTSTART;TZID=America/Chicago:20260225T183500
DTEND;TZID=America/Chicago:20260225T190500
DTSTAMP:20260425T232945
CREATED:20241119T183941Z
LAST-MODIFIED:20241119T183941Z
UID:1015-1772044500-1772046300@riverplex.org
SUMMARY:Les Mills Grit
DESCRIPTION:Whenever you see LES MILLS GRIT on our schedule\, it is instructor choice! This means\, that you may have GRIT Athletic\, GRIT Strength\, GRIT Cardio\, or a combination of two of these formats.
URL:http://riverplex.org/event/les-mills-grit-2/2026-02-25/
LOCATION:Members Gym
CATEGORIES:Land Group Exercise
END:VEVENT
BEGIN:VEVENT
DTSTART;TZID=America/Chicago:20260218T183500
DTEND;TZID=America/Chicago:20260218T190500
DTSTAMP:20260425T232945
CREATED:20241119T183941Z
LAST-MODIFIED:20241119T183941Z
UID:1014-1771439700-1771441500@riverplex.org
SUMMARY:Les Mills Grit
DESCRIPTION:Whenever you see LES MILLS GRIT on our schedule\, it is instructor choice! This means\, that you may have GRIT Athletic\, GRIT Strength\, GRIT Cardio\, or a combination of two of these formats.
URL:http://riverplex.org/event/les-mills-grit-2/2026-02-18/
LOCATION:Members Gym
CATEGORIES:Land Group Exercise
END:VEVENT
BEGIN:VEVENT
DTSTART;TZID=America/Chicago:20260211T183500
DTEND;TZID=America/Chicago:20260211T190500
DTSTAMP:20260425T232945
CREATED:20241119T183941Z
LAST-MODIFIED:20241119T183941Z
UID:1013-1770834900-1770836700@riverplex.org
SUMMARY:Les Mills Grit
DESCRIPTION:Whenever you see LES MILLS GRIT on our schedule\, it is instructor choice! This means\, that you may have GRIT Athletic\, GRIT Strength\, GRIT Cardio\, or a combination of two of these formats.
URL:http://riverplex.org/event/les-mills-grit-2/2026-02-11/
LOCATION:Members Gym
CATEGORIES:Land Group Exercise
END:VEVENT
BEGIN:VEVENT
DTSTART;TZID=America/Chicago:20260204T183500
DTEND;TZID=America/Chicago:20260204T190500
DTSTAMP:20260425T232945
CREATED:20241119T183941Z
LAST-MODIFIED:20241119T183941Z
UID:1012-1770230100-1770231900@riverplex.org
SUMMARY:Les Mills Grit
DESCRIPTION:Whenever you see LES MILLS GRIT on our schedule\, it is instructor choice! This means\, that you may have GRIT Athletic\, GRIT Strength\, GRIT Cardio\, or a combination of two of these formats.
URL:http://riverplex.org/event/les-mills-grit-2/2026-02-04/
LOCATION:Members Gym
CATEGORIES:Land Group Exercise
END:VEVENT
BEGIN:VEVENT
DTSTART;TZID=America/Chicago:20260128T183500
DTEND;TZID=America/Chicago:20260128T190500
DTSTAMP:20260425T232945
CREATED:20241119T183941Z
LAST-MODIFIED:20241119T183941Z
UID:1011-1769625300-1769627100@riverplex.org
SUMMARY:Les Mills Grit
DESCRIPTION:Whenever you see LES MILLS GRIT on our schedule\, it is instructor choice! This means\, that you may have GRIT Athletic\, GRIT Strength\, GRIT Cardio\, or a combination of two of these formats.
URL:http://riverplex.org/event/les-mills-grit-2/2026-01-28/
LOCATION:Members Gym
CATEGORIES:Land Group Exercise
END:VEVENT
BEGIN:VEVENT
DTSTART;TZID=America/Chicago:20260121T183500
DTEND;TZID=America/Chicago:20260121T190500
DTSTAMP:20260425T232945
CREATED:20241119T183941Z
LAST-MODIFIED:20241119T183941Z
UID:1010-1769020500-1769022300@riverplex.org
SUMMARY:Les Mills Grit
DESCRIPTION:Whenever you see LES MILLS GRIT on our schedule\, it is instructor choice! This means\, that you may have GRIT Athletic\, GRIT Strength\, GRIT Cardio\, or a combination of two of these formats.
URL:http://riverplex.org/event/les-mills-grit-2/2026-01-21/
LOCATION:Members Gym
CATEGORIES:Land Group Exercise
END:VEVENT
BEGIN:VEVENT
DTSTART;TZID=America/Chicago:20260114T183500
DTEND;TZID=America/Chicago:20260114T190500
DTSTAMP:20260425T232945
CREATED:20241119T183941Z
LAST-MODIFIED:20241119T183941Z
UID:1009-1768415700-1768417500@riverplex.org
SUMMARY:Les Mills Grit
DESCRIPTION:Whenever you see LES MILLS GRIT on our schedule\, it is instructor choice! This means\, that you may have GRIT Athletic\, GRIT Strength\, GRIT Cardio\, or a combination of two of these formats.
URL:http://riverplex.org/event/les-mills-grit-2/2026-01-14/
LOCATION:Members Gym
CATEGORIES:Land Group Exercise
END:VEVENT
BEGIN:VEVENT
DTSTART;TZID=America/Chicago:20260107T183500
DTEND;TZID=America/Chicago:20260107T190500
DTSTAMP:20260425T232945
CREATED:20241119T183941Z
LAST-MODIFIED:20241119T183941Z
UID:1008-1767810900-1767812700@riverplex.org
SUMMARY:Les Mills Grit
DESCRIPTION:Whenever you see LES MILLS GRIT on our schedule\, it is instructor choice! This means\, that you may have GRIT Athletic\, GRIT Strength\, GRIT Cardio\, or a combination of two of these formats.
URL:http://riverplex.org/event/les-mills-grit-2/2026-01-07/
LOCATION:Members Gym
CATEGORIES:Land Group Exercise
END:VEVENT
BEGIN:VEVENT
DTSTART;TZID=America/Chicago:20251231T183500
DTEND;TZID=America/Chicago:20251231T190500
DTSTAMP:20260425T232945
CREATED:20241119T183941Z
LAST-MODIFIED:20241119T183941Z
UID:1007-1767206100-1767207900@riverplex.org
SUMMARY:Les Mills Grit
DESCRIPTION:Whenever you see LES MILLS GRIT on our schedule\, it is instructor choice! This means\, that you may have GRIT Athletic\, GRIT Strength\, GRIT Cardio\, or a combination of two of these formats.
URL:http://riverplex.org/event/les-mills-grit-2/2025-12-31/
LOCATION:Members Gym
CATEGORIES:Land Group Exercise
END:VEVENT
BEGIN:VEVENT
DTSTART;TZID=America/Chicago:20251224T183500
DTEND;TZID=America/Chicago:20251224T190500
DTSTAMP:20260425T232945
CREATED:20241119T183941Z
LAST-MODIFIED:20241119T183941Z
UID:1006-1766601300-1766603100@riverplex.org
SUMMARY:Les Mills Grit
DESCRIPTION:Whenever you see LES MILLS GRIT on our schedule\, it is instructor choice! This means\, that you may have GRIT Athletic\, GRIT Strength\, GRIT Cardio\, or a combination of two of these formats.
URL:http://riverplex.org/event/les-mills-grit-2/2025-12-24/
LOCATION:Members Gym
CATEGORIES:Land Group Exercise
END:VEVENT
BEGIN:VEVENT
DTSTART;TZID=America/Chicago:20251217T183500
DTEND;TZID=America/Chicago:20251217T190500
DTSTAMP:20260425T232945
CREATED:20241119T183941Z
LAST-MODIFIED:20241119T183941Z
UID:1005-1765996500-1765998300@riverplex.org
SUMMARY:Les Mills Grit
DESCRIPTION:Whenever you see LES MILLS GRIT on our schedule\, it is instructor choice! This means\, that you may have GRIT Athletic\, GRIT Strength\, GRIT Cardio\, or a combination of two of these formats.
URL:http://riverplex.org/event/les-mills-grit-2/2025-12-17/
LOCATION:Members Gym
CATEGORIES:Land Group Exercise
END:VEVENT
BEGIN:VEVENT
DTSTART;TZID=America/Chicago:20251210T183500
DTEND;TZID=America/Chicago:20251210T190500
DTSTAMP:20260425T232945
CREATED:20241119T183941Z
LAST-MODIFIED:20241119T183941Z
UID:1004-1765391700-1765393500@riverplex.org
SUMMARY:Les Mills Grit
DESCRIPTION:Whenever you see LES MILLS GRIT on our schedule\, it is instructor choice! This means\, that you may have GRIT Athletic\, GRIT Strength\, GRIT Cardio\, or a combination of two of these formats.
URL:http://riverplex.org/event/les-mills-grit-2/2025-12-10/
LOCATION:Members Gym
CATEGORIES:Land Group Exercise
END:VEVENT
BEGIN:VEVENT
DTSTART;TZID=America/Chicago:20251203T183500
DTEND;TZID=America/Chicago:20251203T190500
DTSTAMP:20260425T232945
CREATED:20241119T183941Z
LAST-MODIFIED:20241119T183941Z
UID:1003-1764786900-1764788700@riverplex.org
SUMMARY:Les Mills Grit
DESCRIPTION:Whenever you see LES MILLS GRIT on our schedule\, it is instructor choice! This means\, that you may have GRIT Athletic\, GRIT Strength\, GRIT Cardio\, or a combination of two of these formats.
URL:http://riverplex.org/event/les-mills-grit-2/2025-12-03/
LOCATION:Members Gym
CATEGORIES:Land Group Exercise
END:VEVENT
BEGIN:VEVENT
DTSTART;TZID=America/Chicago:20251126T183500
DTEND;TZID=America/Chicago:20251126T190500
DTSTAMP:20260425T232945
CREATED:20241119T183941Z
LAST-MODIFIED:20241119T183941Z
UID:1002-1764182100-1764183900@riverplex.org
SUMMARY:Les Mills Grit
DESCRIPTION:Whenever you see LES MILLS GRIT on our schedule\, it is instructor choice! This means\, that you may have GRIT Athletic\, GRIT Strength\, GRIT Cardio\, or a combination of two of these formats.
URL:http://riverplex.org/event/les-mills-grit-2/2025-11-26/
LOCATION:Members Gym
CATEGORIES:Land Group Exercise
END:VEVENT
BEGIN:VEVENT
DTSTART;TZID=America/Chicago:20251119T183500
DTEND;TZID=America/Chicago:20251119T190500
DTSTAMP:20260425T232945
CREATED:20241119T183941Z
LAST-MODIFIED:20241218T175340Z
UID:1001-1763577300-1763579100@riverplex.org
SUMMARY:Les Mills Grit
DESCRIPTION:Whenever you see LES MILLS GRIT on our schedule\, it is instructor choice! This means\, that you may have GRIT Athletic\, GRIT Strength\, GRIT Cardio\, or a combination of two of these formats.
URL:http://riverplex.org/event/les-mills-grit-2/2025-11-19/
LOCATION:Members Gym
CATEGORIES:Land Group Exercise
END:VEVENT
BEGIN:VEVENT
DTSTART;TZID=America/Chicago:20251112T183500
DTEND;TZID=America/Chicago:20251112T190500
DTSTAMP:20260425T232945
CREATED:20241119T183941Z
LAST-MODIFIED:20241218T175340Z
UID:1000-1762972500-1762974300@riverplex.org
SUMMARY:Les Mills Grit
DESCRIPTION:Whenever you see LES MILLS GRIT on our schedule\, it is instructor choice! This means\, that you may have GRIT Athletic\, GRIT Strength\, GRIT Cardio\, or a combination of two of these formats.
URL:http://riverplex.org/event/les-mills-grit-2/2025-11-12/
LOCATION:Members Gym
CATEGORIES:Land Group Exercise
END:VEVENT
BEGIN:VEVENT
DTSTART;TZID=America/Chicago:20251105T183500
DTEND;TZID=America/Chicago:20251105T190500
DTSTAMP:20260425T232945
CREATED:20241119T183941Z
LAST-MODIFIED:20241218T175340Z
UID:999-1762367700-1762369500@riverplex.org
SUMMARY:Les Mills Grit
DESCRIPTION:Whenever you see LES MILLS GRIT on our schedule\, it is instructor choice! This means\, that you may have GRIT Athletic\, GRIT Strength\, GRIT Cardio\, or a combination of two of these formats.
URL:http://riverplex.org/event/les-mills-grit-2/2025-11-05/
LOCATION:Members Gym
CATEGORIES:Land Group Exercise
END:VEVENT
BEGIN:VEVENT
DTSTART;TZID=America/Chicago:20251029T183500
DTEND;TZID=America/Chicago:20251029T190500
DTSTAMP:20260425T232945
CREATED:20241119T183941Z
LAST-MODIFIED:20241218T175340Z
UID:998-1761762900-1761764700@riverplex.org
SUMMARY:Les Mills Grit
DESCRIPTION:Whenever you see LES MILLS GRIT on our schedule\, it is instructor choice! This means\, that you may have GRIT Athletic\, GRIT Strength\, GRIT Cardio\, or a combination of two of these formats.
URL:http://riverplex.org/event/les-mills-grit-2/2025-10-29/
LOCATION:Members Gym
CATEGORIES:Land Group Exercise
END:VEVENT
BEGIN:VEVENT
DTSTART;TZID=America/Chicago:20251022T183500
DTEND;TZID=America/Chicago:20251022T190500
DTSTAMP:20260425T232945
CREATED:20241119T183941Z
LAST-MODIFIED:20241218T175340Z
UID:997-1761158100-1761159900@riverplex.org
SUMMARY:Les Mills Grit
DESCRIPTION:Whenever you see LES MILLS GRIT on our schedule\, it is instructor choice! This means\, that you may have GRIT Athletic\, GRIT Strength\, GRIT Cardio\, or a combination of two of these formats.
URL:http://riverplex.org/event/les-mills-grit-2/2025-10-22/
LOCATION:Members Gym
CATEGORIES:Land Group Exercise
END:VEVENT
BEGIN:VEVENT
DTSTART;TZID=America/Chicago:20251015T183500
DTEND;TZID=America/Chicago:20251015T190500
DTSTAMP:20260425T232945
CREATED:20241119T183941Z
LAST-MODIFIED:20241218T175339Z
UID:996-1760553300-1760555100@riverplex.org
SUMMARY:Les Mills Grit
DESCRIPTION:Whenever you see LES MILLS GRIT on our schedule\, it is instructor choice! This means\, that you may have GRIT Athletic\, GRIT Strength\, GRIT Cardio\, or a combination of two of these formats.
URL:http://riverplex.org/event/les-mills-grit-2/2025-10-15/
LOCATION:Members Gym
CATEGORIES:Land Group Exercise
END:VEVENT
BEGIN:VEVENT
DTSTART;TZID=America/Chicago:20251008T183500
DTEND;TZID=America/Chicago:20251008T190500
DTSTAMP:20260425T232945
CREATED:20241119T183941Z
LAST-MODIFIED:20241218T175339Z
UID:995-1759948500-1759950300@riverplex.org
SUMMARY:Les Mills Grit
DESCRIPTION:Whenever you see LES MILLS GRIT on our schedule\, it is instructor choice! This means\, that you may have GRIT Athletic\, GRIT Strength\, GRIT Cardio\, or a combination of two of these formats.
URL:http://riverplex.org/event/les-mills-grit-2/2025-10-08/
LOCATION:Members Gym
CATEGORIES:Land Group Exercise
END:VEVENT
BEGIN:VEVENT
DTSTART;TZID=America/Chicago:20251001T183500
DTEND;TZID=America/Chicago:20251001T190500
DTSTAMP:20260425T232945
CREATED:20241119T183941Z
LAST-MODIFIED:20241218T175339Z
UID:994-1759343700-1759345500@riverplex.org
SUMMARY:Les Mills Grit
DESCRIPTION:Whenever you see LES MILLS GRIT on our schedule\, it is instructor choice! This means\, that you may have GRIT Athletic\, GRIT Strength\, GRIT Cardio\, or a combination of two of these formats.
URL:http://riverplex.org/event/les-mills-grit-2/2025-10-01/
LOCATION:Members Gym
CATEGORIES:Land Group Exercise
END:VEVENT
END:VCALENDAR